Workbook

Sheet Foglio1
A1: Codice Regione | B1: Codice dell'Unità territoriale sovracomunale (valida a fini statistici) | C1: Codice Provincia (Storico)(1) | D1: Progressivo del Comune (2) | E1: Codice Comune formato alfanumerico | F1: Denominazione (Italiana e straniera) | G1: Denominazione in italiano | H1: Denominazione altra lingua | I1: Codice Ripartizione Geografica | J1: Ripartizione geografica | K1: Denominazione Regione | L1: Denominazione dell'Unità territoriale sovracomunale (valida a fini statistici) | M1: Tipologia di Unità territoriale sovracomunale | N1: Flag Comune capoluogo di Provincia/Città metropolitana/libero consorzio | O1: Sigla automobilistica | P1: Codice Comune formato numerico | Q1: Codice Comune numerico con 107 Province (dal 2017 al 2025) | R1: Codice Comune numerico con 110 Province (dal 2010 al 2016) | S1: Codice Comune numerico con 107 Province (dal 2006 al 2009) | T1: Codice Comune numerico con 103 Province (dal 1995 al 2005) | U1: Codice Catastale del Comune | V1: Codice NUTS1 2021 | W1: Codice NUTS2 2021 (3) | X1: Codice NUTS3 2021 | Y1: Codice NUTS1 2024 | Z1: Codice NUTS2 2024 (3) | AA1: Codice NUTS3 2024
A2: 01 | B2: 201 | C2: 001 | D2: 001 | E2: 001001 | F2: Agliè | G2: Agliè | I2: 1 | J2: Nord-ovest | K2: Piemonte | L2: Torino | M2: 3 | N2: 0 | O2: TO | P2: 1001 | Q2: 1001 | R2: 1001 | S2: 1001 | T2: 1001 | U2: A074 | V2: ITC | W2: ITC1 | X2: ITC11 | Y2: ITC | Z2: ITC1 | AA2: ITC11
A3: 01 | B3: 201 | C3: 001 | D3: 002 | E3: 001002 | F3: Airasca | G3: Airasca | I3: 1 | J3: Nord-ovest | K3: Piemonte | L3: Torino | M3: 3 | N3: 0 | O3: TO | P3: 1002 | Q3: 1002 | R3: 1002 | S3: 1002 | T3: 1002 | U3: A109 | V3: ITC | W3: ITC1 | X3: ITC11 | Y3: ITC | Z3: ITC1 | AA3: ITC11
A4: 01 | B4: 201 | C4: 001 | D4: 003 | E4: 001003 | F4: Ala di Stura | G4: Ala di Stura | I4: 1 | J4: Nord-ovest | K4: Piemonte | L4: Torino | M4: 3 | N4: 0 | O4: TO | P4: 1003 | Q4: 1003 | R4: 1003 | S4: 1003 | T4: 1003 | U4: A117 | V4: ITC | W4: ITC1 | X4: ITC11 | Y4: ITC | Z4: ITC1 | AA4: ITC11
A5: 01 | B5: 201 | C5: 001 | D5: 004 | E5: 001004 | F5: Albiano d'Ivrea | G5: Albiano d'Ivrea | I5: 1 | J5: Nord-ovest | K5: Piemonte | L5: Torino | M5: 3 | N5: 0 | O5: TO | P5: 1004 | Q5: 1004 | R5: 1004 | S5: 1004 | T5: 1004 | U5: A157 | V5: ITC | W5: ITC1 | X5: ITC11 | Y5: ITC | Z5: ITC1 | AA5: ITC11
A6: 01 | B6: 201 | C6: 001 | D6: 006 | E6: 001006 | F6: Almese | G6: Almese | I6: 1 | J6: Nord-ovest | K6: Piemonte | L6: Torino | M6: 3 | N6: 0 | O6: TO | P6: 1006 | Q6: 1006 | R6: 1006 | S6: 1006 | T6: 1006 | U6: A218 | V6: ITC | W6: ITC1 | X6: ITC11 | Y6: ITC | Z6: ITC1 | AA6: ITC11
A7: 01 | B7: 201 | C7: 001 | D7: 007 | E7: 001007 | F7: Alpette | G7: Alpette | I7: 1 | J7: Nord-ovest | K7: Piemonte | L7: Torino | M7: 3 | N7: 0 | O7: TO | P7: 1007 | Q7: 1007 | R7: 1007 | S7: 1007 | T7: 1007 | U7: A221 | V7: ITC | W7: ITC1 | X7: ITC11 | Y7: ITC | Z7: ITC1 | AA7: ITC11
A8: 01 | B8: 201 | C8: 001 | D8: 008 | E8: 001008 | F8: Alpignano | G8: Alpignano | I8: 1 | J8: Nord-ovest | K8: Piemonte | L8: Torino | M8: 3 | N8: 0 | O8: TO | P8: 1008 | Q8: 1008 | R8: 1008 | S8: 1008 | T8: 1008 | U8: A222 | V8: ITC | W8: ITC1 | X8: ITC11 | Y8: ITC | Z8: ITC1 | AA8: ITC11
A9: 01 | B9: 201 | C9: 001 | D9: 009 | E9: 001009 | F9: Andezeno | G9: Andezeno | I9: 1 | J9: Nord-ovest | K9: Piemonte | L9: Torino | M9: 3 | N9: 0 | O9: TO | P9: 1009 | Q9: 1009 | R9: 1009 | S9: 1009 | T9: 1009 | U9: A275 | V9: ITC | W9: ITC1 | X9: ITC11 | Y9: ITC | Z9: ITC1 | AA9: ITC11
A10: 01 | B10: 201 | C10: 001 | D10: 010 | E10: 001010 | F10: Andrate | G10: Andrate | I10: 1 | J10: Nord-ovest | K10: Piemonte | L10: Torino | M10: 3 | N10: 0 | O10: TO | P10: 1010 | Q10: 1010 | R10: 1010 | S10: 1010 | T10: 1010 | U10: A282 | V10: ITC | W10: ITC1 | X10: ITC11 | Y10: ITC | Z10: ITC1 | AA10: ITC11
A11: 01 | B11: 201 | C11: 001 | D11: 011 | E11: 001011 | F11: Angrogna | G11: Angrogna | I11: 1 | J11: Nord-ovest | K11: Piemonte | L11: Torino | M11: 3 | N11: 0 | O11: TO | P11: 1011 | Q11: 1011 | R11: 1011 | S11: 1011 | T11: 1011 | U11: A295 | V11: ITC | W11: ITC1 | X11: ITC11 | Y11: ITC | Z11: ITC1 | AA11: ITC11
A12: 01 | B12: 201 | C12: 001 | D12: 012 | E12: 001012 | F12: Arignano | G12: Arignano | I12: 1 | J12: Nord-ovest | K12: Piemonte | L12: Torino | M12: 3 | N12: 0 | O12: TO | P12: 1012 | Q12: 1012 | R12: 1012 | S12: 1012 | T12: 1012 | U12: A405 | V12: ITC | W12: ITC1 | X12: ITC11 | Y12: ITC | Z12: ITC1 | AA12: ITC11
A13: 01 | B13: 201 | C13: 001 | D13: 013 | E13: 001013 | F13: Avigliana | G13: Avigliana | I13: 1 | J13: Nord-ovest | K13: Piemonte | L13: Torino | M13: 3 | N13: 0 | O13: TO | P13: 1013 | Q13: 1013 | R13: 1013 | S13: 1013 | T13: 1013 | U13: A518 | V13: ITC | W13: ITC1 | X13: ITC11 | Y13: ITC | Z13: ITC1 | AA13: ITC11
... A2643: 03 | B2643: 020 | C2643: 020 | D2643: 073 | E2643: 020073 | F2643: Borgocarbonara | G2643: Borgocarbonara | I2643: 1 | J2643: Nord-ovest | K2643: Lombardia | L2643: Mantova | M2643: 1 | N2643: 0 | O2643: MN | P2643: 20073 | Q2643: 20073 | R2643: 20073 | S2643: 20073 | T2643: 20073 | U2643: M406 | V2643: ITC | W2643: ITC4 | X2643: ITC4B | Y2643: ITC | Z2643: ITC4 | AA2643: ITC4B
A2644: 04 | B2644: 021 | C2644: 021 | D2644: 001 | E2644: 021001 | F2644: Aldino/Aldein | G2644: Aldino | H2644: Aldein | I2644: 2 | J2644: Nord-est | K2644: Trentino-Alto Adige/Südtirol | L2644: Bolzano/Bozen | M2644: 2 | N2644: 0 | O2644: BZ | P2644: 21001 | Q2644: 21001 | R2644: 21001 | S2644: 21001 | T2644: 21001 | U2644: A179 | V2644: ITH | W2644: ITH1 | X2644: ITH10 | Y2644: ITH | Z2644: ITH1 | AA2644: ITH10
A2645: 04 | B2645: 021 | C2645: 021 | D2645: 002 | E2645: 021002 | F2645: Andriano/Andrian | G2645: Andriano | H2645: Andrian | I2645: 2 | J2645: Nord-est | K2645: Trentino-Alto Adige/Südtirol | L2645: Bolzano/Bozen | M2645: 2 | N2645: 0 | O2645: BZ | P2645: 21002 | Q2645: 21002 | R2645: 21002 | S2645: 21002 | T2645: 21002 | U2645: A286 | V2645: ITH | W2645: ITH1 | X2645: ITH10 | Y2645: ITH | Z2645: ITH1 | AA2645: ITH10
A2646: 04 | B2646: 021 | C2646: 021 | D2646: 003 | E2646: 021003 | F2646: Anterivo/Altrei | G2646: Anterivo | H2646: Altrei | I2646: 2 | J2646: Nord-est | K2646: Trentino-Alto Adige/Südtirol | L2646: Bolzano/Bozen | M2646: 2 | N2646: 0 | O2646: BZ | P2646: 21003 | Q2646: 21003 | R2646: 21003 | S2646: 21003 | T2646: 21003 | U2646: A306 | V2646: ITH | W2646: ITH1 | X2646: ITH10 | Y2646: ITH | Z2646: ITH1 | AA2646: ITH10
A2647: 04 | B2647: 021 | C2647: 021 | D2647: 004 | E2647: 021004 | F2647: Appiano sulla strada del vino/Eppan an der Weinstraße | G2647: Appiano sulla strada del vino | H2647: Eppan an der Weinstraße | I2647: 2 | J2647: Nord-est | K2647: Trentino-Alto Adige/Südtirol | L2647: Bolzano/Bozen | M2647: 2 | N2647: 0 | O2647: BZ | P2647: 21004 | Q2647: 21004 | R2647: 21004 | S2647: 21004 | T2647: 21004 | U2647: A332 | V2647: ITH | W2647: ITH1 | X2647: ITH10 | Y2647: ITH | Z2647: ITH1 | AA2647: ITH10
A2648: 04 | B2648: 021 | C2648: 021 | D2648: 005 | E2648: 021005 | F2648: Avelengo/Hafling | G2648: Avelengo | H2648: Hafling | I2648: 2 | J2648: Nord-est | K2648: Trentino-Alto Adige/Südtirol | L2648: Bolzano/Bozen | M2648: 2 | N2648: 0 | O2648: BZ | P2648: 21005 | Q2648: 21005 | R2648: 21005 | S2648: 21005 | T2648: 21005 | U2648: A507 | V2648: ITH | W2648: ITH1 | X2648: ITH10 | Y2648: ITH | Z2648: ITH1 | AA2648: ITH10
A2649: 04 | B2649: 021 | C2649: 021 | D2649: 006 | E2649: 021006 | F2649: Badia/Abtei | G2649: Badia | H2649: Abtei | I2649: 2 | J2649: Nord-est | K2649: Trentino-Alto Adige/Südtirol | L2649: Bolzano/Bozen | M2649: 2 | N2649: 0 | O2649: BZ | P2649: 21006 | Q2649: 21006 | R2649: 21006 | S2649: 21006 | T2649: 21006 | U2649: A537 | V2649: ITH | W2649: ITH1 | X2649: ITH10 | Y2649: ITH | Z2649: ITH1 | AA2649: ITH10
A2650: 04 | B2650: 021 | C2650: 021 | D2650: 007 | E2650: 021007 | F2650: Barbiano/Barbian | G2650: Barbiano | H2650: Barbian | I2650: 2 | J2650: Nord-est | K2650: Trentino-Alto Adige/Südtirol | L2650: Bolzano/Bozen | M2650: 2 | N2650: 0 | O2650: BZ | P2650: 21007 | Q2650: 21007 | R2650: 21007 | S2650: 21007 | T2650: 21007 | U2650: A635 | V2650: ITH | W2650: ITH1 | X2650: ITH10 | Y2650: ITH | Z2650: ITH1 | AA2650: ITH10
A2651: 04 | B2651: 021 | C2651: 021 | D2651: 008 | E2651: 021008 | F2651: Bolzano/Bozen | G2651: Bolzano | H2651: Bozen | I2651: 2 | J2651: Nord-est | K2651: Trentino-Alto Adige/Südtirol | L2651: Bolzano/Bozen | M2651: 2 | N2651: 1 | O2651: BZ | P2651: 21008 | Q2651: 21008 | R2651: 21008 | S2651: 21008 | T2651: 21008 | U2651: A952 | V2651: ITH | W2651: ITH1 | X2651: ITH10 | Y2651: ITH | Z2651: ITH1 | AA2651: ITH10
A2652: 04 | B2652: 021 | C2652: 021 | D2652: 009 | E2652: 021009 | F2652: Braies/Prags | G2652: Braies | H2652: Prags | I2652: 2 | J2652: Nord-est | K2652: Trentino-Alto Adige/Südtirol | L2652: Bolzano/Bozen | M2652: 2 | N2652: 0 | O2652: BZ | P2652: 21009 | Q2652: 21009 | R2652: 21009 | S2652: 21009 | T2652: 21009 | U2652: B116 | V2652: ITH | W2652: ITH1 | X2652: ITH10 | Y2652: ITH | Z2652: ITH1 | AA2652: ITH10
A2653: 04 | B2653: 021 | C2653: 021 | D2653: 010 | E2653: 021010 | F2653: Brennero/Brenner | G2653: Brennero | H2653: Brenner | I2653: 2 | J2653: Nord-est | K2653: Trentino-Alto Adige/Südtirol | L2653: Bolzano/Bozen | M2653: 2 | N2653: 0 | O2653: BZ | P2653: 21010 | Q2653: 21010 | R2653: 21010 | S2653: 21010 | T2653: 21010 | U2653: B145 | V2653: ITH | W2653: ITH1 | X2653: ITH10 | Y2653: ITH | Z2653: ITH1 | AA2653: ITH10
A2654: 04 | B2654: 021 | C2654: 021 | D2654: 011 | E2654: 021011 | F2654: Bressanone/Brixen | G2654: Bressanone | H2654: Brixen | I2654: 2 | J2654: Nord-est | K2654: Trentino-Alto Adige/Südtirol | L2654: Bolzano/Bozen | M2654: 2 | N2654: 0 | O2654: BZ | P2654: 21011 | Q2654: 21011 | R2654: 21011 | S2654: 21011 | T2654: 21011 | U2654: B160 | V2654: ITH | W2654: ITH1 | X2654: ITH10 | Y2654: ITH | Z2654: ITH1 | AA2654: ITH10
A2655: 04 | B2655: 021 | C2655: 021 | D2655: 012 | E2655: 021012 | F2655: Bronzolo/Branzoll | G2655: Bronzolo | H2655: Branzoll | I2655: 2 | J2655: Nord-est | K2655: Trentino-Alto Adige/Südtirol | L2655: Bolzano/Bozen | M2655: 2 | N2655: 0 | O2655: BZ | P2655: 21012 | Q2655: 21012 | R2655: 21012 | S2655: 21012 | T2655: 21012 | U2655: B203 | V2655: ITH | W2655: ITH1 | X2655: ITH10 | Y2655: ITH | Z2655: ITH1 | AA2655: ITH10
... A2759: 04 | B2759: 021 | C2759: 021 | D2759: 118 | E2759: 021118 | F2759: Senale-San Felice/Unsere Liebe Frau im Walde-St. Felix | G2759: Senale-San Felice | H2759: Unsere Liebe Frau im Walde-St. Felix | I2759: 2 | J2759: Nord-est | K2759: Trentino-Alto Adige/Südtirol | L2759: Bolzano/Bozen | M2759: 2 | N2759: 0 | O2759: BZ | P2759: 21118 | Q2759: 21118 | R2759: 21118 | S2759: 21118 | T2759: 21118 | U2759: I603 | V2759: ITH | W2759: ITH1 | X2759: ITH10 | Y2759: ITH | Z2759: ITH1 | AA2759: ITH10
A2760: 04 | B2760: 022 | C2760: 022 | D2760: 001 | E2760: 022001 | F2760: Ala | G2760: Ala | I2760: 2 | J2760: Nord-est | K2760: Trentino-Alto Adige/Südtirol | L2760: Trento | M2760: 2 | N2760: 0 | O2760: TN | P2760: 22001 | Q2760: 22001 | R2760: 22001 | S2760: 22001 | T2760: 22001 | U2760: A116 | V2760: ITH | W2760: ITH2 | X2760: ITH20 | Y2760: ITH | Z2760: ITH2 | AA2760: ITH20
A2761: 04 | B2761: 022 | C2761: 022 | D2761: 002 | E2761: 022002 | F2761: Albiano | G2761: Albiano | I2761: 2 | J2761: Nord-est | K2761: Trentino-Alto Adige/Südtirol | L2761: Trento | M2761: 2 | N2761: 0 | O2761: TN | P2761: 22002 | Q2761: 22002 | R2761: 22002 | S2761: 22002 | T2761: 22002 | U2761: A158 | V2761: ITH | W2761: ITH2 | X2761: ITH20 | Y2761: ITH | Z2761: ITH2 | AA2761: ITH20
A2762: 04 | B2762: 022 | C2762: 022 | D2762: 003 | E2762: 022003 | F2762: Aldeno | G2762: Aldeno | I2762: 2 | J2762: Nord-est | K2762: Trentino-Alto Adige/Südtirol | L2762: Trento | M2762: 2 | N2762: 0 | O2762: TN | P2762: 22003 | Q2762: 22003 | R2762: 22003 | S2762: 22003 | T2762: 22003 | U2762: A178 | V2762: ITH | W2762: ITH2 | X2762: ITH20 | Y2762: ITH | Z2762: ITH2 | AA2762: ITH20
A2763: 04 | B2763: 022 | C2763: 022 | D2763: 005 | E2763: 022005 | F2763: Andalo | G2763: Andalo | I2763: 2 | J2763: Nord-est | K2763: Trentino-Alto Adige/Südtirol | L2763: Trento | M2763: 2 | N2763: 0 | O2763: TN | P2763: 22005 | Q2763: 22005 | R2763: 22005 | S2763: 22005 | T2763: 22005 | U2763: A274 | V2763: ITH | W2763: ITH2 | X2763: ITH20 | Y2763: ITH | Z2763: ITH2 | AA2763: ITH20
A2764: 04 | B2764: 022 | C2764: 022 | D2764: 006 | E2764: 022006 | F2764: Arco | G2764: Arco | I2764: 2 | J2764: Nord-est | K2764: Trentino-Alto Adige/Südtirol | L2764: Trento | M2764: 2 | N2764: 0 | O2764: TN | P2764: 22006 | Q2764: 22006 | R2764: 22006 | S2764: 22006 | T2764: 22006 | U2764: A372 | V2764: ITH | W2764: ITH2 | X2764: ITH20 | Y2764: ITH | Z2764: ITH2 | AA2764: ITH20
A2765: 04 | B2765: 022 | C2765: 022 | D2765: 007 | E2765: 022007 | F2765: Avio | G2765: Avio | I2765: 2 | J2765: Nord-est | K2765: Trentino-Alto Adige/Südtirol | L2765: Trento | M2765: 2 | N2765: 0 | O2765: TN | P2765: 22007 | Q2765: 22007 | R2765: 22007 | S2765: 22007 | T2765: 22007 | U2765: A520 | V2765: ITH | W2765: ITH2 | X2765: ITH20 | Y2765: ITH | Z2765: ITH2 | AA2765: ITH20
A2766: 04 | B2766: 022 | C2766: 022 | D2766: 009 | E2766: 022009 | F2766: Baselga di Pinè | G2766: Baselga di Pinè | I2766: 2 | J2766: Nord-est | K2766: Trentino-Alto Adige/Südtirol | L2766: Trento | M2766: 2 | N2766: 0 | O2766: TN | P2766: 22009 | Q2766: 22009 | R2766: 22009 | S2766: 22009 | T2766: 22009 | U2766: A694 | V2766: ITH | W2766: ITH2 | X2766: ITH20 | Y2766: ITH | Z2766: ITH2 | AA2766: ITH20
A2767: 04 | B2767: 022 | C2767: 022 | D2767: 011 | E2767: 022011 | F2767: Bedollo | G2767: Bedollo | I2767: 2 | J2767: Nord-est | K2767: Trentino-Alto Adige/Südtirol | L2767: Trento | M2767: 2 | N2767: 0 | O2767: TN | P2767: 22011 | Q2767: 22011 | R2767: 22011 | S2767: 22011 | T2767: 22011 | U2767: A730 | V2767: ITH | W2767: ITH2 | X2767: ITH20 | Y2767: ITH | Z2767: ITH2 | AA2767: ITH20
A2768: 04 | B2768: 022 | C2768: 022 | D2768: 013 | E2768: 022013 | F2768: Besenello | G2768: Besenello | I2768: 2 | J2768: Nord-est | K2768: Trentino-Alto Adige/Südtirol | L2768: Trento | M2768: 2 | N2768: 0 | O2768: TN | P2768: 22013 | Q2768: 22013 | R2768: 22013 | S2768: 22013 | T2768: 22013 | U2768: A821 | V2768: ITH | W2768: ITH2 | X2768: ITH20 | Y2768: ITH | Z2768: ITH2 | AA2768: ITH20
A2769: 04 | B2769: 022 | C2769: 022 | D2769: 015 | E2769: 022015 | F2769: Bieno | G2769: Bieno | I2769: 2 | J2769: Nord-est | K2769: Trentino-Alto Adige/Südtirol | L2769: Trento | M2769: 2 | N2769: 0 | O2769: TN | P2769: 22015 | Q2769: 22015 | R2769: 22015 | S2769: 22015 | T2769: 22015 | U2769: A863 | V2769: ITH | W2769: ITH2 | X2769: ITH20 | Y2769: ITH | Z2769: ITH2 | AA2769: ITH20
A2770: 04 | B2770: 022 | C2770: 022 | D2770: 017 | E2770: 022017 | F2770: Bleggio Superiore | G2770: Bleggio Superiore | I2770: 2 | J2770: Nord-est | K2770: Trentino-Alto Adige/Südtirol | L2770: Trento | M2770: 2 | N2770: 0 | O2770: TN | P2770: 22017 | Q2770: 22017 | R2770: 22017 | S2770: 22017 | T2770: 22017 | U2770: A902 | V2770: ITH | W2770: ITH2 | X2770: ITH20 | Y2770: ITH | Z2770: ITH2 | AA2770: ITH20
A2771: 04 | B2771: 022 | C2771: 022 | D2771: 018 | E2771: 022018 | F2771: Bocenago | G2771: Bocenago | I2771: 2 | J2771: Nord-est | K2771: Trentino-Alto Adige/Südtirol | L2771: Trento | M2771: 2 | N2771: 0 | O2771: TN | P2771: 22018 | Q2771: 22018 | R2771: 22018 | S2771: 22018 | T2771: 22018 | U2771: A916 | V2771: ITH | W2771: ITH2 | X2771: ITH20 | Y2771: ITH | Z2771: ITH2 | AA2771: ITH20
... A2920: 04 | B2920: 022 | C2920: 022 | D2920: 249 | E2920: 022249 | F2920: Ville d'Anaunia | G2920: Ville d'Anaunia | I2920: 2 | J2920: Nord-est | K2920: Trentino-Alto Adige/Südtirol | L2920: Trento | M2920: 2 | N2920: 0 | O2920: TN | P2920: 22249 | Q2920: 22249 | R2920: 22249 | S2920: 22249 | T2920: 22249 | U2920: M363 | V2920: ITH | W2920: ITH2 | X2920: ITH20 | Y2920: ITH | Z2920: ITH2 | AA2920: ITH20
...

Sheet Abruzzo
A1: FID | B1: PRO_COM | C1: COMUNE | D1: AREA_COM.(HA) | E1: SUP.FOR.COM.(HA) | F1: IND.BOS.(%)
A2: 1 | B2: 68001 | C2: Abbateggio | D2: 1540.14 | E2: 638.28 | F2: 41.44
A3: 1 | B3: 66001 | C3: Acciano | D3: 3222.32 | E3: 1582.24 | F3: 49.1
A4: 1 | B4: 66002 | C4: Aielli | D4: 3751.65 | E4: 815.64 | F4: 21.74
A5: 1 | B5: 68002 | C5: Alanno | D5: 3252.75 | E5: 209.17 | F5: 6.43
A6: 1 | B6: 67001 | C6: Alba Adriatica | D6: 953.64 | E6: 5.06 | F6: 0.53
A7: 1 | B7: 66003 | C7: Alfedena | D7: 3995.01 | E7: 3014.14 | F7: 75.45
A8: 1 | B8: 69001 | C8: Altino | D8: 1533.01 | E8: 383.11 | F8: 24.99
A9: 1 | B9: 67002 | C9: Ancarano | D9: 1391.92 | E9: 141.4 | F9: 10.16
A10: 1 | B10: 66004 | C10: Anversa degli Abruzzi | D10: 3243.29 | E10: 1954.88 | F10: 60.27
A11: 1 | B11: 69002 | C11: Archi | D11: 2854.42 | E11: 983.17 | F11: 34.44
A12: 1 | B12: 69003 | C12: Ari | D12: 1139.16 | E12: 272.37 | F12: 23.91
A13: 1 | B13: 69004 | C13: Arielli | D13: 1171.52 | E13: 197.49 | F13: 16.86
... A306: 1 | B306: 66108 | C306: Vittorito | D306: 1419.44 | E306: 642.36 | F306: 45.25

Sheet Basilicata
A1: fid | B1: PRO_COM | C1: COMUNE | D1: AREA_COM.(HA) | E1: SUP.FOR.COM.(HA) | F1: IND.BOS.(%)
A2: 1 | B2: 76001 | C2: Abriola | D2: 9718.9377 | E2: 7400.7512 | F2: 76.147737
A3: 101 | B3: 77001 | C3: Accettura | D3: 9036.67 | E3: 6674.7148 | F3: 73.862548
A4: 2 | B4: 76002 | C4: Acerenza | D4: 7764.22 | E4: 1727.8123 | F4: 22.253521
A5: 3 | B5: 76003 | C5: Albano di Lucania | D5: 5587.4666 | E5: 2234.1527 | F5: 39.985076
A6: 102 | B6: 77002 | C6: Aliano | D6: 9840.8088 | E6: 2107.9559 | F6: 21.420556
A7: 4 | B7: 76004 | C7: Anzi | D7: 7709.5411 | E7: 3731.8549 | F7: 48.405668
A8: 5 | B8: 76005 | C8: Armento | D8: 5897.6497 | E8: 3435.6597 | F8: 58.254727
A9: 6 | B9: 76006 | C9: Atella | D9: 8846.2014 | E9: 3633.1477 | F9: 41.070145
A10: 7 | B10: 76007 | C10: Avigliano | D10: 8548.0424 | E10: 2395.5789 | F10: 28.024883
A11: 8 | B11: 76008 | C11: Balvano | D11: 4215.1555 | E11: 1645.7691 | F11: 39.044089
A12: 9 | B12: 76009 | C12: Banzi | D12: 8305.461 | E12: 953.59843 | F12: 11.481583
A13: 10 | B13: 76010 | C13: Baragiano | D13: 2960.2975 | E13: 998.18919 | F13: 33.719219
... A132: 98 | B132: 76098 | C132: Viggiano | D132: 8969.7479 | E132: 4520.7875 | F132: 50.400385

Sheet Calabria
A1: fid | B1: PRO_COM | C1: COMUNE | D1: AREA_COM.(HA) | E1: SUP.FOR.COM.(HA) | F1: IND.BOS.(%)
A2: 1 | B2: 78001 | C2: Acquaformosa | D2: 2270.5223 | E2: 1380.584 | F2: 60.805
A3: 2 | B3: 78002 | C3: Acquappesa | D3: 1438.1537 | E3: 661.05 | F3: 45.965
A4: 355 | B4: 102001 | C4: Acquaro | D4: 2524.9518 | E4: 1374.818 | F4: 54.449
A5: 3 | B5: 78003 | C5: Acri | D5: 20062.724 | E5: 12098.396 | F5: 60.303
A6: 231 | B6: 80001 | C6: Africo | D6: 5387.8372 | E6: 3601.048 | F6: 66.837
A7: 232 | B7: 80002 | C7: Agnana Calabra | D7: 848.72965 | E7: 166.88 | F7: 19.662
A8: 4 | B8: 78004 | C8: Aiello Calabro | D8: 3850.5841 | E8: 2110.651 | F8: 54.814
A9: 5 | B9: 78005 | C9: Aieta | D9: 4829.5211 | E9: 2357.256 | F9: 48.809
A10: 151 | B10: 79002 | C10: Albi | D10: 2963.6635 | E10: 2448.82 | F10: 82.628
A11: 6 | B11: 78006 | C11: Albidona | D11: 6466.856 | E11: 3752.245 | F11: 58.023
A12: 7 | B12: 78007 | C12: Alessandria del Carretto | D12: 4111.1018 | E12: 2986.467 | F12: 72.644
A13: 8 | B13: 78008 | C13: Altilia | D13: 1056.0331 | E13: 698.801 | F13: 66.172
... A405: 404 | B405: 102050 | C405: Zungri | D405: 2345.4867 | E405: 394.421 | F405: 16.816

Sheet Campania
A1: fid | B1: PRO_COM | C1: COMUNE | D1: AREA_COM.(HA) | E1: SUP.FOR.COM.(HA) | F1: IND.BOS.(%)
A2: 393 | B2: 65001 | C2: Acerno | D2: 7249.682 | E2: 6763.121 | F2: 93.289
A3: 183 | B3: 63001 | C3: Acerra | D3: 5471.1707 | E3: 60.952 | F3: 1.114
A4: 184 | B4: 63002 | C4: Afragola | D4: 1791.4872 | E4: 6.086 | F4: 0.34
A5: 185 | B5: 63003 | C5: Agerola | D5: 1983.1615 | E5: 1260.593 | F5: 63.565
A6: 394 | B6: 65002 | C6: Agropoli | D6: 3278.9257 | E6: 534.732 | F6: 16.308
A7: 275 | B7: 64001 | C7: Aiello del Sabato | D7: 1087.2322 | E7: 196.857 | F7: 18.106
A8: 1 | B8: 61001 | C8: Ailano | D8: 1605.5623 | E8: 511.044 | F8: 31.83
A9: 105 | B9: 62001 | C9: Airola | D9: 1492.0162 | E9: 162.802 | F9: 10.912
A10: 395 | B10: 65003 | C10: Albanella | D10: 4023.0315 | E10: 488.682 | F10: 12.147
A11: 396 | B11: 65004 | C11: Alfano | D11: 482.21651 | E11: 300.944 | F11: 62.408
A12: 2 | B12: 61002 | C12: Alife | D12: 6431.7148 | E12: 1429.172 | F12: 22.221
A13: 276 | B13: 64002 | C13: Altavilla Irpina | D13: 1408.3125 | E13: 301.524 | F13: 21.41
... A551: 391 | B551: 64120 | C551: Zungoli | D551: 1921.4226 | E551: 420.414 | F551: 21.88

Sheet Emilia-Romagna
A1: fid | B1: PRO_COM | C1: COMUNE | D1: AREA_COM.(HA) | E1: SUP.FOR.COM.(HA) | F1: IND.BOS.(%)
A2: 1 | B2: 33001 | C2: Agazzano | D2: 3614.5013 | E2: 285.648 | F2: 7.903
A3: 47 | B3: 34001 | C3: Albareto | D3: 10410.346 | E3: 7966.761 | F3: 76.527
A4: 91 | B4: 35001 | C4: Albinea | D4: 4388.8522 | E4: 1048.225 | F4: 23.884
A5: 256 | B5: 39001 | C5: Alfonsine | D5: 10679.015 | E5: 74.537 | F5: 0.698
A6: 2 | B6: 33002 | C6: Alseno | D6: 5526.9294 | E6: 428.412 | F6: 7.751
A7: 46 | B7: 33049 | C7: Alta Val Tidone | D7: 10086.44 | E7: 3990.118 | F7: 39.559
A8: 234 | B8: 37062 | C8: Alto Reno Terme | D8: 7362.2666 | E8: 6001.92 | F8: 81.523
A9: 180 | B9: 37001 | C9: Anzola dell'Emilia | D9: 3658.6841 | E9: 21.597 | F9: 0.59
A10: 181 | B10: 37002 | C10: Argelato | D10: 3510.3206 | E10: 132.724 | F10: 3.781
A11: 235 | B11: 38001 | C11: Argenta | D11: 31154.358 | E11: 744.639 | F11: 2.39
A12: 257 | B12: 39002 | C12: Bagnacavallo | D12: 7957.9239 | E12: 10.957 | F12: 0.138
A13: 258 | B13: 39003 | C13: Bagnara di Romagna | D13: 995.78165 | E13: 6.879 | F13: 0.691
... A134: 204 | B134: 37028 | C134: Galliera | D134: 3715.3917 | E134: 165.181 | F134: 4.446
A135: 285 | B135: 40015 | C135: Gambettola | D135: 777.1413 | F135: 0
A136: 110 | B136: 35022 | C136: Gattatico | D136: 4214.4713 | E136: 79.475 | F136: 1.886
A137: 286 | B137: 40016 | C137: Gatteo | D137: 1412.6163 | F137: 0
A138: 21 | B138: 33022 | C138: Gazzola | D138: 4447.6595 | E138: 845.607 | F138: 19.012
A139: 307 | B139: 99004 | C139: Gemmano | D139: 1884.9923 | E139: 599.823 | F139: 31.821
A140: 251 | B140: 38025 | C140: Goro | D140: 2685.1436 | E140: 190.72 | F140: 7.103
A141: 22 | B141: 33023 | C141: Gossolengo | D141: 3109.9417 | E141: 135.867 | F141: 4.369
A142: 23 | B142: 33024 | C142: Gragnano Trebbiense | D142: 3460.299 | E142: 163.492 | F142: 4.725
A143: 205 | B143: 37030 | C143: Granarolo dell'Emilia | D143: 3436.9257 | E143: 22.501 | F143: 0.655
A144: 206 | B144: 37031 | C144: Grizzana Morandi | D144: 7740.2291 | E144: 4827.859 | F144: 62.374
A145: 24 | B145: 33025 | C145: Gropparello | D145: 5633.0107 | E145: 2504.487 | F145: 44.461
A146: 111 | B146: 35023 | C146: Gualtieri | D146: 3564.3899 | E146: 131.052 | F146: 3.677
A147: 112 | B147: 35024 | C147: Guastalla | D147: 5292.089 | E147: 111.623 | F147: 2.109
A148: 149 | B148: 36017 | C148: Guiglia | D148: 4829.6066 | E148: 1884.717 | F148: 39.024
A149: 207 | B149: 37032 | C149: Imola | D149: 20502.005 | E149: 651.405 | F149: 3.177
... A267: 123 | B267: 35037 | C267: San Martino in Rio | D267: 2271.7228 | E267: 2.45 | F267: 0.108
A268: 297 | B268: 40041 | C268: San Mauro Pascoli | D268: 1732.6891 | F268: 0
A269: 228 | B269: 37055 | C269: San Pietro in Casale | D269: 6585.6401 | E269: 42.29 | F269: 0.642
A270: 38 | B270: 33041 | C270: San Pietro in Cerro | D270: 2734.5607 | E270: 30.676 | F270: 1.122
A271: 124 | B271: 35038 | C271: San Polo d'Enza | D271: 3229.3455 | E271: 793.413 | F271: 24.569
A272: 170 | B272: 36038 | C272: San Possidonio | D272: 1705.8308 | E272: 69.024 | F272: 4.046
A273: 171 | B273: 36039 | C273: San Prospero | D273: 3455.7011 | E273: 58.621 | F273: 1.696
A274: 77 | B274: 34033 | C274: San Secondo Parmense | D274: 3770.938 | E274: 71.411 | F274: 1.894
A275: 298 | B275: 40043 | C275: Santa Sofia | D275: 14886.267 | E275: 12016.919 | F275: 80.725
A276: 229 | B276: 37056 | C276: Sant'Agata Bolognese | D276: 3479.1603 | E276: 37.431 | F276: 1.076
A277: 325 | B277: 99026 | C277: Sant'Agata Feltria | D277: 7974.0912 | E277: 4573.857 | F277: 57.359
...

Sheet Friulia-Venezia-Giulia
A1: fid | B1: PRO_COM | C1: COMUNE | D1: AREA_COM.(HA) | E1: SUP.FOR.COM.(HA) | F1: IND.BOS.(%)
A2: 1 | B2: 30001 | C2: Aiello del Friuli | D2: 1334.7331 | E2: 23.753 | F2: 1.78
A3: 2 | B3: 30002 | C3: Amaro | D3: 3326.1024 | E3: 2528.853 | F3: 76.031
A4: 3 | B4: 30003 | C4: Ampezzo | D4: 7362.7432 | E4: 6063.427 | F4: 82.353
A5: 166 | B5: 93001 | C5: Andreis | D5: 2695.0187 | E5: 2021.377 | F5: 75.004
A6: 4 | B6: 30004 | C6: Aquileia | D6: 3743.9468 | E6: 14.628 | F6: 0.391
A7: 167 | B7: 93002 | C7: Arba | D7: 1531.1227 | E7: 236.834 | F7: 15.468
A8: 5 | B8: 30005 | C8: Arta Terme | D8: 4276.9744 | E8: 3410.743 | F8: 79.747
A9: 6 | B9: 30006 | C9: Artegna | D9: 1122.0896 | E9: 264.604 | F9: 23.581
A10: 7 | B10: 30007 | C10: Attimis | D10: 3323.717 | E10: 2884.114 | F10: 86.774
A11: 168 | B11: 93004 | C11: Aviano | D11: 11327.943 | E11: 4020.551 | F11: 35.492
A12: 169 | B12: 93005 | C12: Azzano Decimo | D12: 5133.742 | E12: 142.377 | F12: 2.773
A13: 8 | B13: 30008 | C13: Bagnaria Arsa | D13: 1923.3143 | E13: 36.532 | F13: 1.899
... A216: 128 | B216: 30136 | C216: Zuglio | D216: 1821.132 | E216: 1469.527 | F216: 80.693

Sheet Lazio
A1: fid | B1: PRO_COM | C1: COMUNE | D1: AREA_COM.(HA) | E1: SUP.FOR.COM.(HA) | F1: IND.BOS.(%)
A2: 61 | B2: 57001 | C2: Accumoli | D2: 8734.2908 | E2: 6030.192 | F2: 69.04
A3: 288 | B3: 60001 | C3: Acquafondata | D3: 2531.7356 | E3: 2045.961 | F3: 80.813
A4: 1 | B4: 56001 | C4: Acquapendente | D4: 13160.224 | E4: 6980.375 | F4: 53.041
A5: 289 | B5: 60002 | C5: Acuto | D5: 1346.6239 | E5: 329.797 | F5: 24.491
A6: 134 | B6: 58001 | C6: Affile | D6: 1511.2302 | E6: 859.794 | F6: 56.894
A7: 135 | B7: 58002 | C7: Agosta | D7: 949.97426 | E7: 678.316 | F7: 71.404
A8: 290 | B8: 60003 | C8: Alatri | D8: 9695.7381 | E8: 3016.19 | F8: 31.108
A9: 136 | B9: 58003 | C9: Albano Laziale | D9: 2381.834 | E9: 161.779 | F9: 6.792
A10: 137 | B10: 58004 | C10: Allumiere | D10: 9215.9594 | E10: 6391.133 | F10: 69.349
A11: 291 | B11: 60004 | C11: Alvito | D11: 5171.3382 | E11: 1565.527 | F11: 30.273
A12: 292 | B12: 60005 | C12: Amaseno | D12: 7772.5802 | E12: 4251.569 | F12: 54.7
A13: 62 | B13: 57002 | C13: Amatrice | D13: 17438.49 | E13: 9693.828 | F13: 55.589
... A363: 244 | B363: 58111 | C363: Velletri | D363: 11826.641 | E363: 1838.203 | F363: 15.543
A364: 287 | B364: 59033 | C364: Ventotene | D364: 183.07035 | F364: 0
A365: 372 | B365: 60085 | C365: Veroli | D365: 11965.623 | E365: 5718.279 | F365: 47.789
A366: 57 | B366: 56057 | C366: Vetralla | D366: 11377.108 | E366: 4151.782 | F366: 36.492
A367: 373 | B367: 60086 | C367: Vicalvi | D367: 820.83313 | E367: 204.734 | F367: 24.942
A368: 374 | B368: 60087 | C368: Vico nel Lazio | D368: 4584.2031 | E368: 2949.537 | F368: 64.341
A369: 245 | B369: 58112 | C369: Vicovaro | D369: 3594.3503 | E369: 2441.747 | F369: 67.933
A370: 58 | B370: 56058 | C370: Vignanello | D370: 2052.7202 | E370: 172.338 | F370: 8.396
A371: 375 | B371: 60088 | C371: Villa Latina | D371: 1703.4291 | E371: 1192.625 | F371: 70.013
A372: 46 | B372: 56046 | C372: Villa San Giovanni in Tuscia | D372: 527.92485 | E372: 158.489 | F372: 30.021
A373: 376 | B373: 60089 | C373: Villa Santa Lucia | D373: 1776.7163 | E373: 616.383 | F373: 34.692
A374: 377 | B374: 60090 | C374: Villa Santo Stefano | D374: 2009.8793 | E374: 1032.474 | F374: 51.37
A375: 59 | B375: 56059 | C375: Viterbo | D375: 40622.67 | E375: 8736.814 | F375: 21.507
A376: 378 | B376: 60091 | C376: Viticuso | D376: 2085.9498 | E376: 1523.554 | F376: 73.039
... A379: 247 | B379: 58114 | C379: Zagarolo | D379: 2802.7407 | E379: 292.946 | F379: 10.452

Sheet Liguria
A1: fid | B1: PRO_COM | C1: COMUNE | D1: AREA_COM.(HA) | E1: SUP.FOR.COM.(HA) | F1: IND.BOS.(%)
A2: 1 | B2: 8001 | C2: Airole | D2: 1462.6779 | E2: 803.601 | F2: 54.94
A3: 67 | B3: 9001 | C3: Alassio | D3: 1725.5312 | E3: 822.997 | F3: 47.695
A4: 68 | B4: 9002 | C4: Albenga | D4: 3658.9279 | E4: 863.462 | F4: 23.599
A5: 70 | B5: 9004 | C5: Albisola Superiore | D5: 2867.7089 | E5: 2290.36 | F5: 79.867
A6: 69 | B6: 9003 | C6: Albissola Marina | D6: 324.57315 | E6: 154.451 | F6: 47.586
A7: 71 | B7: 9005 | C7: Altare | D7: 1129.6445 | E7: 940.397 | F7: 83.247
A8: 203 | B8: 11001 | C8: Ameglia | D8: 1419.3504 | E8: 621.982 | F8: 43.822
A9: 72 | B9: 9006 | C9: Andora | D9: 3182.1897 | E9: 1964.897 | F9: 61.747
A10: 2 | B10: 8002 | C10: Apricale | D10: 1993.6356 | E10: 1451.782 | F10: 72.821
A11: 3 | B11: 8003 | C11: Aquila d'Arroscia | D11: 1006.0088 | E11: 891.477 | F11: 88.615
A12: 204 | B12: 11002 | C12: Arcola | D12: 1653.7939 | E12: 641.463 | F12: 38.787
A13: 136 | B13: 10001 | C13: Arenzano | D13: 2430.4988 | E13: 1391.41 | F13: 57.248
... A174: 226 | B174: 11024 | C174: Riomaggiore | D174: 1029.2026 | E174: 675.319 | F174: 65.616
A175: 48 | B175: 8050 | C175: Riva Ligure | D175: 207.29234 | F175: 0
A176: 120 | B176: 9054 | C176: Roccavignale | D176: 1770.6557 | E176: 1442.746 | F176: 81.481
A177: 227 | B177: 11025 | C177: Rocchetta di Vara | D177: 3266.3603 | E177: 2702.513 | F177: 82.738
A178: 49 | B178: 8051 | C178: Rocchetta Nervina | D178: 1528.4784 | E178: 946.88 | F178: 61.949
A179: 184 | B179: 10049 | C179: Ronco Scrivia | D179: 3011.139 | E179: 2531.585 | F179: 84.074
A180: 185 | B180: 10050 | C180: Rondanina | D180: 1280.7875 | E180: 1160.187 | F180: 90.584
A181: 186 | B181: 10051 | C181: Rossiglione | D181: 4759.2797 | E181: 4011.432 | F181: 84.287
A182: 187 | B182: 10052 | C182: Rovegno | D182: 4408.5845 | E182: 4039.812 | F182: 91.635
A183: 50 | B183: 8052 | C183: San Bartolomeo al Mare | D183: 1088.0005 | E183: 587.693 | F183: 54.016
A184: 51 | B184: 8053 | C184: San Biagio della Cima | D184: 430.71259 | E184: 153.788 | F184: 35.705
A185: 188 | B185: 10053 | C185: San Colombano Certenoli | D185: 4157.4732 | E185: 3224.569 | F185: 77.561
A186: 52 | B186: 8054 | C186: San Lorenzo al Mare | D186: 134.75321 | E186: 9.303 | F186: 6.904
A187: 53 | B187: 8055 | C187: Sanremo | D187: 5600.6717 | E187: 2133.87 | F187: 38.1
... A235: 135 | B235: 9069 | C235: Zuccarello | D235: 1080.7027 | E235: 730.238 | F235: 67.571

Sheet Lombardia
A1: fid | B1: PRO_COM | C1: COMUNE | D1: AREA_COM.(HA) | E1: SUP.FOR.COM.(HA) | F1: IND.BOS.(%)
A2: 1388 | B2: 98001 | C2: Abbadia Cerreto | D2: 619.85852 | E2: 12.293 | F2: 1.983
A3: 1304 | B3: 97001 | C3: Abbadia Lariana | D3: 1659.6521 | E3: 1043.344 | F3: 62.865
A4: 361 | B4: 15002 | C4: Abbiategrasso | D4: 4777.7744 | E4: 960.444 | F4: 20.102
A5: 737 | B5: 17001 | C5: Acquafredda | D5: 954.63212 | E5: 5.337 | F5: 0.559
A6: 1127 | B6: 19001 | C6: Acquanegra Cremonese | D6: 921.60273 | E6: 12.542 | F6: 1.361
A7: 1240 | B7: 20001 | C7: Acquanegra sul Chiese | D7: 2801.448 | E7: 32.822 | F7: 1.172
A8: 494 | B8: 16001 | C8: Adrara San Martino | D8: 1260.54 | E8: 812.293 | F8: 64.44
A9: 495 | B9: 16002 | C9: Adrara San Rocco | D9: 922.4927 | E9: 758.898 | F9: 82.266
A10: 738 | B10: 17002 | C10: Adro | D10: 1428.9488 | E10: 307.435 | F10: 21.515
A11: 1128 | B11: 19002 | C11: Agnadello | D11: 1207.7497 | E11: 5.087 | F11: 0.421
A12: 739 | B12: 17003 | C12: Agnosine | D12: 1355.4636 | E12: 967.105 | F12: 71.349
A13: 1 | B13: 12001 | C13: Agra | D13: 282.8244 | E13: 218.378 | F13: 77.213
... A62: 743 | B62: 17007 | C62: Artogne | D62: 2101.9161 | E62: 1183.877 | F62: 56.324
A63: 506 | B63: 16013 | C63: Arzago d'Adda | D63: 930.77104 | F63: 0
A64: 1241 | B64: 20002 | C64: Asola | D64: 7348.1487 | E64: 12.964 | F64: 0.176
A65: 366 | B65: 15011 | C65: Assago | D65: 805.21318 | E65: 13.236 | F65: 1.644
A66: 146 | B66: 13013 | C66: Asso | D66: 651.06246 | E66: 433.984 | F66: 66.658
A67: 507 | B67: 16014 | C67: Averara | D67: 1069.3152 | E67: 719.668 | F67: 67.302
A68: 508 | B68: 16015 | C68: Aviatico | D68: 848.39321 | E68: 629.629 | F68: 74.214
A69: 1130 | B69: 19004 | C69: Azzanello | D69: 1112.1038 | E69: 109.476 | F69: 9.844
A70: 744 | B70: 17008 | C70: Azzano Mella | D70: 1056.9558 | E70: 10.092 | F70: 0.955
A71: 509 | B71: 16016 | C71: Azzano San Paolo | D71: 429.2146 | E71: 3.949 | F71: 0.92
A72: 6 | B72: 12006 | C72: Azzate | D72: 450.62182 | E72: 100.218 | F72: 22.24
A73: 7 | B73: 12007 | C73: Azzio | D73: 217.21692 | E73: 108.72 | F73: 50.051
A74: 510 | B74: 16017 | C74: Azzone | D74: 1728.9276 | E74: 1365.906 | F74: 79.003
A75: 946 | B75: 18006 | C75: Badia Pavese | D75: 505.71512 | E75: 1.395 | F75: 0.276
... A237: 1134 | B237: 19009 | C237: Calvatone | D237: 1369.9526 | E237: 29.698 | F237: 2.168
A238: 538 | B238: 16047 | C238: Calvenzano | D238: 672.41074 | F238: 0
A239: 964 | B239: 18025 | C239: Calvignano | D239: 698.37823 | E239: 195.749 | F239: 28.029
A240: 382 | B240: 15042 | C240: Calvignasco | D240: 187.72461 | E240: 5.886 | F240: 3.135
A241: 770 | B241: 17034 | C241: Calvisano | D241: 4482.7105 | E241: 10.608 | F241: 0.237
A242: 383 | B242: 15044 | C242: Cambiago | D242: 722.7403 | E242: 48.35 | F242: 6.69
A243: 539 | B243: 16048 | C243: Camerata Cornello | D243: 1294.389 | E243: 904.809 | F243: 69.902
A244: 1135 | B244: 19010 | C244: Camisano | D244: 1095.0591 | E244: 9.246 | F244: 0.844
A245: 1136 | B245: 19011 | C245: Campagnola Cremasca | D245: 464.07383 | E245: 0 | F245: 0
A246: 1461 | B246: 108014 | C246: Camparada | D246: 163.36587 | E246: 26.944 | F246: 16.493
A247: 162 | B247: 13040 | C247: Campione d'Italia | D247: 267.56584 | E247: 47.077 | F247: 17.595
A248: 295 | B248: 14012 | C248: Campodolcino | D248: 4848.84 | E248: 1562.55 | F248: 32.225
A249: 965 | B249: 18026 | C249: Campospinoso Albaredo | D249: 1244.3235 | E249: 28.083 | F249: 2.257
...

Sheet Marche
A1: fid | B1: PRO_COM | C1: COMUNE | D1: AREA_COM.(HA) | E1: SUP.FOR.COM.(HA) | F1: IND.BOS.(%)
A2: 1 | B2: 41001 | C2: Acqualagna | D2: 5068.4591 | E2: 2263.032 | F2: 44.649
A3: 153 | B3: 44001 | C3: Acquasanta Terme | D3: 13839.141 | E3: 12793.469 | F3: 92.444
A4: 154 | B4: 44002 | C4: Acquaviva Picena | D4: 2104.5848 | E4: 329.512 | F4: 15.657
A5: 51 | B5: 42001 | C5: Agugliano | D5: 2189.0109 | E5: 17.957 | F5: 0.82
A6: 186 | B6: 109001 | C6: Altidona | D6: 1302.8845 | E6: 171.847 | F6: 13.19
A7: 187 | B7: 109002 | C7: Amandola | D7: 6949.3971 | E7: 3490.787 | F7: 50.232
A8: 52 | B8: 42002 | C8: Ancona | D8: 12512.598 | E8: 1591.925 | F8: 12.723
A9: 2 | B9: 41002 | C9: Apecchio | D9: 10310.872 | E9: 7737.856 | F9: 75.046
A10: 98 | B10: 43002 | C10: Apiro | D10: 5377.9178 | E10: 1669.484 | F10: 31.043
A11: 99 | B11: 43003 | C11: Appignano | D11: 2267.2152 | E11: 35.031 | F11: 1.545
A12: 155 | B12: 44005 | C12: Appignano del Tronto | D12: 2319.4344 | E12: 464.45 | F12: 20.024
A13: 53 | B13: 42003 | C13: Arcevia | D13: 12833.105 | E13: 3486.296 | F13: 27.166
... A226: 151 | B226: 43057 | C226: Visso | D226: 10041.536 | E226: 6439.035 | F226: 64.124

Sheet Molise
A1: fid | B1: PRO_COM | C1: COMUNE | D1: AREA_COM.(HA) | E1: SUP.FOR.COM.(HA) | F1: IND.BOS.(%)
A2: 1 | B2: 70001 | C2: Acquaviva Collecroce | D2: 2859.93 | E2: 441.478 | F2: 15.437
A3: 85 | B3: 94001 | C3: Acquaviva d'Isernia | D3: 1351.3873 | E3: 885.267 | F3: 65.508
A4: 86 | B4: 94002 | C4: Agnone | D4: 9684.8918 | E4: 4131.416 | F4: 42.658
A5: 87 | B5: 94003 | C5: Bagnoli del Trigno | D5: 3680.0851 | E5: 1317.408 | F5: 35.798
A6: 2 | B6: 70002 | C6: Baranello | D6: 2499.471 | E6: 646.758 | F6: 25.876
A7: 88 | B7: 94004 | C7: Belmonte del Sannio | D7: 2031.6706 | E7: 771.341 | F7: 37.966
A8: 3 | B8: 70003 | C8: Bojano | D8: 5262.9834 | E8: 2034.092 | F8: 38.649
A9: 4 | B9: 70004 | C9: Bonefro | D9: 3127.9564 | E9: 593.023 | F9: 18.959
A10: 5 | B10: 70005 | C10: Busso | D10: 2381.0214 | E10: 1202.596 | F10: 50.508
A11: 6 | B11: 70006 | C11: Campobasso | D11: 5611.1075 | E11: 765.552 | F11: 13.644
A12: 7 | B12: 70007 | C12: Campochiaro | D12: 3570.1024 | E12: 2432.025 | F12: 68.122
A13: 8 | B13: 70008 | C13: Campodipietra | D13: 1972.1694 | E13: 381.359 | F13: 19.337
... A137: 84 | B137: 70084 | C137: Vinchiaturo | D137: 3547.7631 | E137: 1308.061 | F137: 36.87

Sheet 12.PIEMONTE
A1: Colonna1 | B1: PRO_COM | C1: COMUNE | D1: PROVINCIA | E1: REGIONE | F1: AREA_COM.(HA) | G1: SUP.FOR.COM.(HA) | H1: IND.BOS.(%)
A2: 1161 | B2: 103058 | C2: Quarna Sopra | D2: =VLOOKUP(TEXT(B2,"000000"), Foglio1!$E:$L, 8, FALSE) -> Verbano-Cusio-Ossola | E2: Piemonte | F2: 939.47573 | G2: 900.517 | H2: 95.853
A3: 1124 | B3: 103018 | C3: Caprezzo | D3: =VLOOKUP(TEXT(B3,"000000"), Foglio1!$E:$L, 8, FALSE) -> Verbano-Cusio-Ossola | E3: Piemonte | F3: 725.65625 | G3: 691.089 | H3: 95.236
A4: 274 | B4: 1279 | C4: Traves | D4: =VLOOKUP(TEXT(B4,"000000"), Foglio1!$E:$L, 8, FALSE) -> Torino | E4: Piemonte | F4: 1045.4434 | G4: 985.182 | H4: 94.236
A5: 1052 | B5: 96023 | C5: Curino | D5: =VLOOKUP(TEXT(B5,"000000"), Foglio1!$E:$L, 8, FALSE) -> Biella | E5: Piemonte | F5: 2164.938 | G5: 2039.67 | H5: 94.214
A6: 387 | B6: 2152 | C6: Valduggia | D6: =VLOOKUP(TEXT(B6,"000000"), Foglio1!$E:$L, 8, FALSE) -> Vercelli | E6: Piemonte | F6: 2842.6708 | G6: 2671.191 | H6: 93.968
A7: 1143 | B7: 103040 | C7: Madonna del Sasso | D7: =VLOOKUP(TEXT(B7,"000000"), Foglio1!$E:$L, 8, FALSE) -> Verbano-Cusio-Ossola | E7: Piemonte | F7: 1541.1469 | G7: 1445.477 | H7: 93.792
A8: 394 | B8: 2171 | C8: Cellio con Breia | D8: =VLOOKUP(TEXT(B8,"000000"), Foglio1!$E:$L, 8, FALSE) -> Vercelli | E8: Piemonte | F8: 1727.9575 | G8: 1616.765 | H8: 93.565
A9: 335 | B9: 2043 | C9: Civiasco | D9: =VLOOKUP(TEXT(B9,"000000"), Foglio1!$E:$L, 8, FALSE) -> Vercelli | E9: Piemonte | F9: 738.81895 | G9: 690.78 | H9: 93.498
A10: 706 | B10: 4227 | C10: Torre Mondovì | D10: =VLOOKUP(TEXT(B10,"000000"), Foglio1!$E:$L, 8, FALSE) -> Cuneo | E10: Piemonte | F10: 1853.7622 | G10: 1728.164 | H10: 93.225
A11: 878 | B11: 6034 | C11: Carrega Ligure | D11: =VLOOKUP(TEXT(B11,"000000"), Foglio1!$E:$L, 8, FALSE) -> Alessandria | E11: Piemonte | F11: 5525.5547 | G11: 5130.687 | H11: 92.854
A12: 1085 | B12: 96064 | C12: Sostegno | D12: =VLOOKUP(TEXT(B12,"000000"), Foglio1!$E:$L, 8, FALSE) -> Biella | E12: Piemonte | F12: 1806.7619 | G12: 1670.226 | H12: 92.443
A13: 1110 | B13: 103004 | C13: Arola | D13: =VLOOKUP(TEXT(B13,"000000"), Foglio1!$E:$L, 8, FALSE) -> Verbano-Cusio-Ossola | E13: Piemonte | F13: 661.24152 | G13: 606.72 | H13: 91.755
... A1162: 372 | B1162: 2118 | C1162: Ronsecco | D1162: =VLOOKUP(TEXT(B1162,"000000"), Foglio1!$E:$L, 8, FALSE) -> Vercelli | E1162: Piemonte | F1162: 2447.5441 | G1162: 0.509 | H1162: 0.021
A1163: 855 | B1163: 6011 | C1163: Balzola | D1163: =VLOOKUP(TEXT(B1163,"000000"), Foglio1!$E:$L, 8, FALSE) -> Alessandria | E1163: Piemonte | F1163: 1661.9362 | H1163: 0
A1164: 320 | B1164: 2011 | C1164: Bianzè | D1164: =VLOOKUP(TEXT(B1164,"000000"), Foglio1!$E:$L, 8, FALSE) -> Vercelli | E1164: Piemonte | F1164: 4180.5854 | H1164: 0
A1165: 328 | B1165: 2030 | C1165: Caresana | D1165: =VLOOKUP(TEXT(B1165,"000000"), Foglio1!$E:$L, 8, FALSE) -> Vercelli | E1165: Piemonte | F1165: 2410.8779 | H1165: 0
A1166: 897 | B1166: 6054 | C1166: Castelspina | D1166: =VLOOKUP(TEXT(B1166,"000000"), Foglio1!$E:$L, 8, FALSE) -> Alessandria | E1166: Piemonte | F1166: 548.71542 | H1166: 0
A1167: 340 | B1167: 2052 | C1167: Crova | D1167: =VLOOKUP(TEXT(B1167,"000000"), Foglio1!$E:$L, 8, FALSE) -> Vercelli | E1167: Piemonte | F1167: 1401.6269 | H1167: 0
A1168: 119 | B1168: 1120 | C1168: Grugliasco | D1168: =VLOOKUP(TEXT(B1168,"000000"), Foglio1!$E:$L, 8, FALSE) -> Torino | E1168: Piemonte | F1168: 1313.755 | H1168: 0
A1169: 349 | B1169: 2067 | C1169: Lamporo | D1169: =VLOOKUP(TEXT(B1169,"000000"), Foglio1!$E:$L, 8, FALSE) -> Vercelli | E1169: Piemonte | F1169: 964.39985 | H1169: 0
A1170: 352 | B1170: 2071 | C1170: Livorno Ferraris | D1170: =VLOOKUP(TEXT(B1170,"000000"), Foglio1!$E:$L, 8, FALSE) -> Vercelli | E1170: Piemonte | F1170: 5799.1734 | H1170: 0
A1171: 356 | B1171: 2082 | C1171: Motta de' Conti | D1171: =VLOOKUP(TEXT(B1171,"000000"), Foglio1!$E:$L, 8, FALSE) -> Vercelli | E1171: Piemonte | F1171: 1171.5871 | H1171: 0
A1172: 360 | B1172: 2091 | C1172: Pertengo | D1172: =VLOOKUP(TEXT(B1172,"000000"), Foglio1!$E:$L, 8, FALSE) -> Vercelli | E1172: Piemonte | F1172: 829.48817 | H1172: 0
A1173: 365 | B1173: 2104 | C1173: Prarolo | D1173: =VLOOKUP(TEXT(B1173,"000000"), Foglio1!$E:$L, 8, FALSE) -> Vercelli | E1173: Piemonte | F1173: 1153.8909 | H1173: 0
A1174: 370 | B1174: 2115 | C1174: Rive | D1174: =VLOOKUP(TEXT(B1174,"000000"), Foglio1!$E:$L, 8, FALSE) -> Vercelli | E1174: Piemonte | F1174: 940.90452 | H1174: 0
... A1181: 1024 | B1181: 6185 | C1181: Villanova Monferrato | D1181: =VLOOKUP(TEXT(B1181,"000000"), Foglio1!$E:$L, 8, FALSE) -> Alessandria | E1181: Piemonte | F1181: 1655.6339 | H1181: 0

Sheet Piemonte
A1: Colonna1 | B1: PRO_COM | C1: COMUNE | D1: AREA_COM.(HA) | E1: SUP.FOR.COM.(HA) | F1: IND.BOS.(%)
A2: 482 | B2: 4001 | C2: Acceglio | D2: 15152.78 | E2: 3038.292 | F2: 20.051
A3: 846 | B3: 6001 | C3: Acqui Terme | D3: 3329.6553 | E3: 1194.521 | F3: 35.875
A4: 729 | B4: 5001 | C4: Agliano Terme | D4: 1544.848 | E4: 22.287 | F4: 1.443
A5: 1 | B5: 1001 | C5: Agliè | D5: 1314.6258 | E5: 338.099 | F5: 25.718
A6: 395 | B6: 3001 | C6: Agrate Conturbia | D6: 1453.6192 | E6: 700.533 | F6: 48.192
A7: 1033 | B7: 96001 | C7: Ailoche | D7: 1078.3028 | E7: 824.789 | F7: 76.49
A8: 2 | B8: 1002 | C8: Airasca | D8: 1573.9313 | E8: 30.663 | F8: 1.948
A9: 483 | B9: 4002 | C9: Aisone | D9: 3691.731 | E9: 1839.92 | F9: 49.839
A10: 3 | B10: 1003 | C10: Ala di Stura | D10: 4633.156 | E10: 1984.225 | F10: 42.827
A11: 313 | B11: 2002 | C11: Alagna Valsesia | D11: 13317.139 | E11: 4138.414 | F11: 31.076
A12: 484 | B12: 4003 | C12: Alba | D12: 5358.5195 | E12: 562.285 | F12: 10.493
A13: 314 | B13: 2003 | C13: Albano Vercellese | D13: 1378.0858 | E13: 380.476 | F13: 27.609
... A66: 319 | B66: 2009 | C66: Balocco | D66: 1680.7998 | E66: 270.547 | F66: 16.096
A67: 855 | B67: 6011 | C67: Balzola | D67: 1661.9362 | F67: 0
A68: 19 | B68: 1020 | C68: Banchette | D68: 202.88941 | E68: 37.778 | F68: 18.62
A69: 1113 | B69: 103007 | C69: Bannio Anzino | D69: 3946.5954 | E69: 2810.095 | F69: 71.203
A70: 20 | B70: 1021 | C70: Barbania | D70: 1280.2737 | E70: 544.579 | F70: 42.536
A71: 492 | B71: 4011 | C71: Barbaresco | D71: 776.3637 | E71: 73.586 | F71: 9.478
A72: 21 | B72: 1022 | C72: Bardonecchia | D72: 13220.297 | E72: 3964.798 | F72: 29.99
A73: 399 | B73: 3012 | C73: Barengo | D73: 1949.2838 | E73: 603.209 | F73: 30.945
A74: 493 | B74: 4012 | C74: Barge | D74: 8199.1292 | E74: 3017.051 | F74: 36.797
A75: 494 | B75: 4013 | C75: Barolo | D75: 570.94876 | E75: 37.913 | F75: 6.64
A76: 22 | B76: 1023 | C76: Barone Canavese | D76: 398.64277 | E76: 121.687 | F76: 30.525
A77: 856 | B77: 6012 | C77: Basaluzzo | D77: 1505.2609 | E77: 137.143 | F77: 9.111
A78: 857 | B78: 6013 | C78: Bassignana | D78: 2871.2268 | E78: 430.545 | F78: 14.995
A79: 495 | B79: 4014 | C79: Bastia Mondovì | D79: 1200.0668 | E79: 425.877 | F79: 35.488
... A100: 401 | B100: 3018 | C100: Biandrate | D100: 1245.37 | E100: 22.676 | F100: 1.821
A101: 320 | B101: 2011 | C101: Bianzè | D101: 4180.5854 | F101: 0
A102: 24 | B102: 1025 | C102: Bibiana | D102: 1859.8655 | E102: 746.714 | F102: 40.149
A103: 1036 | B103: 96004 | C103: Biella | D103: 4668.8474 | E103: 1690.679 | F103: 36.212
A104: 1037 | B104: 96005 | C104: Bioglio | D104: 1884.5169 | E104: 1230.215 | F104: 65.28
A105: 861 | B105: 6017 | C105: Bistagno | D105: 1759.3004 | E105: 723.01 | F105: 41.096
A106: 25 | B106: 1026 | C106: Bobbio Pellice | D106: 9408.2024 | E106: 3920.908 | F106: 41.675
A107: 402 | B107: 3019 | C107: Boca | D107: 960.79835 | E107: 603.774 | F107: 62.841
A108: 321 | B108: 2014 | C108: Boccioleto | D108: 3387.0637 | E108: 3021.311 | F108: 89.201
A109: 1118 | B109: 103012 | C109: Bognanco | D109: 5799.4732 | E109: 3452.578 | F109: 59.533
A110: 403 | B110: 3021 | C110: Bogogno | D110: 848.26452 | E110: 433.964 | F110: 51.159
A111: 26 | B111: 1027 | C111: Bollengo | D111: 1422.3734 | E111: 382.336 | F111: 26.88
A112: 404 | B112: 3022 | C112: Bolzano Novarese | D112: 330.43461 | E112: 197.951 | F112: 59.906
...

Sheet Puglia
A1: fid | B1: PRO_COM | C1: COMUNE | D1: AREA_COM.(HA) | E1: SUP.FOR.COM.(HA) | F1: IND.BOS.(%)
A2: 1 | B2: 71001 | C2: Accadia | D2: 3073.5837 | E2: 698.168 | F2: 22.715
A3: 62 | B3: 72001 | C3: Acquaviva delle Fonti | D3: 13202.443 | E3: 0 | F3: 0
A4: 63 | B4: 72002 | C4: Adelfia | D4: 2981.3953 | E4: 0.802 | F4: 0.027
A5: 64 | B5: 72003 | C5: Alberobello | D5: 4082.2962 | E5: 627.859 | F5: 15.38
A6: 2 | B6: 71002 | C6: Alberona | D6: 4974.6827 | E6: 1121.18 | F6: 22.538
A7: 152 | B7: 75002 | C7: Alessano | D7: 2869.2859 | E7: 36.67 | F7: 1.278
A8: 153 | B8: 75003 | C8: Alezio | D8: 1678.9263 | E8: 0.446 | F8: 0.027
A9: 154 | B9: 75004 | C9: Alliste | D9: 2352.9769 | E9: 3.521 | F9: 0.15
A10: 65 | B10: 72004 | C10: Altamura | D10: 43136.98 | E10: 1923.98 | F10: 4.46
A11: 155 | B11: 75005 | C11: Andrano | D11: 1571.298 | E11: 7.354 | F11: 0.468
A12: 248 | B12: 110001 | C12: Andria | D12: 40288.246 | E12: 983.231 | F12: 2.44
A13: 3 | B13: 71003 | C13: Anzano di Puglia | D13: 1101.3972 | E13: 266.682 | F13: 24.213
... A258: 243 | B258: 75094 | C258: Zollino | D258: 995.44586 | E258: 1.317 | F258: 0.132

Sheet Sardegna
A1: fid | B1: PRO_COM | C1: COMUNE | D1: AREA_COM.(HA) | E1: SUP.FOR.COM.(HA) | F1: IND.BOS.(%)
A2: 184 | B2: 95001 | C2: Abbasanta | D2: 3984.6739 | E2: 1598.26 | F2: 40.11
A3: 1 | B3: 90001 | C3: Aggius | D3: 8630.4514 | E3: 1440.667 | F3: 16.693
A4: 62 | B4: 90062 | C4: Aglientu | D4: 14832.162 | E4: 3976.814 | F4: 26.812
A5: 185 | B5: 95002 | C5: Aidomaggiore | D5: 4120.4936 | E5: 1869.176 | F5: 45.363
A6: 2 | B6: 90002 | C6: Alà dei Sardi | D6: 19798.913 | E6: 10827.071 | F6: 54.685
A7: 186 | B7: 95003 | C7: Albagiara | D7: 888.28325 | E7: 188.487 | F7: 21.219
A8: 187 | B8: 95004 | C8: Ales | D8: 2245.252 | E8: 590.322 | F8: 26.292
A9: 3 | B9: 90003 | C9: Alghero | D9: 22591.339 | E9: 3251.772 | F9: 14.394
A10: 188 | B10: 95005 | C10: Allai | D10: 2736.0319 | E10: 884.863 | F10: 32.341
A11: 4 | B11: 90004 | C11: Anela | D11: 3689.0223 | E11: 2332.1 | F11: 63.217
A12: 189 | B12: 95006 | C12: Arborea | D12: 9483.5308 | E12: 292.019 | F12: 3.079
A13: 271 | B13: 111001 | C13: Arbus | D13: 26943.727 | E13: 2323.951 | F13: 8.625
... A378: 258 | B378: 95075 | C378: Zerfaliu | D378: 1556.0774 | E378: 113.773 | F378: 7.312

Sheet Sicilia
A1: fid | B1: PRO_COM | C1: COMUNE | D1: AREA_COM.(HA) | E1: SUP.FOR.COM.(HA) | F1: IND.BOS.(%)
A2: 359 | B2: 88001 | C2: Acate | D2: 10246.819 | E2: 113.595 | F2: 1.109
A3: 301 | B3: 87001 | C3: Aci Bonaccorsi | D3: 172.42261 | E3: 1.804 | F3: 1.046
A4: 302 | B4: 87002 | C4: Aci Castello | D4: 875.42353 | E4: 13.614 | F4: 1.555
A5: 303 | B5: 87003 | C5: Aci Catena | D5: 850.78237 | E5: 5.964 | F5: 0.701
A6: 305 | B6: 87005 | C6: Aci Sant'Antonio | D6: 1433.338 | E6: 155.379 | F6: 10.84
A7: 304 | B7: 87004 | C7: Acireale | D7: 4045.017 | E7: 171.601 | F7: 4.242
A8: 259 | B8: 85001 | C8: Acquaviva Platani | D8: 1463.3451 | E8: 77.275 | F8: 5.281
A9: 214 | B9: 83107 | C9: Acquedolci | D9: 1296.4054 | E9: 92.899 | F9: 7.166
A10: 306 | B10: 87006 | C10: Adrano | D10: 8322.0856 | E10: 2140.4 | F10: 25.72
A11: 281 | B11: 86001 | C11: Agira | D11: 16408.063 | E11: 997.361 | F11: 6.078
A12: 216 | B12: 84001 | C12: Agrigento | D12: 24356.782 | E12: 819.866 | F12: 3.366
A13: 282 | B13: 86002 | C13: Aidone | D13: 21077.598 | E13: 4103.871 | F13: 19.47
... A392: 355 | B392: 87055 | C392: Zafferana Etnea | D392: 7686.5133 | E392: 1696.612 | F392: 22.073

Sheet Toscana
A1: fid | B1: PRO_COM | C1: COMUNE | D1: AREA_COM.(HA) | E1: SUP.FOR.COM.(HA) | F1: IND.BOS.(%)
A2: 204 | B2: 52001 | C2: Abbadia San Salvatore | D2: 5899.3282 | E2: 4130.579 | F2: 70.018
A3: 69 | B3: 47023 | C3: Abetone Cutigliano | D3: 7499.1789 | E3: 6249.478 | F3: 83.335
A4: 51 | B4: 47002 | C4: Agliana | D4: 1169.5108 | E4: 10.745 | F4: 0.919
A5: 18 | B5: 46001 | C5: Altopascio | D5: 2859.9194 | E5: 146.707 | F5: 5.13
A6: 168 | B6: 51001 | C6: Anghiari | D6: 13091.92 | E6: 7978.156 | F6: 60.94
A7: 239 | B7: 53001 | C7: Arcidosso | D7: 9325.4089 | E7: 5849.641 | F7: 62.728
A8: 169 | B8: 51002 | C8: Arezzo | D8: 38475.385 | E8: 19438.143 | F8: 50.521
A9: 205 | B9: 52002 | C9: Asciano | D9: 21564.365 | E9: 5131.437 | F9: 23.796
A10: 1 | B10: 45001 | C10: Aulla | D10: 5998.7353 | E10: 4099.192 | F10: 68.334
A11: 170 | B11: 51003 | C11: Badia Tedalda | D11: 11871.661 | E11: 9135.71 | F11: 76.954
A12: 19 | B12: 46002 | C12: Bagni di Lucca | D12: 16470.649 | E12: 14820.397 | F12: 89.981
A13: 71 | B13: 48001 | C13: Bagno a Ripoli | D13: 7409.9129 | E13: 2520.694 | F13: 34.018
... A274: 17 | B274: 45017 | C274: Zeri | D274: 7361.8803 | E274: 5896.706 | F274: 80.098

Sheet Trentino-Alto Adige
A1: fid | B1: PRO_COM | C1: COMUNE | D1: AREA_COM.(HA) | E1: SUP.FOR.COM.(HA) | F1: IND.BOS.(%)
A2: 117 | B2: 22001 | C2: Ala | D2: 11985.495 | E2: 8654.931 | F2: 72.212
A3: 118 | B3: 22002 | C3: Albiano | D3: 993.72713 | E3: 731.998 | F3: 73.662
A4: 119 | B4: 22003 | C4: Aldeno | D4: 897.4948 | E4: 361.079 | F4: 40.232
A5: 1 | B5: 21001 | C5: Aldino/Aldein | D5: 6268.8255 | E5: 4665.145 | F5: 74.418
A6: 263 | B6: 22235 | C6: Altavalle | D6: 3354.706 | E6: 3060.964 | F6: 91.244
A7: 264 | B7: 22236 | C7: Altopiano della Vigolana | D7: 4500.2763 | E7: 3636.405 | F7: 80.804
A8: 265 | B8: 22237 | C8: Amblar-Don | D8: 1996.4178 | E8: 1803.551 | F8: 90.339
A9: 120 | B9: 22005 | C9: Andalo | D9: 1137.8273 | E9: 841.708 | F9: 73.975
A10: 2 | B10: 21002 | C10: Andriano/Andrian | D10: 489.12237 | E10: 162.699 | F10: 33.263
A11: 3 | B11: 21003 | C11: Anterivo/Altrei | D11: 1106.4006 | E11: 867.847 | F11: 78.439
A12: 4 | B12: 21004 | C12: Appiano sulla strada del vino/Eppan an der Weinstraße | D12: 5945.0142 | E12: 3163.883 | F12: 53.219
A13: 121 | B13: 22006 | C13: Arco | D13: 6321.7549 | E13: 4337.771 | F13: 68.617
... A283: 255 | B283: 22226 | C283: Ziano di Fiemme | D283: 3574.6558 | E283: 2577.555 | F283: 72.106

Sheet Umbria
A1: fid | B1: PRO_COM | C1: COMUNE | D1: AREA_COM.(HA) | E1: SUP.FOR.COM.(HA) | F1: IND.BOS.(%)
A2: 60 | B2: 55001 | C2: Acquasparta | D2: 8160.5745 | E2: 4262.959 | F2: 52.238
A3: 61 | B3: 55002 | C3: Allerona | D3: 8261.2426 | E3: 5351.008 | F3: 64.772
A4: 62 | B4: 55003 | C4: Alviano | D4: 2389.5225 | E4: 831.17 | F4: 34.784
A5: 63 | B5: 55004 | C5: Amelia | D5: 13249.647 | E5: 6059.66 | F5: 45.735
A6: 64 | B6: 55005 | C6: Arrone | D6: 4103.1979 | E6: 2914.747 | F6: 71.036
A7: 1 | B7: 54001 | C7: Assisi | D7: 18719.539 | E7: 6735.909 | F7: 35.983
A8: 65 | B8: 55006 | C8: Attigliano | D8: 1051.1975 | E8: 164.202 | F8: 15.62
A9: 92 | B9: 55033 | C9: Avigliano Umbro | D9: 5133.8639 | E9: 2287.59 | F9: 44.559
A10: 66 | B10: 55007 | C10: Baschi | D10: 6856.8536 | E10: 3438.087 | F10: 50.141
A11: 2 | B11: 54002 | C11: Bastia Umbra | D11: 2759.8769 | E11: 61.392 | F11: 2.224
A12: 3 | B12: 54003 | C12: Bettona | D12: 4507.4687 | E12: 1718.056 | F12: 38.116
A13: 4 | B13: 54004 | C13: Bevagna | D13: 5622.204 | E13: 1227.442 | F13: 21.832
... A93: 59 | B93: 54059 | C93: Valtopina | D93: 4057.3532 | E93: 2712.069 | F93: 66.843

Sheet Valle D'Aosta
A1: fid | B1: PRO_COM | C1: COMUNE | D1: AREA_COM.(HA) | E1: SUP.FOR.COM.(HA) | F1: IND.BOS.(%)
A2: 1 | B2: 7001 | C2: Allein | D2: 796.39561 | E2: 359.27 | F2: 45.112
A3: 2 | B3: 7002 | C3: Antey-Saint-André | D3: 1181.2584 | E3: 857.766 | F3: 72.615
A4: 3 | B4: 7003 | C4: Aosta | D4: 2139.2225 | E4: 715.52 | F4: 33.448
A5: 4 | B5: 7004 | C5: Arnad | D5: 2884.0498 | E5: 2003.307 | F5: 69.462
A6: 5 | B6: 7005 | C6: Arvier | D6: 3335.9632 | E6: 1766.685 | F6: 52.959
A7: 6 | B7: 7006 | C7: Avise | D7: 5261.6583 | E7: 1724.72 | F7: 32.779
A8: 7 | B8: 7007 | C8: Ayas | D8: 12942.077 | E8: 2506.247 | F8: 19.365
A9: 8 | B9: 7008 | C9: Aymavilles | D9: 5324.3536 | E9: 2493.911 | F9: 46.84
A10: 9 | B10: 7009 | C10: Bard | D10: 303.14516 | E10: 186.731 | F10: 61.598
A11: 10 | B11: 7010 | C11: Bionaz | D11: 14209.042 | E11: 1644.8 | F11: 11.576
A12: 11 | B12: 7011 | C12: Brissogne | D12: 2554.3632 | E12: 969.882 | F12: 37.97
A13: 12 | B13: 7012 | C13: Brusson | D13: 5525.6907 | E13: 2560.472 | F13: 46.338
... A75: 74 | B75: 7074 | C75: Villeneuve | D75: 879.79458 | E75: 533.382 | F75: 60.626

Sheet Veneto
A1: fid | B1: PRO_COM | C1: COMUNE | D1: AREA_COM.(HA) | E1: SUP.FOR.COM.(HA) | F1: IND.BOS.(%)
A2: 410 | B2: 28001 | C2: Abano Terme | D2: 2140.8102 | E2: 26.069 | F2: 1.218
A3: 511 | B3: 29001 | C3: Adria | D3: 11338.846 | E3: 21.753 | F3: 0.192
A4: 1 | B4: 23001 | C4: Affi | D4: 988.13797 | E4: 228.373 | F4: 23.111
A5: 411 | B5: 28002 | C5: Agna | D5: 1880.4131 | E5: 0 | F5: 0
A6: 212 | B6: 25001 | C6: Agordo | D6: 2374.2463 | E6: 1605.291 | F6: 67.613
A7: 99 | B7: 24001 | C7: Agugliaro | D7: 1469.5544 | E7: 0 | F7: 0
A8: 2 | B8: 23002 | C8: Albaredo d'Adige | D8: 2825.3252 | E8: 51.9 | F8: 1.837
A9: 100 | B9: 24002 | C9: Albettone | D9: 2021.075 | E9: 117.356 | F9: 5.807
A10: 412 | B10: 28003 | C10: Albignasego | D10: 2115.5223 | E10: 0 | F10: 0
A11: 213 | B11: 25003 | C11: Alleghe | D11: 2971.4444 | E11: 1973.994 | F11: 66.432
A12: 101 | B12: 24003 | C12: Alonte | D12: 1114.233 | E12: 199.307 | F12: 17.887
A13: 268 | B13: 25072 | C13: Alpago | D13: 8034.0486 | E13: 4546.087 | F13: 56.585
... A561: 205 | B561: 24122 | C561: Zugliano | D561: 1372.9958 | E561: 182.479 | F561: 13.291
