Workbook

Sheet Foglio1
A1: Codice Regione | B1: Codice dell'Unità territoriale sovracomunale (valida a fini statistici) | C1: Codice Provincia (Storico)(1) | D1: Progressivo del Comune (2) | E1: Codice Comune formato alfanumerico | F1: Denominazione (Italiana e straniera) | G1: Denominazione in italiano | H1: Denominazione altra lingua | I1: Codice Ripartizione Geografica | J1: Ripartizione geografica | K1: Denominazione Regione | L1: Denominazione dell'Unità territoriale sovracomunale (valida a fini statistici) | M1: Tipologia di Unità territoriale sovracomunale | N1: Flag Comune capoluogo di Provincia/Città metropolitana/libero consorzio | O1: Sigla automobilistica | P1: Codice Comune formato numerico | Q1: Codice Comune numerico con 107 Province (dal 2017 al 2025) | R1: Codice Comune numerico con 110 Province (dal 2010 al 2016) | S1: Codice Comune numerico con 107 Province (dal 2006 al 2009) | T1: Codice Comune numerico con 103 Province (dal 1995 al 2005) | U1: Codice Catastale del Comune | V1: Codice NUTS1 2021 | W1: Codice NUTS2 2021 (3) | X1: Codice NUTS3 2021 | Y1: Codice NUTS1 2024 | Z1: Codice NUTS2 2024 (3) | AA1: Codice NUTS3 2024
A2: 01 | B2: 201 | C2: 001 | D2: 001 | E2: 001001 | F2: Agliè | G2: Agliè | I2: 1 | J2: Nord-ovest | K2: Piemonte | L2: Torino | M2: 3 | N2: 0 | O2: TO | P2: 1001 | Q2: 1001 | R2: 1001 | S2: 1001 | T2: 1001 | U2: A074 | V2: ITC | W2: ITC1 | X2: ITC11 | Y2: ITC | Z2: ITC1 | AA2: ITC11
A3: 01 | B3: 201 | C3: 001 | D3: 002 | E3: 001002 | F3: Airasca | G3: Airasca | I3: 1 | J3: Nord-ovest | K3: Piemonte | L3: Torino | M3: 3 | N3: 0 | O3: TO | P3: 1002 | Q3: 1002 | R3: 1002 | S3: 1002 | T3: 1002 | U3: A109 | V3: ITC | W3: ITC1 | X3: ITC11 | Y3: ITC | Z3: ITC1 | AA3: ITC11
A4: 01 | B4: 201 | C4: 001 | D4: 003 | E4: 001003 | F4: Ala di Stura | G4: Ala di Stura | I4: 1 | J4: Nord-ovest | K4: Piemonte | L4: Torino | M4: 3 | N4: 0 | O4: TO | P4: 1003 | Q4: 1003 | R4: 1003 | S4: 1003 | T4: 1003 | U4: A117 | V4: ITC | W4: ITC1 | X4: ITC11 | Y4: ITC | Z4: ITC1 | AA4: ITC11
A5: 01 | B5: 201 | C5: 001 | D5: 004 | E5: 001004 | F5: Albiano d'Ivrea | G5: Albiano d'Ivrea | I5: 1 | J5: Nord-ovest | K5: Piemonte | L5: Torino | M5: 3 | N5: 0 | O5: TO | P5: 1004 | Q5: 1004 | R5: 1004 | S5: 1004 | T5: 1004 | U5: A157 | V5: ITC | W5: ITC1 | X5: ITC11 | Y5: ITC | Z5: ITC1 | AA5: ITC11
A6: 01 | B6: 201 | C6: 001 | D6: 006 | E6: 001006 | F6: Almese | G6: Almese | I6: 1 | J6: Nord-ovest | K6: Piemonte | L6: Torino | M6: 3 | N6: 0 | O6: TO | P6: 1006 | Q6: 1006 | R6: 1006 | S6: 1006 | T6: 1006 | U6: A218 | V6: ITC | W6: ITC1 | X6: ITC11 | Y6: ITC | Z6: ITC1 | AA6: ITC11
A7: 01 | B7: 201 | C7: 001 | D7: 007 | E7: 001007 | F7: Alpette | G7: Alpette | I7: 1 | J7: Nord-ovest | K7: Piemonte | L7: Torino | M7: 3 | N7: 0 | O7: TO | P7: 1007 | Q7: 1007 | R7: 1007 | S7: 1007 | T7: 1007 | U7: A221 | V7: ITC | W7: ITC1 | X7: ITC11 | Y7: ITC | Z7: ITC1 | AA7: ITC11
A8: 01 | B8: 201 | C8: 001 | D8: 008 | E8: 001008 | F8: Alpignano | G8: Alpignano | I8: 1 | J8: Nord-ovest | K8: Piemonte | L8: Torino | M8: 3 | N8: 0 | O8: TO | P8: 1008 | Q8: 1008 | R8: 1008 | S8: 1008 | T8: 1008 | U8: A222 | V8: ITC | W8: ITC1 | X8: ITC11 | Y8: ITC | Z8: ITC1 | AA8: ITC11
A9: 01 | B9: 201 | C9: 001 | D9: 009 | E9: 001009 | F9: Andezeno | G9: Andezeno | I9: 1 | J9: Nord-ovest | K9: Piemonte | L9: Torino | M9: 3 | N9: 0 | O9: TO | P9: 1009 | Q9: 1009 | R9: 1009 | S9: 1009 | T9: 1009 | U9: A275 | V9: ITC | W9: ITC1 | X9: ITC11 | Y9: ITC | Z9: ITC1 | AA9: ITC11
A10: 01 | B10: 201 | C10: 001 | D10: 010 | E10: 001010 | F10: Andrate | G10: Andrate | I10: 1 | J10: Nord-ovest | K10: Piemonte | L10: Torino | M10: 3 | N10: 0 | O10: TO | P10: 1010 | Q10: 1010 | R10: 1010 | S10: 1010 | T10: 1010 | U10: A282 | V10: ITC | W10: ITC1 | X10: ITC11 | Y10: ITC | Z10: ITC1 | AA10: ITC11
A11: 01 | B11: 201 | C11: 001 | D11: 011 | E11: 001011 | F11: Angrogna | G11: Angrogna | I11: 1 | J11: Nord-ovest | K11: Piemonte | L11: Torino | M11: 3 | N11: 0 | O11: TO | P11: 1011 | Q11: 1011 | R11: 1011 | S11: 1011 | T11: 1011 | U11: A295 | V11: ITC | W11: ITC1 | X11: ITC11 | Y11: ITC | Z11: ITC1 | AA11: ITC11
A12: 01 | B12: 201 | C12: 001 | D12: 012 | E12: 001012 | F12: Arignano | G12: Arignano | I12: 1 | J12: Nord-ovest | K12: Piemonte | L12: Torino | M12: 3 | N12: 0 | O12: TO | P12: 1012 | Q12: 1012 | R12: 1012 | S12: 1012 | T12: 1012 | U12: A405 | V12: ITC | W12: ITC1 | X12: ITC11 | Y12: ITC | Z12: ITC1 | AA12: ITC11
A13: 01 | B13: 201 | C13: 001 | D13: 013 | E13: 001013 | F13: Avigliana | G13: Avigliana | I13: 1 | J13: Nord-ovest | K13: Piemonte | L13: Torino | M13: 3 | N13: 0 | O13: TO | P13: 1013 | Q13: 1013 | R13: 1013 | S13: 1013 | T13: 1013 | U13: A518 | V13: ITC | W13: ITC1 | X13: ITC11 | Y13: ITC | Z13: ITC1 | AA13: ITC11
... A2643: 03 | B2643: 020 | C2643: 020 | D2643: 073 | E2643: 020073 | F2643: Borgocarbonara | G2643: Borgocarbonara | I2643: 1 | J2643: Nord-ovest | K2643: Lombardia | L2643: Mantova | M2643: 1 | N2643: 0 | O2643: MN | P2643: 20073 | Q2643: 20073 | R2643: 20073 | S2643: 20073 | T2643: 20073 | U2643: M406 | V2643: ITC | W2643: ITC4 | X2643: ITC4B | Y2643: ITC | Z2643: ITC4 | AA2643: ITC4B
A2644: 04 | B2644: 021 | C2644: 021 | D2644: 001 | E2644: 021001 | F2644: Aldino/Aldein | G2644: Aldino | H2644: Aldein | I2644: 2 | J2644: Nord-est | K2644: Trentino-Alto Adige/Südtirol | L2644: Bolzano/Bozen | M2644: 2 | N2644: 0 | O2644: BZ | P2644: 21001 | Q2644: 21001 | R2644: 21001 | S2644: 21001 | T2644: 21001 | U2644: A179 | V2644: ITH | W2644: ITH1 | X2644: ITH10 | Y2644: ITH | Z2644: ITH1 | AA2644: ITH10
A2645: 04 | B2645: 021 | C2645: 021 | D2645: 002 | E2645: 021002 | F2645: Andriano/Andrian | G2645: Andriano | H2645: Andrian | I2645: 2 | J2645: Nord-est | K2645: Trentino-Alto Adige/Südtirol | L2645: Bolzano/Bozen | M2645: 2 | N2645: 0 | O2645: BZ | P2645: 21002 | Q2645: 21002 | R2645: 21002 | S2645: 21002 | T2645: 21002 | U2645: A286 | V2645: ITH | W2645: ITH1 | X2645: ITH10 | Y2645: ITH | Z2645: ITH1 | AA2645: ITH10
A2646: 04 | B2646: 021 | C2646: 021 | D2646: 003 | E2646: 021003 | F2646: Anterivo/Altrei | G2646: Anterivo | H2646: Altrei | I2646: 2 | J2646: Nord-est | K2646: Trentino-Alto Adige/Südtirol | L2646: Bolzano/Bozen | M2646: 2 | N2646: 0 | O2646: BZ | P2646: 21003 | Q2646: 21003 | R2646: 21003 | S2646: 21003 | T2646: 21003 | U2646: A306 | V2646: ITH | W2646: ITH1 | X2646: ITH10 | Y2646: ITH | Z2646: ITH1 | AA2646: ITH10
A2647: 04 | B2647: 021 | C2647: 021 | D2647: 004 | E2647: 021004 | F2647: Appiano sulla strada del vino/Eppan an der Weinstraße | G2647: Appiano sulla strada del vino | H2647: Eppan an der Weinstraße | I2647: 2 | J2647: Nord-est | K2647: Trentino-Alto Adige/Südtirol | L2647: Bolzano/Bozen | M2647: 2 | N2647: 0 | O2647: BZ | P2647: 21004 | Q2647: 21004 | R2647: 21004 | S2647: 21004 | T2647: 21004 | U2647: A332 | V2647: ITH | W2647: ITH1 | X2647: ITH10 | Y2647: ITH | Z2647: ITH1 | AA2647: ITH10
A2648: 04 | B2648: 021 | C2648: 021 | D2648: 005 | E2648: 021005 | F2648: Avelengo/Hafling | G2648: Avelengo | H2648: Hafling | I2648: 2 | J2648: Nord-est | K2648: Trentino-Alto Adige/Südtirol | L2648: Bolzano/Bozen | M2648: 2 | N2648: 0 | O2648: BZ | P2648: 21005 | Q2648: 21005 | R2648: 21005 | S2648: 21005 | T2648: 21005 | U2648: A507 | V2648: ITH | W2648: ITH1 | X2648: ITH10 | Y2648: ITH | Z2648: ITH1 | AA2648: ITH10
A2649: 04 | B2649: 021 | C2649: 021 | D2649: 006 | E2649: 021006 | F2649: Badia/Abtei | G2649: Badia | H2649: Abtei | I2649: 2 | J2649: Nord-est | K2649: Trentino-Alto Adige/Südtirol | L2649: Bolzano/Bozen | M2649: 2 | N2649: 0 | O2649: BZ | P2649: 21006 | Q2649: 21006 | R2649: 21006 | S2649: 21006 | T2649: 21006 | U2649: A537 | V2649: ITH | W2649: ITH1 | X2649: ITH10 | Y2649: ITH | Z2649: ITH1 | AA2649: ITH10
A2650: 04 | B2650: 021 | C2650: 021 | D2650: 007 | E2650: 021007 | F2650: Barbiano/Barbian | G2650: Barbiano | H2650: Barbian | I2650: 2 | J2650: Nord-est | K2650: Trentino-Alto Adige/Südtirol | L2650: Bolzano/Bozen | M2650: 2 | N2650: 0 | O2650: BZ | P2650: 21007 | Q2650: 21007 | R2650: 21007 | S2650: 21007 | T2650: 21007 | U2650: A635 | V2650: ITH | W2650: ITH1 | X2650: ITH10 | Y2650: ITH | Z2650: ITH1 | AA2650: ITH10
A2651: 04 | B2651: 021 | C2651: 021 | D2651: 008 | E2651: 021008 | F2651: Bolzano/Bozen | G2651: Bolzano | H2651: Bozen | I2651: 2 | J2651: Nord-est | K2651: Trentino-Alto Adige/Südtirol | L2651: Bolzano/Bozen | M2651: 2 | N2651: 1 | O2651: BZ | P2651: 21008 | Q2651: 21008 | R2651: 21008 | S2651: 21008 | T2651: 21008 | U2651: A952 | V2651: ITH | W2651: ITH1 | X2651: ITH10 | Y2651: ITH | Z2651: ITH1 | AA2651: ITH10
A2652: 04 | B2652: 021 | C2652: 021 | D2652: 009 | E2652: 021009 | F2652: Braies/Prags | G2652: Braies | H2652: Prags | I2652: 2 | J2652: Nord-est | K2652: Trentino-Alto Adige/Südtirol | L2652: Bolzano/Bozen | M2652: 2 | N2652: 0 | O2652: BZ | P2652: 21009 | Q2652: 21009 | R2652: 21009 | S2652: 21009 | T2652: 21009 | U2652: B116 | V2652: ITH | W2652: ITH1 | X2652: ITH10 | Y2652: ITH | Z2652: ITH1 | AA2652: ITH10
A2653: 04 | B2653: 021 | C2653: 021 | D2653: 010 | E2653: 021010 | F2653: Brennero/Brenner | G2653: Brennero | H2653: Brenner | I2653: 2 | J2653: Nord-est | K2653: Trentino-Alto Adige/Südtirol | L2653: Bolzano/Bozen | M2653: 2 | N2653: 0 | O2653: BZ | P2653: 21010 | Q2653: 21010 | R2653: 21010 | S2653: 21010 | T2653: 21010 | U2653: B145 | V2653: ITH | W2653: ITH1 | X2653: ITH10 | Y2653: ITH | Z2653: ITH1 | AA2653: ITH10
A2654: 04 | B2654: 021 | C2654: 021 | D2654: 011 | E2654: 021011 | F2654: Bressanone/Brixen | G2654: Bressanone | H2654: Brixen | I2654: 2 | J2654: Nord-est | K2654: Trentino-Alto Adige/Südtirol | L2654: Bolzano/Bozen | M2654: 2 | N2654: 0 | O2654: BZ | P2654: 21011 | Q2654: 21011 | R2654: 21011 | S2654: 21011 | T2654: 21011 | U2654: B160 | V2654: ITH | W2654: ITH1 | X2654: ITH10 | Y2654: ITH | Z2654: ITH1 | AA2654: ITH10
A2655: 04 | B2655: 021 | C2655: 021 | D2655: 012 | E2655: 021012 | F2655: Bronzolo/Branzoll | G2655: Bronzolo | H2655: Branzoll | I2655: 2 | J2655: Nord-est | K2655: Trentino-Alto Adige/Südtirol | L2655: Bolzano/Bozen | M2655: 2 | N2655: 0 | O2655: BZ | P2655: 21012 | Q2655: 21012 | R2655: 21012 | S2655: 21012 | T2655: 21012 | U2655: B203 | V2655: ITH | W2655: ITH1 | X2655: ITH10 | Y2655: ITH | Z2655: ITH1 | AA2655: ITH10
... A2759: 04 | B2759: 021 | C2759: 021 | D2759: 118 | E2759: 021118 | F2759: Senale-San Felice/Unsere Liebe Frau im Walde-St. Felix | G2759: Senale-San Felice | H2759: Unsere Liebe Frau im Walde-St. Felix | I2759: 2 | J2759: Nord-est | K2759: Trentino-Alto Adige/Südtirol | L2759: Bolzano/Bozen | M2759: 2 | N2759: 0 | O2759: BZ | P2759: 21118 | Q2759: 21118 | R2759: 21118 | S2759: 21118 | T2759: 21118 | U2759: I603 | V2759: ITH | W2759: ITH1 | X2759: ITH10 | Y2759: ITH | Z2759: ITH1 | AA2759: ITH10
A2760: 04 | B2760: 022 | C2760: 022 | D2760: 001 | E2760: 022001 | F2760: Ala | G2760: Ala | I2760: 2 | J2760: Nord-est | K2760: Trentino-Alto Adige/Südtirol | L2760: Trento | M2760: 2 | N2760: 0 | O2760: TN | P2760: 22001 | Q2760: 22001 | R2760: 22001 | S2760: 22001 | T2760: 22001 | U2760: A116 | V2760: ITH | W2760: ITH2 | X2760: ITH20 | Y2760: ITH | Z2760: ITH2 | AA2760: ITH20
A2761: 04 | B2761: 022 | C2761: 022 | D2761: 002 | E2761: 022002 | F2761: Albiano | G2761: Albiano | I2761: 2 | J2761: Nord-est | K2761: Trentino-Alto Adige/Südtirol | L2761: Trento | M2761: 2 | N2761: 0 | O2761: TN | P2761: 22002 | Q2761: 22002 | R2761: 22002 | S2761: 22002 | T2761: 22002 | U2761: A158 | V2761: ITH | W2761: ITH2 | X2761: ITH20 | Y2761: ITH | Z2761: ITH2 | AA2761: ITH20
A2762: 04 | B2762: 022 | C2762: 022 | D2762: 003 | E2762: 022003 | F2762: Aldeno | G2762: Aldeno | I2762: 2 | J2762: Nord-est | K2762: Trentino-Alto Adige/Südtirol | L2762: Trento | M2762: 2 | N2762: 0 | O2762: TN | P2762: 22003 | Q2762: 22003 | R2762: 22003 | S2762: 22003 | T2762: 22003 | U2762: A178 | V2762: ITH | W2762: ITH2 | X2762: ITH20 | Y2762: ITH | Z2762: ITH2 | AA2762: ITH20
A2763: 04 | B2763: 022 | C2763: 022 | D2763: 005 | E2763: 022005 | F2763: Andalo | G2763: Andalo | I2763: 2 | J2763: Nord-est | K2763: Trentino-Alto Adige/Südtirol | L2763: Trento | M2763: 2 | N2763: 0 | O2763: TN | P2763: 22005 | Q2763: 22005 | R2763: 22005 | S2763: 22005 | T2763: 22005 | U2763: A274 | V2763: ITH | W2763: ITH2 | X2763: ITH20 | Y2763: ITH | Z2763: ITH2 | AA2763: ITH20
A2764: 04 | B2764: 022 | C2764: 022 | D2764: 006 | E2764: 022006 | F2764: Arco | G2764: Arco | I2764: 2 | J2764: Nord-est | K2764: Trentino-Alto Adige/Südtirol | L2764: Trento | M2764: 2 | N2764: 0 | O2764: TN | P2764: 22006 | Q2764: 22006 | R2764: 22006 | S2764: 22006 | T2764: 22006 | U2764: A372 | V2764: ITH | W2764: ITH2 | X2764: ITH20 | Y2764: ITH | Z2764: ITH2 | AA2764: ITH20
A2765: 04 | B2765: 022 | C2765: 022 | D2765: 007 | E2765: 022007 | F2765: Avio | G2765: Avio | I2765: 2 | J2765: Nord-est | K2765: Trentino-Alto Adige/Südtirol | L2765: Trento | M2765: 2 | N2765: 0 | O2765: TN | P2765: 22007 | Q2765: 22007 | R2765: 22007 | S2765: 22007 | T2765: 22007 | U2765: A520 | V2765: ITH | W2765: ITH2 | X2765: ITH20 | Y2765: ITH | Z2765: ITH2 | AA2765: ITH20
A2766: 04 | B2766: 022 | C2766: 022 | D2766: 009 | E2766: 022009 | F2766: Baselga di Pinè | G2766: Baselga di Pinè | I2766: 2 | J2766: Nord-est | K2766: Trentino-Alto Adige/Südtirol | L2766: Trento | M2766: 2 | N2766: 0 | O2766: TN | P2766: 22009 | Q2766: 22009 | R2766: 22009 | S2766: 22009 | T2766: 22009 | U2766: A694 | V2766: ITH | W2766: ITH2 | X2766: ITH20 | Y2766: ITH | Z2766: ITH2 | AA2766: ITH20
A2767: 04 | B2767: 022 | C2767: 022 | D2767: 011 | E2767: 022011 | F2767: Bedollo | G2767: Bedollo | I2767: 2 | J2767: Nord-est | K2767: Trentino-Alto Adige/Südtirol | L2767: Trento | M2767: 2 | N2767: 0 | O2767: TN | P2767: 22011 | Q2767: 22011 | R2767: 22011 | S2767: 22011 | T2767: 22011 | U2767: A730 | V2767: ITH | W2767: ITH2 | X2767: ITH20 | Y2767: ITH | Z2767: ITH2 | AA2767: ITH20
A2768: 04 | B2768: 022 | C2768: 022 | D2768: 013 | E2768: 022013 | F2768: Besenello | G2768: Besenello | I2768: 2 | J2768: Nord-est | K2768: Trentino-Alto Adige/Südtirol | L2768: Trento | M2768: 2 | N2768: 0 | O2768: TN | P2768: 22013 | Q2768: 22013 | R2768: 22013 | S2768: 22013 | T2768: 22013 | U2768: A821 | V2768: ITH | W2768: ITH2 | X2768: ITH20 | Y2768: ITH | Z2768: ITH2 | AA2768: ITH20
A2769: 04 | B2769: 022 | C2769: 022 | D2769: 015 | E2769: 022015 | F2769: Bieno | G2769: Bieno | I2769: 2 | J2769: Nord-est | K2769: Trentino-Alto Adige/Südtirol | L2769: Trento | M2769: 2 | N2769: 0 | O2769: TN | P2769: 22015 | Q2769: 22015 | R2769: 22015 | S2769: 22015 | T2769: 22015 | U2769: A863 | V2769: ITH | W2769: ITH2 | X2769: ITH20 | Y2769: ITH | Z2769: ITH2 | AA2769: ITH20
A2770: 04 | B2770: 022 | C2770: 022 | D2770: 017 | E2770: 022017 | F2770: Bleggio Superiore | G2770: Bleggio Superiore | I2770: 2 | J2770: Nord-est | K2770: Trentino-Alto Adige/Südtirol | L2770: Trento | M2770: 2 | N2770: 0 | O2770: TN | P2770: 22017 | Q2770: 22017 | R2770: 22017 | S2770: 22017 | T2770: 22017 | U2770: A902 | V2770: ITH | W2770: ITH2 | X2770: ITH20 | Y2770: ITH | Z2770: ITH2 | AA2770: ITH20
A2771: 04 | B2771: 022 | C2771: 022 | D2771: 018 | E2771: 022018 | F2771: Bocenago | G2771: Bocenago | I2771: 2 | J2771: Nord-est | K2771: Trentino-Alto Adige/Südtirol | L2771: Trento | M2771: 2 | N2771: 0 | O2771: TN | P2771: 22018 | Q2771: 22018 | R2771: 22018 | S2771: 22018 | T2771: 22018 | U2771: A916 | V2771: ITH | W2771: ITH2 | X2771: ITH20 | Y2771: ITH | Z2771: ITH2 | AA2771: ITH20
... A2920: 04 | B2920: 022 | C2920: 022 | D2920: 249 | E2920: 022249 | F2920: Ville d'Anaunia | G2920: Ville d'Anaunia | I2920: 2 | J2920: Nord-est | K2920: Trentino-Alto Adige/Südtirol | L2920: Trento | M2920: 2 | N2920: 0 | O2920: TN | P2920: 22249 | Q2920: 22249 | R2920: 22249 | S2920: 22249 | T2920: 22249 | U2920: M363 | V2920: ITH | W2920: ITH2 | X2920: ITH20 | Y2920: ITH | Z2920: ITH2 | AA2920: ITH20
A2921: 04 | B2921: 022 | C2921: 022 | D2921: 250 | E2921: 022250 | F2921: San Giovanni di Fassa-Sèn Jan | G2921: San Giovanni di Fassa | H2921: Sèn Jan | I2921: 2 | J2921: Nord-est | K2921: Trentino-Alto Adige/Südtirol | L2921: Trento | M2921: 2 | N2921: 0 | O2921: TN | P2921: 22250 | Q2921: 22250 | R2921: 22250 | S2921: 22250 | T2921: 22250 | U2921: M390 | V2921: ITH | W2921: ITH2 | X2921: ITH20 | Y2921: ITH | Z2921: ITH2 | AA2921: ITH20
A2922: 04 | B2922: 022 | C2922: 022 | D2922: 251 | E2922: 022251 | F2922: Terre d'Adige | G2922: Terre d'Adige | I2922: 2 | J2922: Nord-est | K2922: Trentino-Alto Adige/Südtirol | L2922: Trento | M2922: 2 | N2922: 0 | O2922: TN | P2922: 22251 | Q2922: 22251 | R2922: 22251 | S2922: 22251 | T2922: 22251 | U2922: M407 | V2922: ITH | W2922: ITH2 | X2922: ITH20 | Y2922: ITH | Z2922: ITH2 | AA2922: ITH20
A2923: 04 | B2923: 022 | C2923: 022 | D2923: 252 | E2923: 022252 | F2923: Borgo d'Anaunia | G2923: Borgo d'Anaunia | I2923: 2 | J2923: Nord-est | K2923: Trentino-Alto Adige/Südtirol | L2923: Trento | M2923: 2 | N2923: 0 | O2923: TN | P2923: 22252 | Q2923: 22252 | R2923: 22252 | S2923: 22252 | T2923: 22252 | U2923: M429 | V2923: ITH | W2923: ITH2 | X2923: ITH20 | Y2923: ITH | Z2923: ITH2 | AA2923: ITH20
A2924: 04 | B2924: 022 | C2924: 022 | D2924: 253 | E2924: 022253 | F2924: Novella | G2924: Novella | I2924: 2 | J2924: Nord-est | K2924: Trentino-Alto Adige/Südtirol | L2924: Trento | M2924: 2 | N2924: 0 | O2924: TN | P2924: 22253 | Q2924: 22253 | R2924: 22253 | S2924: 22253 | T2924: 22253 | U2924: M430 | V2924: ITH | W2924: ITH2 | X2924: ITH20 | Y2924: ITH | Z2924: ITH2 | AA2924: ITH20
A2925: 04 | B2925: 022 | C2925: 022 | D2925: 254 | E2925: 022254 | F2925: Ville di Fiemme | G2925: Ville di Fiemme | I2925: 2 | J2925: Nord-est | K2925: Trentino-Alto Adige/Südtirol | L2925: Trento | M2925: 2 | N2925: 0 | O2925: TN | P2925: 22254 | Q2925: 22254 | R2925: 22254 | S2925: 22254 | T2925: 22254 | U2925: M431 | V2925: ITH | W2925: ITH2 | X2925: ITH20 | Y2925: ITH | Z2925: ITH2 | AA2925: ITH20
A2926: 05 | B2926: 023 | C2926: 023 | D2926: 001 | E2926: 023001 | F2926: Affi | G2926: Affi | I2926: 2 | J2926: Nord-est | K2926: Veneto | L2926: Verona | M2926: 1 | N2926: 0 | O2926: VR | P2926: 23001 | Q2926: 23001 | R2926: 23001 | S2926: 23001 | T2926: 23001 | U2926: A061 | V2926: ITH | W2926: ITH3 | X2926: ITH31 | Y2926: ITH | Z2926: ITH3 | AA2926: ITH31
A2927: 05 | B2927: 023 | C2927: 023 | D2927: 002 | E2927: 023002 | F2927: Albaredo d'Adige | G2927: Albaredo d'Adige | I2927: 2 | J2927: Nord-est | K2927: Veneto | L2927: Verona | M2927: 1 | N2927: 0 | O2927: VR | P2927: 23002 | Q2927: 23002 | R2927: 23002 | S2927: 23002 | T2927: 23002 | U2927: A137 | V2927: ITH | W2927: ITH3 | X2927: ITH31 | Y2927: ITH | Z2927: ITH3 | AA2927: ITH31
A2928: 05 | B2928: 023 | C2928: 023 | D2928: 003 | E2928: 023003 | F2928: Angiari | G2928: Angiari | I2928: 2 | J2928: Nord-est | K2928: Veneto | L2928: Verona | M2928: 1 | N2928: 0 | O2928: VR | P2928: 23003 | Q2928: 23003 | R2928: 23003 | S2928: 23003 | T2928: 23003 | U2928: A292 | V2928: ITH | W2928: ITH3 | X2928: ITH31 | Y2928: ITH | Z2928: ITH3 | AA2928: ITH31
A2929: 05 | B2929: 023 | C2929: 023 | D2929: 004 | E2929: 023004 | F2929: Arcole | G2929: Arcole | I2929: 2 | J2929: Nord-est | K2929: Veneto | L2929: Verona | M2929: 1 | N2929: 0 | O2929: VR | P2929: 23004 | Q2929: 23004 | R2929: 23004 | S2929: 23004 | T2929: 23004 | U2929: A374 | V2929: ITH | W2929: ITH3 | X2929: ITH31 | Y2929: ITH | Z2929: ITH3 | AA2929: ITH31
A2930: 05 | B2930: 023 | C2930: 023 | D2930: 005 | E2930: 023005 | F2930: Badia Calavena | G2930: Badia Calavena | I2930: 2 | J2930: Nord-est | K2930: Veneto | L2930: Verona | M2930: 1 | N2930: 0 | O2930: VR | P2930: 23005 | Q2930: 23005 | R2930: 23005 | S2930: 23005 | T2930: 23005 | U2930: A540 | V2930: ITH | W2930: ITH3 | X2930: ITH31 | Y2930: ITH | Z2930: ITH3 | AA2930: ITH31
A2931: 05 | B2931: 023 | C2931: 023 | D2931: 006 | E2931: 023006 | F2931: Bardolino | G2931: Bardolino | I2931: 2 | J2931: Nord-est | K2931: Veneto | L2931: Verona | M2931: 1 | N2931: 0 | O2931: VR | P2931: 23006 | Q2931: 23006 | R2931: 23006 | S2931: 23006 | T2931: 23006 | U2931: A650 | V2931: ITH | W2931: ITH3 | X2931: ITH31 | Y2931: ITH | Z2931: ITH3 | AA2931: ITH31
A2932: 05 | B2932: 023 | C2932: 023 | D2932: 007 | E2932: 023007 | F2932: Belfiore | G2932: Belfiore | I2932: 2 | J2932: Nord-est | K2932: Veneto | L2932: Verona | M2932: 1 | N2932: 0 | O2932: VR | P2932: 23007 | Q2932: 23007 | R2932: 23007 | S2932: 23007 | T2932: 23007 | U2932: A737 | V2932: ITH | W2932: ITH3 | X2932: ITH31 | Y2932: ITH | Z2932: ITH3 | AA2932: ITH31
A2933: 05 | B2933: 023 | C2933: 023 | D2933: 008 | E2933: 023008 | F2933: Bevilacqua | G2933: Bevilacqua | I2933: 2 | J2933: Nord-est | K2933: Veneto | L2933: Verona | M2933: 1 | N2933: 0 | O2933: VR | P2933: 23008 | Q2933: 23008 | R2933: 23008 | S2933: 23008 | T2933: 23008 | U2933: A837 | V2933: ITH | W2933: ITH3 | X2933: ITH31 | Y2933: ITH | Z2933: ITH3 | AA2933: ITH31
... A3620: 06 | B3620: 031 | C3620: 031 | D3620: 002 | E3620: 031002 | F3620: Cormons | G3620: Cormons | I3620: 2 | J3620: Nord-est | K3620: Friuli-Venezia Giulia | L3620: Gorizia | M3620: 5 | N3620: 0 | O3620: GO | P3620: 31002 | Q3620: 31002 | R3620: 31002 | S3620: 31002 | T3620: 31002 | U3620: D014 | V3620: ITH | W3620: ITH4 | X3620: ITH43 | Y3620: ITH | Z3620: ITH4 | AA3620: ITH43
A3621: 06 | B3621: 031 | C3621: 031 | D3621: 003 | E3621: 031003 | F3621: Doberdò del Lago-Doberdob | G3621: Doberdò del Lago | H3621: Doberdob | I3621: 2 | J3621: Nord-est | K3621: Friuli-Venezia Giulia | L3621: Gorizia | M3621: 5 | N3621: 0 | O3621: GO | P3621: 31003 | Q3621: 31003 | R3621: 31003 | S3621: 31003 | T3621: 31003 | U3621: D312 | V3621: ITH | W3621: ITH4 | X3621: ITH43 | Y3621: ITH | Z3621: ITH4 | AA3621: ITH43
A3622: 06 | B3622: 031 | C3622: 031 | D3622: 004 | E3622: 031004 | F3622: Dolegna del Collio | G3622: Dolegna del Collio | I3622: 2 | J3622: Nord-est | K3622: Friuli-Venezia Giulia | L3622: Gorizia | M3622: 5 | N3622: 0 | O3622: GO | P3622: 31004 | Q3622: 31004 | R3622: 31004 | S3622: 31004 | T3622: 31004 | U3622: D321 | V3622: ITH | W3622: ITH4 | X3622: ITH43 | Y3622: ITH | Z3622: ITH4 | AA3622: ITH43
A3623: 06 | B3623: 031 | C3623: 031 | D3623: 005 | E3623: 031005 | F3623: Farra d'Isonzo | G3623: Farra d'Isonzo | I3623: 2 | J3623: Nord-est | K3623: Friuli-Venezia Giulia | L3623: Gorizia | M3623: 5 | N3623: 0 | O3623: GO | P3623: 31005 | Q3623: 31005 | R3623: 31005 | S3623: 31005 | T3623: 31005 | U3623: D504 | V3623: ITH | W3623: ITH4 | X3623: ITH43 | Y3623: ITH | Z3623: ITH4 | AA3623: ITH43
A3624: 06 | B3624: 031 | C3624: 031 | D3624: 006 | E3624: 031006 | F3624: Fogliano Redipuglia | G3624: Fogliano Redipuglia | I3624: 2 | J3624: Nord-est | K3624: Friuli-Venezia Giulia | L3624: Gorizia | M3624: 5 | N3624: 0 | O3624: GO | P3624: 31006 | Q3624: 31006 | R3624: 31006 | S3624: 31006 | T3624: 31006 | U3624: D645 | V3624: ITH | W3624: ITH4 | X3624: ITH43 | Y3624: ITH | Z3624: ITH4 | AA3624: ITH43
A3625: 06 | B3625: 031 | C3625: 031 | D3625: 007 | E3625: 031007 | F3625: Gorizia | G3625: Gorizia | I3625: 2 | J3625: Nord-est | K3625: Friuli-Venezia Giulia | L3625: Gorizia | M3625: 5 | N3625: 1 | O3625: GO | P3625: 31007 | Q3625: 31007 | R3625: 31007 | S3625: 31007 | T3625: 31007 | U3625: E098 | V3625: ITH | W3625: ITH4 | X3625: ITH43 | Y3625: ITH | Z3625: ITH4 | AA3625: ITH43
A3626: 06 | B3626: 031 | C3626: 031 | D3626: 008 | E3626: 031008 | F3626: Gradisca d'Isonzo | G3626: Gradisca d'Isonzo | I3626: 2 | J3626: Nord-est | K3626: Friuli-Venezia Giulia | L3626: Gorizia | M3626: 5 | N3626: 0 | O3626: GO | P3626: 31008 | Q3626: 31008 | R3626: 31008 | S3626: 31008 | T3626: 31008 | U3626: E124 | V3626: ITH | W3626: ITH4 | X3626: ITH43 | Y3626: ITH | Z3626: ITH4 | AA3626: ITH43
A3627: 06 | B3627: 031 | C3627: 031 | D3627: 009 | E3627: 031009 | F3627: Grado | G3627: Grado | I3627: 2 | J3627: Nord-est | K3627: Friuli-Venezia Giulia | L3627: Gorizia | M3627: 5 | N3627: 0 | O3627: GO | P3627: 31009 | Q3627: 31009 | R3627: 31009 | S3627: 31009 | T3627: 31009 | U3627: E125 | V3627: ITH | W3627: ITH4 | X3627: ITH43 | Y3627: ITH | Z3627: ITH4 | AA3627: ITH43
A3628: 06 | B3628: 031 | C3628: 031 | D3628: 010 | E3628: 031010 | F3628: Mariano del Friuli | G3628: Mariano del Friuli | I3628: 2 | J3628: Nord-est | K3628: Friuli-Venezia Giulia | L3628: Gorizia | M3628: 5 | N3628: 0 | O3628: GO | P3628: 31010 | Q3628: 31010 | R3628: 31010 | S3628: 31010 | T3628: 31010 | U3628: E952 | V3628: ITH | W3628: ITH4 | X3628: ITH43 | Y3628: ITH | Z3628: ITH4 | AA3628: ITH43
A3629: 06 | B3629: 031 | C3629: 031 | D3629: 011 | E3629: 031011 | F3629: Medea | G3629: Medea | I3629: 2 | J3629: Nord-est | K3629: Friuli-Venezia Giulia | L3629: Gorizia | M3629: 5 | N3629: 0 | O3629: GO | P3629: 31011 | Q3629: 31011 | R3629: 31011 | S3629: 31011 | T3629: 31011 | U3629: F081 | V3629: ITH | W3629: ITH4 | X3629: ITH43 | Y3629: ITH | Z3629: ITH4 | AA3629: ITH43
A3630: 06 | B3630: 031 | C3630: 031 | D3630: 012 | E3630: 031012 | F3630: Monfalcone | G3630: Monfalcone | I3630: 2 | J3630: Nord-est | K3630: Friuli-Venezia Giulia | L3630: Gorizia | M3630: 5 | N3630: 0 | O3630: GO | P3630: 31012 | Q3630: 31012 | R3630: 31012 | S3630: 31012 | T3630: 31012 | U3630: F356 | V3630: ITH | W3630: ITH4 | X3630: ITH43 | Y3630: ITH | Z3630: ITH4 | AA3630: ITH43
A3631: 06 | B3631: 031 | C3631: 031 | D3631: 013 | E3631: 031013 | F3631: Moraro | G3631: Moraro | I3631: 2 | J3631: Nord-est | K3631: Friuli-Venezia Giulia | L3631: Gorizia | M3631: 5 | N3631: 0 | O3631: GO | P3631: 31013 | Q3631: 31013 | R3631: 31013 | S3631: 31013 | T3631: 31013 | U3631: F710 | V3631: ITH | W3631: ITH4 | X3631: ITH43 | Y3631: ITH | Z3631: ITH4 | AA3631: ITH43
A3632: 06 | B3632: 031 | C3632: 031 | D3632: 014 | E3632: 031014 | F3632: Mossa | G3632: Mossa | I3632: 2 | J3632: Nord-est | K3632: Friuli-Venezia Giulia | L3632: Gorizia | M3632: 5 | N3632: 0 | O3632: GO | P3632: 31014 | Q3632: 31014 | R3632: 31014 | S3632: 31014 | T3632: 31014 | U3632: F767 | V3632: ITH | W3632: ITH4 | X3632: ITH43 | Y3632: ITH | Z3632: ITH4 | AA3632: ITH43
A3633: 06 | B3633: 031 | C3633: 031 | D3633: 015 | E3633: 031015 | F3633: Romans d'Isonzo | G3633: Romans d'Isonzo | I3633: 2 | J3633: Nord-est | K3633: Friuli-Venezia Giulia | L3633: Gorizia | M3633: 5 | N3633: 0 | O3633: GO | P3633: 31015 | Q3633: 31015 | R3633: 31015 | S3633: 31015 | T3633: 31015 | U3633: H514 | V3633: ITH | W3633: ITH4 | X3633: ITH43 | Y3633: ITH | Z3633: ITH4 | AA3633: ITH43
... A3636: 06 | B3636: 031 | C3636: 031 | D3636: 018 | E3636: 031018 | F3636: San Canzian d'Isonzo | G3636: San Canzian d'Isonzo | I3636: 2 | J3636: Nord-est | K3636: Friuli-Venezia Giulia | L3636: Gorizia | M3636: 5 | N3636: 0 | O3636: GO | P3636: 31018 | Q3636: 31018 | R3636: 31018 | S3636: 31018 | T3636: 31018 | U3636: H787 | V3636: ITH | W3636: ITH4 | X3636: ITH43 | Y3636: ITH | Z3636: ITH4 | AA3636: ITH43
A3637: 06 | B3637: 031 | C3637: 031 | D3637: 019 | E3637: 031019 | F3637: San Floriano del Collio-Števerjan | G3637: San Floriano del Collio | H3637: Števerjan | I3637: 2 | J3637: Nord-est | K3637: Friuli-Venezia Giulia | L3637: Gorizia | M3637: 5 | N3637: 0 | O3637: GO | P3637: 31019 | Q3637: 31019 | R3637: 31019 | S3637: 31019 | T3637: 31019 | U3637: H845 | V3637: ITH | W3637: ITH4 | X3637: ITH43 | Y3637: ITH | Z3637: ITH4 | AA3637: ITH43
A3638: 06 | B3638: 031 | C3638: 031 | D3638: 020 | E3638: 031020 | F3638: San Lorenzo Isontino | G3638: San Lorenzo Isontino | I3638: 2 | J3638: Nord-est | K3638: Friuli-Venezia Giulia | L3638: Gorizia | M3638: 5 | N3638: 0 | O3638: GO | P3638: 31020 | Q3638: 31020 | R3638: 31020 | S3638: 31020 | T3638: 31020 | U3638: H964 | V3638: ITH | W3638: ITH4 | X3638: ITH43 | Y3638: ITH | Z3638: ITH4 | AA3638: ITH43
A3639: 06 | B3639: 031 | C3639: 031 | D3639: 021 | E3639: 031021 | F3639: San Pier d'Isonzo | G3639: San Pier d'Isonzo | I3639: 2 | J3639: Nord-est | K3639: Friuli-Venezia Giulia | L3639: Gorizia | M3639: 5 | N3639: 0 | O3639: GO | P3639: 31021 | Q3639: 31021 | R3639: 31021 | S3639: 31021 | T3639: 31021 | U3639: I082 | V3639: ITH | W3639: ITH4 | X3639: ITH43 | Y3639: ITH | Z3639: ITH4 | AA3639: ITH43
A3640: 06 | B3640: 031 | C3640: 031 | D3640: 022 | E3640: 031022 | F3640: Savogna d'Isonzo-Sovodnje ob Soči | G3640: Savogna d'Isonzo | H3640: Sovodnje ob Soči | I3640: 2 | J3640: Nord-est | K3640: Friuli-Venezia Giulia | L3640: Gorizia | M3640: 5 | N3640: 0 | O3640: GO | P3640: 31022 | Q3640: 31022 | R3640: 31022 | S3640: 31022 | T3640: 31022 | U3640: I479 | V3640: ITH | W3640: ITH4 | X3640: ITH43 | Y3640: ITH | Z3640: ITH4 | AA3640: ITH43
A3641: 06 | B3641: 031 | C3641: 031 | D3641: 023 | E3641: 031023 | F3641: Staranzano | G3641: Staranzano | I3641: 2 | J3641: Nord-est | K3641: Friuli-Venezia Giulia | L3641: Gorizia | M3641: 5 | N3641: 0 | O3641: GO | P3641: 31023 | Q3641: 31023 | R3641: 31023 | S3641: 31023 | T3641: 31023 | U3641: I939 | V3641: ITH | W3641: ITH4 | X3641: ITH43 | Y3641: ITH | Z3641: ITH4 | AA3641: ITH43
A3642: 06 | B3642: 031 | C3642: 031 | D3642: 024 | E3642: 031024 | F3642: Turriaco | G3642: Turriaco | I3642: 2 | J3642: Nord-est | K3642: Friuli-Venezia Giulia | L3642: Gorizia | M3642: 5 | N3642: 0 | O3642: GO | P3642: 31024 | Q3642: 31024 | R3642: 31024 | S3642: 31024 | T3642: 31024 | U3642: L474 | V3642: ITH | W3642: ITH4 | X3642: ITH43 | Y3642: ITH | Z3642: ITH4 | AA3642: ITH43
A3643: 06 | B3643: 031 | C3643: 031 | D3643: 025 | E3643: 031025 | F3643: Villesse | G3643: Villesse | I3643: 2 | J3643: Nord-est | K3643: Friuli-Venezia Giulia | L3643: Gorizia | M3643: 5 | N3643: 0 | O3643: GO | P3643: 31025 | Q3643: 31025 | R3643: 31025 | S3643: 31025 | T3643: 31025 | U3643: M043 | V3643: ITH | W3643: ITH4 | X3643: ITH43 | Y3643: ITH | Z3643: ITH4 | AA3643: ITH43
A3644: 06 | B3644: 032 | C3644: 032 | D3644: 001 | E3644: 032001 | F3644: Duino Aurisina-Devin Nabrežina | G3644: Duino Aurisina | H3644: Devin Nabrežina | I3644: 2 | J3644: Nord-est | K3644: Friuli-Venezia Giulia | L3644: Trieste | M3644: 5 | N3644: 0 | O3644: TS | P3644: 32001 | Q3644: 32001 | R3644: 32001 | S3644: 32001 | T3644: 32001 | U3644: D383 | V3644: ITH | W3644: ITH4 | X3644: ITH44 | Y3644: ITH | Z3644: ITH4 | AA3644: ITH44
A3645: 06 | B3645: 032 | C3645: 032 | D3645: 002 | E3645: 032002 | F3645: Monrupino-Repentabor | G3645: Monrupino | H3645: Repentabor | I3645: 2 | J3645: Nord-est | K3645: Friuli-Venezia Giulia | L3645: Trieste | M3645: 5 | N3645: 0 | O3645: TS | P3645: 32002 | Q3645: 32002 | R3645: 32002 | S3645: 32002 | T3645: 32002 | U3645: F378 | V3645: ITH | W3645: ITH4 | X3645: ITH44 | Y3645: ITH | Z3645: ITH4 | AA3645: ITH44
A3646: 06 | B3646: 032 | C3646: 032 | D3646: 003 | E3646: 032003 | F3646: Muggia | G3646: Muggia | I3646: 2 | J3646: Nord-est | K3646: Friuli-Venezia Giulia | L3646: Trieste | M3646: 5 | N3646: 0 | O3646: TS | P3646: 32003 | Q3646: 32003 | R3646: 32003 | S3646: 32003 | T3646: 32003 | U3646: F795 | V3646: ITH | W3646: ITH4 | X3646: ITH44 | Y3646: ITH | Z3646: ITH4 | AA3646: ITH44
A3647: 06 | B3647: 032 | C3647: 032 | D3647: 004 | E3647: 032004 | F3647: San Dorligo della Valle-Dolina | G3647: San Dorligo della Valle | H3647: Dolina | I3647: 2 | J3647: Nord-est | K3647: Friuli-Venezia Giulia | L3647: Trieste | M3647: 5 | N3647: 0 | O3647: TS | P3647: 32004 | Q3647: 32004 | R3647: 32004 | S3647: 32004 | T3647: 32004 | U3647: D324 | V3647: ITH | W3647: ITH4 | X3647: ITH44 | Y3647: ITH | Z3647: ITH4 | AA3647: ITH44
A3648: 06 | B3648: 032 | C3648: 032 | D3648: 005 | E3648: 032005 | F3648: Sgonico-Zgonik | G3648: Sgonico | H3648: Zgonik | I3648: 2 | J3648: Nord-est | K3648: Friuli-Venezia Giulia | L3648: Trieste | M3648: 5 | N3648: 0 | O3648: TS | P3648: 32005 | Q3648: 32005 | R3648: 32005 | S3648: 32005 | T3648: 32005 | U3648: I715 | V3648: ITH | W3648: ITH4 | X3648: ITH44 | Y3648: ITH | Z3648: ITH4 | AA3648: ITH44
A3649: 06 | B3649: 032 | C3649: 032 | D3649: 006 | E3649: 032006 | F3649: Trieste | G3649: Trieste | I3649: 2 | J3649: Nord-est | K3649: Friuli-Venezia Giulia | L3649: Trieste | M3649: 5 | N3649: 1 | O3649: TS | P3649: 32006 | Q3649: 32006 | R3649: 32006 | S3649: 32006 | T3649: 32006 | U3649: L424 | V3649: ITH | W3649: ITH4 | X3649: ITH44 | Y3649: ITH | Z3649: ITH4 | AA3649: ITH44
A3650: 08 | B3650: 033 | C3650: 033 | D3650: 001 | E3650: 033001 | F3650: Agazzano | G3650: Agazzano | I3650: 2 | J3650: Nord-est | K3650: Emilia-Romagna | L3650: Piacenza | M3650: 1 | N3650: 0 | O3650: PC | P3650: 33001 | Q3650: 33001 | R3650: 33001 | S3650: 33001 | T3650: 33001 | U3650: A067 | V3650: ITH | W3650: ITH5 | X3650: ITH51 | Y3650: ITH | Z3650: ITH5 | AA3650: ITH51
A3651: 08 | B3651: 033 | C3651: 033 | D3651: 002 | E3651: 033002 | F3651: Alseno | G3651: Alseno | I3651: 2 | J3651: Nord-est | K3651: Emilia-Romagna | L3651: Piacenza | M3651: 1 | N3651: 0 | O3651: PC | P3651: 33002 | Q3651: 33002 | R3651: 33002 | S3651: 33002 | T3651: 33002 | U3651: A223 | V3651: ITH | W3651: ITH5 | X3651: ITH51 | Y3651: ITH | Z3651: ITH5 | AA3651: ITH51
A3652: 08 | B3652: 033 | C3652: 033 | D3652: 003 | E3652: 033003 | F3652: Besenzone | G3652: Besenzone | I3652: 2 | J3652: Nord-est | K3652: Emilia-Romagna | L3652: Piacenza | M3652: 1 | N3652: 0 | O3652: PC | P3652: 33003 | Q3652: 33003 | R3652: 33003 | S3652: 33003 | T3652: 33003 | U3652: A823 | V3652: ITH | W3652: ITH5 | X3652: ITH51 | Y3652: ITH | Z3652: ITH5 | AA3652: ITH51
A3653: 08 | B3653: 033 | C3653: 033 | D3653: 004 | E3653: 033004 | F3653: Bettola | G3653: Bettola | I3653: 2 | J3653: Nord-est | K3653: Emilia-Romagna | L3653: Piacenza | M3653: 1 | N3653: 0 | O3653: PC | P3653: 33004 | Q3653: 33004 | R3653: 33004 | S3653: 33004 | T3653: 33004 | U3653: A831 | V3653: ITH | W3653: ITH5 | X3653: ITH51 | Y3653: ITH | Z3653: ITH5 | AA3653: ITH51
A3654: 08 | B3654: 033 | C3654: 033 | D3654: 005 | E3654: 033005 | F3654: Bobbio | G3654: Bobbio | I3654: 2 | J3654: Nord-est | K3654: Emilia-Romagna | L3654: Piacenza | M3654: 1 | N3654: 0 | O3654: PC | P3654: 33005 | Q3654: 33005 | R3654: 33005 | S3654: 33005 | T3654: 33005 | U3654: A909 | V3654: ITH | W3654: ITH5 | X3654: ITH51 | Y3654: ITH | Z3654: ITH5 | AA3654: ITH51
A3655: 08 | B3655: 033 | C3655: 033 | D3655: 006 | E3655: 033006 | F3655: Borgonovo Val Tidone | G3655: Borgonovo Val Tidone | I3655: 2 | J3655: Nord-est | K3655: Emilia-Romagna | L3655: Piacenza | M3655: 1 | N3655: 0 | O3655: PC | P3655: 33006 | Q3655: 33006 | R3655: 33006 | S3655: 33006 | T3655: 33006 | U3655: B025 | V3655: ITH | W3655: ITH5 | X3655: ITH51 | Y3655: ITH | Z3655: ITH5 | AA3655: ITH51
A3656: 08 | B3656: 033 | C3656: 033 | D3656: 007 | E3656: 033007 | F3656: Cadeo | G3656: Cadeo | I3656: 2 | J3656: Nord-est | K3656: Emilia-Romagna | L3656: Piacenza | M3656: 1 | N3656: 0 | O3656: PC | P3656: 33007 | Q3656: 33007 | R3656: 33007 | S3656: 33007 | T3656: 33007 | U3656: B332 | V3656: ITH | W3656: ITH5 | X3656: ITH51 | Y3656: ITH | Z3656: ITH5 | AA3656: ITH51
A3657: 08 | B3657: 033 | C3657: 033 | D3657: 008 | E3657: 033008 | F3657: Calendasco | G3657: Calendasco | I3657: 2 | J3657: Nord-est | K3657: Emilia-Romagna | L3657: Piacenza | M3657: 1 | N3657: 0 | O3657: PC | P3657: 33008 | Q3657: 33008 | R3657: 33008 | S3657: 33008 | T3657: 33008 | U3657: B405 | V3657: ITH | W3657: ITH5 | X3657: ITH51 | Y3657: ITH | Z3657: ITH5 | AA3657: ITH51
A3658: 08 | B3658: 033 | C3658: 033 | D3658: 010 | E3658: 033010 | F3658: Caorso | G3658: Caorso | I3658: 2 | J3658: Nord-est | K3658: Emilia-Romagna | L3658: Piacenza | M3658: 1 | N3658: 0 | O3658: PC | P3658: 33010 | Q3658: 33010 | R3658: 33010 | S3658: 33010 | T3658: 33010 | U3658: B643 | V3658: ITH | W3658: ITH5 | X3658: ITH51 | Y3658: ITH | Z3658: ITH5 | AA3658: ITH51
A3659: 08 | B3659: 033 | C3659: 033 | D3659: 011 | E3659: 033011 | F3659: Carpaneto Piacentino | G3659: Carpaneto Piacentino | I3659: 2 | J3659: Nord-est | K3659: Emilia-Romagna | L3659: Piacenza | M3659: 1 | N3659: 0 | O3659: PC | P3659: 33011 | Q3659: 33011 | R3659: 33011 | S3659: 33011 | T3659: 33011 | U3659: B812 | V3659: ITH | W3659: ITH5 | X3659: ITH51 | Y3659: ITH | Z3659: ITH5 | AA3659: ITH51
A3660: 08 | B3660: 033 | C3660: 033 | D3660: 012 | E3660: 033012 | F3660: Castell'Arquato | G3660: Castell'Arquato | I3660: 2 | J3660: Nord-est | K3660: Emilia-Romagna | L3660: Piacenza | M3660: 1 | N3660: 0 | O3660: PC | P3660: 33012 | Q3660: 33012 | R3660: 33012 | S3660: 33012 | T3660: 33012 | U3660: C145 | V3660: ITH | W3660: ITH5 | X3660: ITH51 | Y3660: ITH | Z3660: ITH5 | AA3660: ITH51
... A7895: 20 | B7895: 119 | C7895: 119 | D7895: 024 | E7895: 119024 | F7895: Teulada | G7895: Teulada | I7895: 5 | J7895: Isole | K7895: Sardegna | L7895: Sulcis Iglesiente | M7895: 1 | N7895: 0 | O7895: CI | P7895: 119024 | Q7895: 111089 | R7895: 92084 | S7895: 92084 | T7895: 92084 | U7895: L154 | V7895: ITG | W7895: ITG2 | X7895: ITG2H | Y7895: ITG | Z7895: ITG2 | AA7895: ITG2H

Sheet Abruzzo
A1: FID | B1: PRO_COM | C1: COMUNE | D1: AREA_COM.(HA) | E1: SUP.FOR.COM.(HA) | F1: IND.BOS.(%)
A2: 1 | B2: 68001 | C2: Abbateggio | D2: 1540.14 | E2: 638.28 | F2: 41.44
A3: 1 | B3: 66001 | C3: Acciano | D3: 3222.32 | E3: 1582.24 | F3: 49.1
A4: 1 | B4: 66002 | C4: Aielli | D4: 3751.65 | E4: 815.64 | F4: 21.74
A5: 1 | B5: 68002 | C5: Alanno | D5: 3252.75 | E5: 209.17 | F5: 6.43
A6: 1 | B6: 67001 | C6: Alba Adriatica | D6: 953.64 | E6: 5.06 | F6: 0.53
A7: 1 | B7: 66003 | C7: Alfedena | D7: 3995.01 | E7: 3014.14 | F7: 75.45
A8: 1 | B8: 69001 | C8: Altino | D8: 1533.01 | E8: 383.11 | F8: 24.99
A9: 1 | B9: 67002 | C9: Ancarano | D9: 1391.92 | E9: 141.4 | F9: 10.16
A10: 1 | B10: 66004 | C10: Anversa degli Abruzzi | D10: 3243.29 | E10: 1954.88 | F10: 60.27
A11: 1 | B11: 69002 | C11: Archi | D11: 2854.42 | E11: 983.17 | F11: 34.44
A12: 1 | B12: 69003 | C12: Ari | D12: 1139.16 | E12: 272.37 | F12: 23.91
A13: 1 | B13: 69004 | C13: Arielli | D13: 1171.52 | E13: 197.49 | F13: 16.86
... A306: 1 | B306: 66108 | C306: Vittorito | D306: 1419.44 | E306: 642.36 | F306: 45.25

Sheet Basilicata
A1: fid | B1: PRO_COM | C1: COMUNE | D1: AREA_COM.(HA) | E1: SUP.FOR.COM.(HA) | F1: IND.BOS.(%)
A2: 1 | B2: 76001 | C2: Abriola | D2: 9718.9377 | E2: 7400.7512 | F2: 76.147737
A3: 101 | B3: 77001 | C3: Accettura | D3: 9036.67 | E3: 6674.7148 | F3: 73.862548
A4: 2 | B4: 76002 | C4: Acerenza | D4: 7764.22 | E4: 1727.8123 | F4: 22.253521
A5: 3 | B5: 76003 | C5: Albano di Lucania | D5: 5587.4666 | E5: 2234.1527 | F5: 39.985076
A6: 102 | B6: 77002 | C6: Aliano | D6: 9840.8088 | E6: 2107.9559 | F6: 21.420556
A7: 4 | B7: 76004 | C7: Anzi | D7: 7709.5411 | E7: 3731.8549 | F7: 48.405668
A8: 5 | B8: 76005 | C8: Armento | D8: 5897.6497 | E8: 3435.6597 | F8: 58.254727
A9: 6 | B9: 76006 | C9: Atella | D9: 8846.2014 | E9: 3633.1477 | F9: 41.070145
A10: 7 | B10: 76007 | C10: Avigliano | D10: 8548.0424 | E10: 2395.5789 | F10: 28.024883
A11: 8 | B11: 76008 | C11: Balvano | D11: 4215.1555 | E11: 1645.7691 | F11: 39.044089
A12: 9 | B12: 76009 | C12: Banzi | D12: 8305.461 | E12: 953.59843 | F12: 11.481583
A13: 10 | B13: 76010 | C13: Baragiano | D13: 2960.2975 | E13: 998.18919 | F13: 33.719219
... A132: 98 | B132: 76098 | C132: Viggiano | D132: 8969.7479 | E132: 4520.7875 | F132: 50.400385

Sheet Calabria
A1: fid | B1: PRO_COM | C1: COMUNE | D1: AREA_COM.(HA) | E1: SUP.FOR.COM.(HA) | F1: IND.BOS.(%)
A2: 1 | B2: 78001 | C2: Acquaformosa | D2: 2270.5223 | E2: 1380.584 | F2: 60.805
A3: 2 | B3: 78002 | C3: Acquappesa | D3: 1438.1537 | E3: 661.05 | F3: 45.965
A4: 355 | B4: 102001 | C4: Acquaro | D4: 2524.9518 | E4: 1374.818 | F4: 54.449
A5: 3 | B5: 78003 | C5: Acri | D5: 20062.724 | E5: 12098.396 | F5: 60.303
A6: 231 | B6: 80001 | C6: Africo | D6: 5387.8372 | E6: 3601.048 | F6: 66.837
A7: 232 | B7: 80002 | C7: Agnana Calabra | D7: 848.72965 | E7: 166.88 | F7: 19.662
A8: 4 | B8: 78004 | C8: Aiello Calabro | D8: 3850.5841 | E8: 2110.651 | F8: 54.814
A9: 5 | B9: 78005 | C9: Aieta | D9: 4829.5211 | E9: 2357.256 | F9: 48.809
A10: 151 | B10: 79002 | C10: Albi | D10: 2963.6635 | E10: 2448.82 | F10: 82.628
A11: 6 | B11: 78006 | C11: Albidona | D11: 6466.856 | E11: 3752.245 | F11: 58.023
A12: 7 | B12: 78007 | C12: Alessandria del Carretto | D12: 4111.1018 | E12: 2986.467 | F12: 72.644
A13: 8 | B13: 78008 | C13: Altilia | D13: 1056.0331 | E13: 698.801 | F13: 66.172
... A405: 404 | B405: 102050 | C405: Zungri | D405: 2345.4867 | E405: 394.421 | F405: 16.816

Sheet Campania
A1: fid | B1: PRO_COM | C1: COMUNE | D1: AREA_COM.(HA) | E1: SUP.FOR.COM.(HA) | F1: IND.BOS.(%)
A2: 393 | B2: 65001 | C2: Acerno | D2: 7249.682 | E2: 6763.121 | F2: 93.289
A3: 183 | B3: 63001 | C3: Acerra | D3: 5471.1707 | E3: 60.952 | F3: 1.114
A4: 184 | B4: 63002 | C4: Afragola | D4: 1791.4872 | E4: 6.086 | F4: 0.34
A5: 185 | B5: 63003 | C5: Agerola | D5: 1983.1615 | E5: 1260.593 | F5: 63.565
A6: 394 | B6: 65002 | C6: Agropoli | D6: 3278.9257 | E6: 534.732 | F6: 16.308
A7: 275 | B7: 64001 | C7: Aiello del Sabato | D7: 1087.2322 | E7: 196.857 | F7: 18.106
A8: 1 | B8: 61001 | C8: Ailano | D8: 1605.5623 | E8: 511.044 | F8: 31.83
A9: 105 | B9: 62001 | C9: Airola | D9: 1492.0162 | E9: 162.802 | F9: 10.912
A10: 395 | B10: 65003 | C10: Albanella | D10: 4023.0315 | E10: 488.682 | F10: 12.147
A11: 396 | B11: 65004 | C11: Alfano | D11: 482.21651 | E11: 300.944 | F11: 62.408
A12: 2 | B12: 61002 | C12: Alife | D12: 6431.7148 | E12: 1429.172 | F12: 22.221
A13: 276 | B13: 64002 | C13: Altavilla Irpina | D13: 1408.3125 | E13: 301.524 | F13: 21.41
... A551: 391 | B551: 64120 | C551: Zungoli | D551: 1921.4226 | E551: 420.414 | F551: 21.88

Sheet Emilia-Romagna
A1: fid | B1: PRO_COM | C1: COMUNE | D1: AREA_COM.(HA) | E1: SUP.FOR.COM.(HA) | F1: IND.BOS.(%)
A2: 1 | B2: 33001 | C2: Agazzano | D2: 3614.5013 | E2: 285.648 | F2: 7.903
A3: 47 | B3: 34001 | C3: Albareto | D3: 10410.346 | E3: 7966.761 | F3: 76.527
A4: 91 | B4: 35001 | C4: Albinea | D4: 4388.8522 | E4: 1048.225 | F4: 23.884
A5: 256 | B5: 39001 | C5: Alfonsine | D5: 10679.015 | E5: 74.537 | F5: 0.698
A6: 2 | B6: 33002 | C6: Alseno | D6: 5526.9294 | E6: 428.412 | F6: 7.751
A7: 46 | B7: 33049 | C7: Alta Val Tidone | D7: 10086.44 | E7: 3990.118 | F7: 39.559
A8: 234 | B8: 37062 | C8: Alto Reno Terme | D8: 7362.2666 | E8: 6001.92 | F8: 81.523
A9: 180 | B9: 37001 | C9: Anzola dell'Emilia | D9: 3658.6841 | E9: 21.597 | F9: 0.59
A10: 181 | B10: 37002 | C10: Argelato | D10: 3510.3206 | E10: 132.724 | F10: 3.781
A11: 235 | B11: 38001 | C11: Argenta | D11: 31154.358 | E11: 744.639 | F11: 2.39
A12: 257 | B12: 39002 | C12: Bagnacavallo | D12: 7957.9239 | E12: 10.957 | F12: 0.138
A13: 258 | B13: 39003 | C13: Bagnara di Romagna | D13: 995.78165 | E13: 6.879 | F13: 0.691
... A134: 204 | B134: 37028 | C134: Galliera | D134: 3715.3917 | E134: 165.181 | F134: 4.446
A135: 285 | B135: 40015 | C135: Gambettola | D135: 777.1413 | F135: 0
A136: 110 | B136: 35022 | C136: Gattatico | D136: 4214.4713 | E136: 79.475 | F136: 1.886
A137: 286 | B137: 40016 | C137: Gatteo | D137: 1412.6163 | F137: 0
A138: 21 | B138: 33022 | C138: Gazzola | D138: 4447.6595 | E138: 845.607 | F138: 19.012
A139: 307 | B139: 99004 | C139: Gemmano | D139: 1884.9923 | E139: 599.823 | F139: 31.821
A140: 251 | B140: 38025 | C140: Goro | D140: 2685.1436 | E140: 190.72 | F140: 7.103
A141: 22 | B141: 33023 | C141: Gossolengo | D141: 3109.9417 | E141: 135.867 | F141: 4.369
A142: 23 | B142: 33024 | C142: Gragnano Trebbiense | D142: 3460.299 | E142: 163.492 | F142: 4.725
A143: 205 | B143: 37030 | C143: Granarolo dell'Emilia | D143: 3436.9257 | E143: 22.501 | F143: 0.655
A144: 206 | B144: 37031 | C144: Grizzana Morandi | D144: 7740.2291 | E144: 4827.859 | F144: 62.374
A145: 24 | B145: 33025 | C145: Gropparello | D145: 5633.0107 | E145: 2504.487 | F145: 44.461
A146: 111 | B146: 35023 | C146: Gualtieri | D146: 3564.3899 | E146: 131.052 | F146: 3.677
A147: 112 | B147: 35024 | C147: Guastalla | D147: 5292.089 | E147: 111.623 | F147: 2.109
A148: 149 | B148: 36017 | C148: Guiglia | D148: 4829.6066 | E148: 1884.717 | F148: 39.024
A149: 207 | B149: 37032 | C149: Imola | D149: 20502.005 | E149: 651.405 | F149: 3.177
... A267: 123 | B267: 35037 | C267: San Martino in Rio | D267: 2271.7228 | E267: 2.45 | F267: 0.108
A268: 297 | B268: 40041 | C268: San Mauro Pascoli | D268: 1732.6891 | F268: 0
A269: 228 | B269: 37055 | C269: San Pietro in Casale | D269: 6585.6401 | E269: 42.29 | F269: 0.642
A270: 38 | B270: 33041 | C270: San Pietro in Cerro | D270: 2734.5607 | E270: 30.676 | F270: 1.122
A271: 124 | B271: 35038 | C271: San Polo d'Enza | D271: 3229.3455 | E271: 793.413 | F271: 24.569
A272: 170 | B272: 36038 | C272: San Possidonio | D272: 1705.8308 | E272: 69.024 | F272: 4.046
A273: 171 | B273: 36039 | C273: San Prospero | D273: 3455.7011 | E273: 58.621 | F273: 1.696
A274: 77 | B274: 34033 | C274: San Secondo Parmense | D274: 3770.938 | E274: 71.411 | F274: 1.894
A275: 298 | B275: 40043 | C275: Santa Sofia | D275: 14886.267 | E275: 12016.919 | F275: 80.725
A276: 229 | B276: 37056 | C276: Sant'Agata Bolognese | D276: 3479.1603 | E276: 37.431 | F276: 1.076
A277: 325 | B277: 99026 | C277: Sant'Agata Feltria | D277: 7974.0912 | E277: 4573.857 | F277: 57.359
A278: 272 | B278: 39017 | C278: Sant'Agata sul Santerno | D278: 939.91652 | E278: 0.007 | F278: 0.001
A279: 318 | B279: 99018 | C279: Santarcangelo di Romagna | D279: 4505.8414 | E279: 77.646 | F279: 1.723
A280: 125 | B280: 35039 | C280: Sant'Ilario d'Enza | D280: 2023.3156 | E280: 58.338 | F280: 2.883
... A331: 232 | B331: 37060 | C331: Zola Predosa | D331: 3774.7116 | E331: 416.042 | F331: 11.022

Sheet Friulia-Venezia-Giulia
A1: fid | B1: PRO_COM | C1: COMUNE | D1: AREA_COM.(HA) | E1: SUP.FOR.COM.(HA) | F1: IND.BOS.(%)
A2: 1 | B2: 30001 | C2: Aiello del Friuli | D2: 1334.7331 | E2: 23.753 | F2: 1.78
A3: 2 | B3: 30002 | C3: Amaro | D3: 3326.1024 | E3: 2528.853 | F3: 76.031
A4: 3 | B4: 30003 | C4: Ampezzo | D4: 7362.7432 | E4: 6063.427 | F4: 82.353
A5: 166 | B5: 93001 | C5: Andreis | D5: 2695.0187 | E5: 2021.377 | F5: 75.004
A6: 4 | B6: 30004 | C6: Aquileia | D6: 3743.9468 | E6: 14.628 | F6: 0.391
A7: 167 | B7: 93002 | C7: Arba | D7: 1531.1227 | E7: 236.834 | F7: 15.468
A8: 5 | B8: 30005 | C8: Arta Terme | D8: 4276.9744 | E8: 3410.743 | F8: 79.747
A9: 6 | B9: 30006 | C9: Artegna | D9: 1122.0896 | E9: 264.604 | F9: 23.581
A10: 7 | B10: 30007 | C10: Attimis | D10: 3323.717 | E10: 2884.114 | F10: 86.774
A11: 168 | B11: 93004 | C11: Aviano | D11: 11327.943 | E11: 4020.551 | F11: 35.492
A12: 169 | B12: 93005 | C12: Azzano Decimo | D12: 5133.742 | E12: 142.377 | F12: 2.773
A13: 8 | B13: 30008 | C13: Bagnaria Arsa | D13: 1923.3143 | E13: 36.532 | F13: 1.899
... A216: 128 | B216: 30136 | C216: Zuglio | D216: 1821.132 | E216: 1469.527 | F216: 80.693

Sheet Lazio
A1: fid | B1: PRO_COM | C1: COMUNE | D1: AREA_COM.(HA) | E1: SUP.FOR.COM.(HA) | F1: IND.BOS.(%)
A2: 61 | B2: 57001 | C2: Accumoli | D2: 8734.2908 | E2: 6030.192 | F2: 69.04
A3: 288 | B3: 60001 | C3: Acquafondata | D3: 2531.7356 | E3: 2045.961 | F3: 80.813
A4: 1 | B4: 56001 | C4: Acquapendente | D4: 13160.224 | E4: 6980.375 | F4: 53.041
A5: 289 | B5: 60002 | C5: Acuto | D5: 1346.6239 | E5: 329.797 | F5: 24.491
A6: 134 | B6: 58001 | C6: Affile | D6: 1511.2302 | E6: 859.794 | F6: 56.894
A7: 135 | B7: 58002 | C7: Agosta | D7: 949.97426 | E7: 678.316 | F7: 71.404
A8: 290 | B8: 60003 | C8: Alatri | D8: 9695.7381 | E8: 3016.19 | F8: 31.108
A9: 136 | B9: 58003 | C9: Albano Laziale | D9: 2381.834 | E9: 161.779 | F9: 6.792
A10: 137 | B10: 58004 | C10: Allumiere | D10: 9215.9594 | E10: 6391.133 | F10: 69.349
A11: 291 | B11: 60004 | C11: Alvito | D11: 5171.3382 | E11: 1565.527 | F11: 30.273
A12: 292 | B12: 60005 | C12: Amaseno | D12: 7772.5802 | E12: 4251.569 | F12: 54.7
A13: 62 | B13: 57002 | C13: Amatrice | D13: 17438.49 | E13: 9693.828 | F13: 55.589
... A363: 244 | B363: 58111 | C363: Velletri | D363: 11826.641 | E363: 1838.203 | F363: 15.543
A364: 287 | B364: 59033 | C364: Ventotene | D364: 183.07035 | F364: 0
A365: 372 | B365: 60085 | C365: Veroli | D365: 11965.623 | E365: 5718.279 | F365: 47.789
A366: 57 | B366: 56057 | C366: Vetralla | D366: 11377.108 | E366: 4151.782 | F366: 36.492
A367: 373 | B367: 60086 | C367: Vicalvi | D367: 820.83313 | E367: 204.734 | F367: 24.942
A368: 374 | B368: 60087 | C368: Vico nel Lazio | D368: 4584.2031 | E368: 2949.537 | F368: 64.341
A369: 245 | B369: 58112 | C369: Vicovaro | D369: 3594.3503 | E369: 2441.747 | F369: 67.933
A370: 58 | B370: 56058 | C370: Vignanello | D370: 2052.7202 | E370: 172.338 | F370: 8.396
A371: 375 | B371: 60088 | C371: Villa Latina | D371: 1703.4291 | E371: 1192.625 | F371: 70.013
A372: 46 | B372: 56046 | C372: Villa San Giovanni in Tuscia | D372: 527.92485 | E372: 158.489 | F372: 30.021
A373: 376 | B373: 60089 | C373: Villa Santa Lucia | D373: 1776.7163 | E373: 616.383 | F373: 34.692
A374: 377 | B374: 60090 | C374: Villa Santo Stefano | D374: 2009.8793 | E374: 1032.474 | F374: 51.37
A375: 59 | B375: 56059 | C375: Viterbo | D375: 40622.67 | E375: 8736.814 | F375: 21.507
A376: 378 | B376: 60091 | C376: Viticuso | D376: 2085.9498 | E376: 1523.554 | F376: 73.039
... A379: 247 | B379: 58114 | C379: Zagarolo | D379: 2802.7407 | E379: 292.946 | F379: 10.452

Sheet Liguria
A1: fid | B1: PRO_COM | C1: COMUNE | D1: AREA_COM.(HA) | E1: SUP.FOR.COM.(HA) | F1: IND.BOS.(%)
A2: 1 | B2: 8001 | C2: Airole | D2: 1462.6779 | E2: 803.601 | F2: 54.94
A3: 67 | B3: 9001 | C3: Alassio | D3: 1725.5312 | E3: 822.997 | F3: 47.695
A4: 68 | B4: 9002 | C4: Albenga | D4: 3658.9279 | E4: 863.462 | F4: 23.599
A5: 70 | B5: 9004 | C5: Albisola Superiore | D5: 2867.7089 | E5: 2290.36 | F5: 79.867
A6: 69 | B6: 9003 | C6: Albissola Marina | D6: 324.57315 | E6: 154.451 | F6: 47.586
A7: 71 | B7: 9005 | C7: Altare | D7: 1129.6445 | E7: 940.397 | F7: 83.247
A8: 203 | B8: 11001 | C8: Ameglia | D8: 1419.3504 | E8: 621.982 | F8: 43.822
A9: 72 | B9: 9006 | C9: Andora | D9: 3182.1897 | E9: 1964.897 | F9: 61.747
A10: 2 | B10: 8002 | C10: Apricale | D10: 1993.6356 | E10: 1451.782 | F10: 72.821
A11: 3 | B11: 8003 | C11: Aquila d'Arroscia | D11: 1006.0088 | E11: 891.477 | F11: 88.615
A12: 204 | B12: 11002 | C12: Arcola | D12: 1653.7939 | E12: 641.463 | F12: 38.787
A13: 136 | B13: 10001 | C13: Arenzano | D13: 2430.4988 | E13: 1391.41 | F13: 57.248
... A174: 226 | B174: 11024 | C174: Riomaggiore | D174: 1029.2026 | E174: 675.319 | F174: 65.616
A175: 48 | B175: 8050 | C175: Riva Ligure | D175: 207.29234 | F175: 0
A176: 120 | B176: 9054 | C176: Roccavignale | D176: 1770.6557 | E176: 1442.746 | F176: 81.481
A177: 227 | B177: 11025 | C177: Rocchetta di Vara | D177: 3266.3603 | E177: 2702.513 | F177: 82.738
A178: 49 | B178: 8051 | C178: Rocchetta Nervina | D178: 1528.4784 | E178: 946.88 | F178: 61.949
A179: 184 | B179: 10049 | C179: Ronco Scrivia | D179: 3011.139 | E179: 2531.585 | F179: 84.074
A180: 185 | B180: 10050 | C180: Rondanina | D180: 1280.7875 | E180: 1160.187 | F180: 90.584
A181: 186 | B181: 10051 | C181: Rossiglione | D181: 4759.2797 | E181: 4011.432 | F181: 84.287
A182: 187 | B182: 10052 | C182: Rovegno | D182: 4408.5845 | E182: 4039.812 | F182: 91.635
A183: 50 | B183: 8052 | C183: San Bartolomeo al Mare | D183: 1088.0005 | E183: 587.693 | F183: 54.016
A184: 51 | B184: 8053 | C184: San Biagio della Cima | D184: 430.71259 | E184: 153.788 | F184: 35.705
A185: 188 | B185: 10053 | C185: San Colombano Certenoli | D185: 4157.4732 | E185: 3224.569 | F185: 77.561
A186: 52 | B186: 8054 | C186: San Lorenzo al Mare | D186: 134.75321 | E186: 9.303 | F186: 6.904
A187: 53 | B187: 8055 | C187: Sanremo | D187: 5600.6717 | E187: 2133.87 | F187: 38.1
... A235: 135 | B235: 9069 | C235: Zuccarello | D235: 1080.7027 | E235: 730.238 | F235: 67.571

Sheet Lombardia
A1: fid | B1: PRO_COM | C1: COMUNE | D1: AREA_COM.(HA) | E1: SUP.FOR.COM.(HA) | F1: IND.BOS.(%)
A2: 1388 | B2: 98001 | C2: Abbadia Cerreto | D2: 619.85852 | E2: 12.293 | F2: 1.983
A3: 1304 | B3: 97001 | C3: Abbadia Lariana | D3: 1659.6521 | E3: 1043.344 | F3: 62.865
A4: 361 | B4: 15002 | C4: Abbiategrasso | D4: 4777.7744 | E4: 960.444 | F4: 20.102
A5: 737 | B5: 17001 | C5: Acquafredda | D5: 954.63212 | E5: 5.337 | F5: 0.559
A6: 1127 | B6: 19001 | C6: Acquanegra Cremonese | D6: 921.60273 | E6: 12.542 | F6: 1.361
A7: 1240 | B7: 20001 | C7: Acquanegra sul Chiese | D7: 2801.448 | E7: 32.822 | F7: 1.172
A8: 494 | B8: 16001 | C8: Adrara San Martino | D8: 1260.54 | E8: 812.293 | F8: 64.44
A9: 495 | B9: 16002 | C9: Adrara San Rocco | D9: 922.4927 | E9: 758.898 | F9: 82.266
A10: 738 | B10: 17002 | C10: Adro | D10: 1428.9488 | E10: 307.435 | F10: 21.515
A11: 1128 | B11: 19002 | C11: Agnadello | D11: 1207.7497 | E11: 5.087 | F11: 0.421
A12: 739 | B12: 17003 | C12: Agnosine | D12: 1355.4636 | E12: 967.105 | F12: 71.349
A13: 1 | B13: 12001 | C13: Agra | D13: 282.8244 | E13: 218.378 | F13: 77.213
... A62: 743 | B62: 17007 | C62: Artogne | D62: 2101.9161 | E62: 1183.877 | F62: 56.324
A63: 506 | B63: 16013 | C63: Arzago d'Adda | D63: 930.77104 | F63: 0
A64: 1241 | B64: 20002 | C64: Asola | D64: 7348.1487 | E64: 12.964 | F64: 0.176
A65: 366 | B65: 15011 | C65: Assago | D65: 805.21318 | E65: 13.236 | F65: 1.644
A66: 146 | B66: 13013 | C66: Asso | D66: 651.06246 | E66: 433.984 | F66: 66.658
A67: 507 | B67: 16014 | C67: Averara | D67: 1069.3152 | E67: 719.668 | F67: 67.302
A68: 508 | B68: 16015 | C68: Aviatico | D68: 848.39321 | E68: 629.629 | F68: 74.214
A69: 1130 | B69: 19004 | C69: Azzanello | D69: 1112.1038 | E69: 109.476 | F69: 9.844
A70: 744 | B70: 17008 | C70: Azzano Mella | D70: 1056.9558 | E70: 10.092 | F70: 0.955
A71: 509 | B71: 16016 | C71: Azzano San Paolo | D71: 429.2146 | E71: 3.949 | F71: 0.92
A72: 6 | B72: 12006 | C72: Azzate | D72: 450.62182 | E72: 100.218 | F72: 22.24
A73: 7 | B73: 12007 | C73: Azzio | D73: 217.21692 | E73: 108.72 | F73: 50.051
A74: 510 | B74: 16017 | C74: Azzone | D74: 1728.9276 | E74: 1365.906 | F74: 79.003
A75: 946 | B75: 18006 | C75: Badia Pavese | D75: 505.71512 | E75: 1.395 | F75: 0.276
... A237: 1134 | B237: 19009 | C237: Calvatone | D237: 1369.9526 | E237: 29.698 | F237: 2.168
A238: 538 | B238: 16047 | C238: Calvenzano | D238: 672.41074 | F238: 0
A239: 964 | B239: 18025 | C239: Calvignano | D239: 698.37823 | E239: 195.749 | F239: 28.029
A240: 382 | B240: 15042 | C240: Calvignasco | D240: 187.72461 | E240: 5.886 | F240: 3.135
A241: 770 | B241: 17034 | C241: Calvisano | D241: 4482.7105 | E241: 10.608 | F241: 0.237
A242: 383 | B242: 15044 | C242: Cambiago | D242: 722.7403 | E242: 48.35 | F242: 6.69
A243: 539 | B243: 16048 | C243: Camerata Cornello | D243: 1294.389 | E243: 904.809 | F243: 69.902
A244: 1135 | B244: 19010 | C244: Camisano | D244: 1095.0591 | E244: 9.246 | F244: 0.844
A245: 1136 | B245: 19011 | C245: Campagnola Cremasca | D245: 464.07383 | E245: 0 | F245: 0
A246: 1461 | B246: 108014 | C246: Camparada | D246: 163.36587 | E246: 26.944 | F246: 16.493
A247: 162 | B247: 13040 | C247: Campione d'Italia | D247: 267.56584 | E247: 47.077 | F247: 17.595
A248: 295 | B248: 14012 | C248: Campodolcino | D248: 4848.84 | E248: 1562.55 | F248: 32.225
A249: 965 | B249: 18026 | C249: Campospinoso Albaredo | D249: 1244.3235 | E249: 28.083 | F249: 2.257
A250: 966 | B250: 18027 | C250: Candia Lomellina | D250: 2791.941 | E250: 110.218 | F250: 3.948
... A308: 1318 | B308: 97015 | C308: Casargo | D308: 1971.2716 | E308: 1698.583 | F308: 86.167
A309: 387 | B309: 15055 | C309: Casarile | D309: 732.48144 | F309: 0
A310: 1319 | B310: 97016 | C310: Casatenovo | D310: 1265.8758 | E310: 161.028 | F310: 12.721
A311: 970 | B311: 18032 | C311: Casatisma | D311: 549.50189 | E311: 54.972 | F311: 10.004
A312: 548 | B312: 16058 | C312: Casazza | D312: 711.3158 | E312: 397.728 | F312: 55.914
A313: 35 | B313: 12038 | C313: Casciago | D313: 404.5378 | E313: 120.984 | F313: 29.907
A314: 971 | B314: 18033 | C314: Casei Gerola | D314: 2480.4678 | E314: 5.52 | F314: 0.223
A315: 1397 | B315: 98011 | C315: Caselle Landi | D315: 2600.422 | E315: 167.325 | F315: 6.435
A316: 1398 | B316: 98012 | C316: Caselle Lurani | D316: 767.82666 | E316: 16.366 | F316: 2.131
A317: 549 | B317: 16059 | C317: Casirate d'Adda | D317: 1017.4546 | E317: 30.755 | F317: 3.023
A318: 171 | B318: 13052 | C318: Caslino d'Erba | D318: 688.96459 | E318: 580.869 | F318: 84.31
A319: 172 | B319: 13053 | C319: Casnate con Bernate | D319: 522.99462 | E319: 130.26 | F319: 24.907
A320: 550 | B320: 16060 | C320: Casnigo | D320: 1362.1904 | E320: 788.712 | F320: 57.9
A321: 972 | B321: 18034 | C321: Casorate Primo | D321: 968.84741 | E321: 2.709 | F321: 0.28
... A534: 407 | B534: 15097 | C534: Cusago | D534: 1145.85 | E534: 30.48 | F534: 2.66
A535: 408 | B535: 15098 | C535: Cusano Milanino | D535: 308.17075 | F535: 0
A536: 187 | B536: 13085 | C536: Cusino | D536: 964.65766 | E536: 553.811 | F536: 57.41
A537: 580 | B537: 16090 | C537: Cusio | D537: 940.70958 | E537: 489.681 | F537: 52.054
A538: 59 | B538: 12062 | C538: Cuveglio | D538: 748.823 | E538: 514.936 | F538: 68.766
A539: 60 | B539: 12063 | C539: Cuvio | D539: 595.89334 | E539: 448.639 | F539: 75.288
A540: 409 | B540: 15099 | C540: Dairago | D540: 563.54833 | E540: 111.286 | F540: 19.747
A541: 581 | B541: 16091 | C541: Dalmine | D541: 1180.7605 | E541: 32.126 | F541: 2.721
A542: 801 | B542: 17065 | C542: Darfo Boario Terme | D542: 3607.1247 | E542: 2384.015 | F542: 66.092
A543: 61 | B543: 12064 | C543: Daverio | D543: 402.4937 | E543: 129.917 | F543: 32.278
A544: 308 | B544: 14025 | C544: Dazio | D544: 373.35088 | E544: 292.368 | F544: 78.309
A545: 309 | B545: 14026 | C545: Delebio | D545: 2243.7966 | E545: 1267.569 | F545: 56.492
A546: 802 | B546: 17066 | C546: Dello | D546: 2332.0917 | E546: 34.991 | F546: 1.5
A547: 1165 | B547: 19040 | C547: Derovere | D547: 999.06344 | E547: 0 | F547: 0
... A1503: 940 | B1503: 17205 | C1503: Zone | D1503: 1968.1327 | E1503: 1263.73 | F1503: 64.21

Sheet Marche
A1: fid | B1: PRO_COM | C1: COMUNE | D1: AREA_COM.(HA) | E1: SUP.FOR.COM.(HA) | F1: IND.BOS.(%)
A2: 1 | B2: 41001 | C2: Acqualagna | D2: 5068.4591 | E2: 2263.032 | F2: 44.649
A3: 153 | B3: 44001 | C3: Acquasanta Terme | D3: 13839.141 | E3: 12793.469 | F3: 92.444
A4: 154 | B4: 44002 | C4: Acquaviva Picena | D4: 2104.5848 | E4: 329.512 | F4: 15.657
A5: 51 | B5: 42001 | C5: Agugliano | D5: 2189.0109 | E5: 17.957 | F5: 0.82
A6: 186 | B6: 109001 | C6: Altidona | D6: 1302.8845 | E6: 171.847 | F6: 13.19
A7: 187 | B7: 109002 | C7: Amandola | D7: 6949.3971 | E7: 3490.787 | F7: 50.232
A8: 52 | B8: 42002 | C8: Ancona | D8: 12512.598 | E8: 1591.925 | F8: 12.723
A9: 2 | B9: 41002 | C9: Apecchio | D9: 10310.872 | E9: 7737.856 | F9: 75.046
A10: 98 | B10: 43002 | C10: Apiro | D10: 5377.9178 | E10: 1669.484 | F10: 31.043
A11: 99 | B11: 43003 | C11: Appignano | D11: 2267.2152 | E11: 35.031 | F11: 1.545
A12: 155 | B12: 44005 | C12: Appignano del Tronto | D12: 2319.4344 | E12: 464.45 | F12: 20.024
A13: 53 | B13: 42003 | C13: Arcevia | D13: 12833.105 | E13: 3486.296 | F13: 27.166
... A226: 151 | B226: 43057 | C226: Visso | D226: 10041.536 | E226: 6439.035 | F226: 64.124

Sheet Molise
A1: fid | B1: PRO_COM | C1: COMUNE | D1: AREA_COM.(HA) | E1: SUP.FOR.COM.(HA) | F1: IND.BOS.(%)
A2: 1 | B2: 70001 | C2: Acquaviva Collecroce | D2: 2859.93 | E2: 441.478 | F2: 15.437
A3: 85 | B3: 94001 | C3: Acquaviva d'Isernia | D3: 1351.3873 | E3: 885.267 | F3: 65.508
A4: 86 | B4: 94002 | C4: Agnone | D4: 9684.8918 | E4: 4131.416 | F4: 42.658
A5: 87 | B5: 94003 | C5: Bagnoli del Trigno | D5: 3680.0851 | E5: 1317.408 | F5: 35.798
A6: 2 | B6: 70002 | C6: Baranello | D6: 2499.471 | E6: 646.758 | F6: 25.876
A7: 88 | B7: 94004 | C7: Belmonte del Sannio | D7: 2031.6706 | E7: 771.341 | F7: 37.966
A8: 3 | B8: 70003 | C8: Bojano | D8: 5262.9834 | E8: 2034.092 | F8: 38.649
A9: 4 | B9: 70004 | C9: Bonefro | D9: 3127.9564 | E9: 593.023 | F9: 18.959
A10: 5 | B10: 70005 | C10: Busso | D10: 2381.0214 | E10: 1202.596 | F10: 50.508
A11: 6 | B11: 70006 | C11: Campobasso | D11: 5611.1075 | E11: 765.552 | F11: 13.644
A12: 7 | B12: 70007 | C12: Campochiaro | D12: 3570.1024 | E12: 2432.025 | F12: 68.122
A13: 8 | B13: 70008 | C13: Campodipietra | D13: 1972.1694 | E13: 381.359 | F13: 19.337
... A137: 84 | B137: 70084 | C137: Vinchiaturo | D137: 3547.7631 | E137: 1308.061 | F137: 36.87

Sheet 12.PIEMONTE
A1: Colonna1 | B1: PRO_COM | C1: COMUNE | D1: PROVINCIA | E1: REGIONE | F1: AREA_COM.(HA) | G1: SUP.FOR.COM.(HA) | H1: IND.BOS.(%)
A2: 1161 | B2: 103058 | C2: Quarna Sopra | D2: =VLOOKUP(TEXT(B2,"000000"), Foglio1!$E:$L, 8, FALSE) -> Verbano-Cusio-Ossola | E2: Piemonte | F2: 939.47573 | G2: 900.517 | H2: 95.853
A3: 1124 | B3: 103018 | C3: Caprezzo | D3: =VLOOKUP(TEXT(B3,"000000"), Foglio1!$E:$L, 8, FALSE) -> Verbano-Cusio-Ossola | E3: Piemonte | F3: 725.65625 | G3: 691.089 | H3: 95.236
A4: 274 | B4: 1279 | C4: Traves | D4: =VLOOKUP(TEXT(B4,"000000"), Foglio1!$E:$L, 8, FALSE) -> Torino | E4: Piemonte | F4: 1045.4434 | G4: 985.182 | H4: 94.236
A5: 1052 | B5: 96023 | C5: Curino | D5: =VLOOKUP(TEXT(B5,"000000"), Foglio1!$E:$L, 8, FALSE) -> Biella | E5: Piemonte | F5: 2164.938 | G5: 2039.67 | H5: 94.214
A6: 387 | B6: 2152 | C6: Valduggia | D6: =VLOOKUP(TEXT(B6,"000000"), Foglio1!$E:$L, 8, FALSE) -> Vercelli | E6: Piemonte | F6: 2842.6708 | G6: 2671.191 | H6: 93.968
A7: 1143 | B7: 103040 | C7: Madonna del Sasso | D7: =VLOOKUP(TEXT(B7,"000000"), Foglio1!$E:$L, 8, FALSE) -> Verbano-Cusio-Ossola | E7: Piemonte | F7: 1541.1469 | G7: 1445.477 | H7: 93.792
A8: 394 | B8: 2171 | C8: Cellio con Breia | D8: =VLOOKUP(TEXT(B8,"000000"), Foglio1!$E:$L, 8, FALSE) -> Vercelli | E8: Piemonte | F8: 1727.9575 | G8: 1616.765 | H8: 93.565
A9: 335 | B9: 2043 | C9: Civiasco | D9: =VLOOKUP(TEXT(B9,"000000"), Foglio1!$E:$L, 8, FALSE) -> Vercelli | E9: Piemonte | F9: 738.81895 | G9: 690.78 | H9: 93.498
A10: 706 | B10: 4227 | C10: Torre Mondovì | D10: =VLOOKUP(TEXT(B10,"000000"), Foglio1!$E:$L, 8, FALSE) -> Cuneo | E10: Piemonte | F10: 1853.7622 | G10: 1728.164 | H10: 93.225
A11: 878 | B11: 6034 | C11: Carrega Ligure | D11: =VLOOKUP(TEXT(B11,"000000"), Foglio1!$E:$L, 8, FALSE) -> Alessandria | E11: Piemonte | F11: 5525.5547 | G11: 5130.687 | H11: 92.854
A12: 1085 | B12: 96064 | C12: Sostegno | D12: =VLOOKUP(TEXT(B12,"000000"), Foglio1!$E:$L, 8, FALSE) -> Biella | E12: Piemonte | F12: 1806.7619 | G12: 1670.226 | H12: 92.443
A13: 1110 | B13: 103004 | C13: Arola | D13: =VLOOKUP(TEXT(B13,"000000"), Foglio1!$E:$L, 8, FALSE) -> Verbano-Cusio-Ossola | E13: Piemonte | F13: 661.24152 | G13: 606.72 | H13: 91.755
... A1162: 372 | B1162: 2118 | C1162: Ronsecco | D1162: =VLOOKUP(TEXT(B1162,"000000"), Foglio1!$E:$L, 8, FALSE) -> Vercelli | E1162: Piemonte | F1162: 2447.5441 | G1162: 0.509 | H1162: 0.021
A1163: 855 | B1163: 6011 | C1163: Balzola | D1163: =VLOOKUP(TEXT(B1163,"000000"), Foglio1!$E:$L, 8, FALSE) -> Alessandria | E1163: Piemonte | F1163: 1661.9362 | H1163: 0
A1164: 320 | B1164: 2011 | C1164: Bianzè | D1164: =VLOOKUP(TEXT(B1164,"000000"), Foglio1!$E:$L, 8, FALSE) -> Vercelli | E1164: Piemonte | F1164: 4180.5854 | H1164: 0
A1165: 328 | B1165: 2030 | C1165: Caresana | D1165: =VLOOKUP(TEXT(B1165,"000000"), Foglio1!$E:$L, 8, FALSE) -> Vercelli | E1165: Piemonte | F1165: 2410.8779 | H1165: 0
A1166: 897 | B1166: 6054 | C1166: Castelspina | D1166: =VLOOKUP(TEXT(B1166,"000000"), Foglio1!$E:$L, 8, FALSE) -> Alessandria | E1166: Piemonte | F1166: 548.71542 | H1166: 0
A1167: 340 | B1167: 2052 | C1167: Crova | D1167: =VLOOKUP(TEXT(B1167,"000000"), Foglio1!$E:$L, 8, FALSE) -> Vercelli | E1167: Piemonte | F1167: 1401.6269 | H1167: 0
A1168: 119 | B1168: 1120 | C1168: Grugliasco | D1168: =VLOOKUP(TEXT(B1168,"000000"), Foglio1!$E:$L, 8, FALSE) -> Torino | E1168: Piemonte | F1168: 1313.755 | H1168: 0
A1169: 349 | B1169: 2067 | C1169: Lamporo | D1169: =VLOOKUP(TEXT(B1169,"000000"), Foglio1!$E:$L, 8, FALSE) -> Vercelli | E1169: Piemonte | F1169: 964.39985 | H1169: 0
A1170: 352 | B1170: 2071 | C1170: Livorno Ferraris | D1170: =VLOOKUP(TEXT(B1170,"000000"), Foglio1!$E:$L, 8, FALSE) -> Vercelli | E1170: Piemonte | F1170: 5799.1734 | H1170: 0
A1171: 356 | B1171: 2082 | C1171: Motta de' Conti | D1171: =VLOOKUP(TEXT(B1171,"000000"), Foglio1!$E:$L, 8, FALSE) -> Vercelli | E1171: Piemonte | F1171: 1171.5871 | H1171: 0
A1172: 360 | B1172: 2091 | C1172: Pertengo | D1172: =VLOOKUP(TEXT(B1172,"000000"), Foglio1!$E:$L, 8, FALSE) -> Vercelli | E1172: Piemonte | F1172: 829.48817 | H1172: 0
A1173: 365 | B1173: 2104 | C1173: Prarolo | D1173: =VLOOKUP(TEXT(B1173,"000000"), Foglio1!$E:$L, 8, FALSE) -> Vercelli | E1173: Piemonte | F1173: 1153.8909 | H1173: 0
A1174: 370 | B1174: 2115 | C1174: Rive | D1174: =VLOOKUP(TEXT(B1174,"000000"), Foglio1!$E:$L, 8, FALSE) -> Vercelli | E1174: Piemonte | F1174: 940.90452 | H1174: 0
... A1181: 1024 | B1181: 6185 | C1181: Villanova Monferrato | D1181: =VLOOKUP(TEXT(B1181,"000000"), Foglio1!$E:$L, 8, FALSE) -> Alessandria | E1181: Piemonte | F1181: 1655.6339 | H1181: 0

Sheet Piemonte
A1: Colonna1 | B1: PRO_COM | C1: COMUNE | D1: AREA_COM.(HA) | E1: SUP.FOR.COM.(HA) | F1: IND.BOS.(%)
A2: 482 | B2: 4001 | C2: Acceglio | D2: 15152.78 | E2: 3038.292 | F2: 20.051
A3: 846 | B3: 6001 | C3: Acqui Terme | D3: 3329.6553 | E3: 1194.521 | F3: 35.875
A4: 729 | B4: 5001 | C4: Agliano Terme | D4: 1544.848 | E4: 22.287 | F4: 1.443
A5: 1 | B5: 1001 | C5: Agliè | D5: 1314.6258 | E5: 338.099 | F5: 25.718
A6: 395 | B6: 3001 | C6: Agrate Conturbia | D6: 1453.6192 | E6: 700.533 | F6: 48.192
A7: 1033 | B7: 96001 | C7: Ailoche | D7: 1078.3028 | E7: 824.789 | F7: 76.49
A8: 2 | B8: 1002 | C8: Airasca | D8: 1573.9313 | E8: 30.663 | F8: 1.948
A9: 483 | B9: 4002 | C9: Aisone | D9: 3691.731 | E9: 1839.92 | F9: 49.839
A10: 3 | B10: 1003 | C10: Ala di Stura | D10: 4633.156 | E10: 1984.225 | F10: 42.827
A11: 313 | B11: 2002 | C11: Alagna Valsesia | D11: 13317.139 | E11: 4138.414 | F11: 31.076
A12: 484 | B12: 4003 | C12: Alba | D12: 5358.5195 | E12: 562.285 | F12: 10.493
A13: 314 | B13: 2003 | C13: Albano Vercellese | D13: 1378.0858 | E13: 380.476 | F13: 27.609
... A66: 319 | B66: 2009 | C66: Balocco | D66: 1680.7998 | E66: 270.547 | F66: 16.096
A67: 855 | B67: 6011 | C67: Balzola | D67: 1661.9362 | F67: 0
A68: 19 | B68: 1020 | C68: Banchette | D68: 202.88941 | E68: 37.778 | F68: 18.62
A69: 1113 | B69: 103007 | C69: Bannio Anzino | D69: 3946.5954 | E69: 2810.095 | F69: 71.203
A70: 20 | B70: 1021 | C70: Barbania | D70: 1280.2737 | E70: 544.579 | F70: 42.536
A71: 492 | B71: 4011 | C71: Barbaresco | D71: 776.3637 | E71: 73.586 | F71: 9.478
A72: 21 | B72: 1022 | C72: Bardonecchia | D72: 13220.297 | E72: 3964.798 | F72: 29.99
A73: 399 | B73: 3012 | C73: Barengo | D73: 1949.2838 | E73: 603.209 | F73: 30.945
A74: 493 | B74: 4012 | C74: Barge | D74: 8199.1292 | E74: 3017.051 | F74: 36.797
A75: 494 | B75: 4013 | C75: Barolo | D75: 570.94876 | E75: 37.913 | F75: 6.64
A76: 22 | B76: 1023 | C76: Barone Canavese | D76: 398.64277 | E76: 121.687 | F76: 30.525
A77: 856 | B77: 6012 | C77: Basaluzzo | D77: 1505.2609 | E77: 137.143 | F77: 9.111
A78: 857 | B78: 6013 | C78: Bassignana | D78: 2871.2268 | E78: 430.545 | F78: 14.995
A79: 495 | B79: 4014 | C79: Bastia Mondovì | D79: 1200.0668 | E79: 425.877 | F79: 35.488
... A100: 401 | B100: 3018 | C100: Biandrate | D100: 1245.37 | E100: 22.676 | F100: 1.821
A101: 320 | B101: 2011 | C101: Bianzè | D101: 4180.5854 | F101: 0
A102: 24 | B102: 1025 | C102: Bibiana | D102: 1859.8655 | E102: 746.714 | F102: 40.149
A103: 1036 | B103: 96004 | C103: Biella | D103: 4668.8474 | E103: 1690.679 | F103: 36.212
A104: 1037 | B104: 96005 | C104: Bioglio | D104: 1884.5169 | E104: 1230.215 | F104: 65.28
A105: 861 | B105: 6017 | C105: Bistagno | D105: 1759.3004 | E105: 723.01 | F105: 41.096
A106: 25 | B106: 1026 | C106: Bobbio Pellice | D106: 9408.2024 | E106: 3920.908 | F106: 41.675
A107: 402 | B107: 3019 | C107: Boca | D107: 960.79835 | E107: 603.774 | F107: 62.841
A108: 321 | B108: 2014 | C108: Boccioleto | D108: 3387.0637 | E108: 3021.311 | F108: 89.201
A109: 1118 | B109: 103012 | C109: Bognanco | D109: 5799.4732 | E109: 3452.578 | F109: 59.533
A110: 403 | B110: 3021 | C110: Bogogno | D110: 848.26452 | E110: 433.964 | F110: 51.159
A111: 26 | B111: 1027 | C111: Bollengo | D111: 1422.3734 | E111: 382.336 | F111: 26.88
A112: 404 | B112: 3022 | C112: Bolzano Novarese | D112: 330.43461 | E112: 197.951 | F112: 59.906
A113: 504 | B113: 4023 | C113: Bonvicino | D113: 724.09241 | E113: 445.973 | F113: 61.591
... A213: 875 | B213: 6031 | C213: Carentino | D213: 978.92866 | E213: 177.562 | F213: 18.138
A214: 328 | B214: 2030 | C214: Caresana | D214: 2410.8779 | F214: 0
A215: 329 | B215: 2031 | C215: Caresanablot | D215: 1102.1817 | E215: 55.985 | F215: 5.079
A216: 876 | B216: 6032 | C216: Carezzano | D216: 1048.3441 | E216: 413.052 | F216: 39.4
A217: 57 | B217: 1058 | C217: Carignano | D217: 5067.9077 | E217: 208.468 | F217: 4.113
A218: 330 | B218: 2032 | C218: Carisio | D218: 3010.5849 | E218: 255.149 | F218: 8.475
A219: 58 | B219: 1059 | C219: Carmagnola | D219: 9571.6343 | E219: 182.333 | F219: 1.905
A220: 877 | B220: 6033 | C220: Carpeneto | D220: 1333.9337 | E220: 298.272 | F220: 22.36
A221: 412 | B221: 3036 | C221: Carpignano Sesia | D221: 1465.5646 | E221: 492.989 | F221: 33.638
A222: 878 | B222: 6034 | C222: Carrega Ligure | D222: 5525.5547 | E222: 5130.687 | F222: 92.854
A223: 879 | B223: 6035 | C223: Carrosio | D223: 692.33548 | E223: 507.303 | F223: 73.274
A224: 523 | B224: 4043 | C224: Carrù | D224: 2583.8019 | E224: 301.473 | F224: 11.668
A225: 524 | B225: 4044 | C225: Cartignano | D225: 641.91844 | E225: 517.919 | F225: 80.683
A226: 880 | B226: 6036 | C226: Cartosio | D226: 1634.1292 | E226: 944.729 | F226: 57.812
... A283: 896 | B283: 6053 | C283: Castelnuovo Scrivia | D283: 4542.1472 | E283: 167.972 | F283: 3.698
A284: 897 | B284: 6054 | C284: Castelspina | D284: 548.71542 | F284: 0
A285: 534 | B285: 4055 | C285: Castiglione Falletto | D285: 472.02079 | E285: 33.744 | F285: 7.149
A286: 535 | B286: 4056 | C286: Castiglione Tinella | D286: 1163.4032 | E286: 201.863 | F286: 17.351
A287: 67 | B287: 1068 | C287: Castiglione Torinese | D287: 1413.4564 | E287: 568.668 | F287: 40.232
A288: 536 | B288: 4057 | C288: Castino | D288: 1552.2829 | E288: 749.138 | F288: 48.26
A289: 1047 | B289: 96016 | C289: Cavaglià | D289: 2562.5232 | E289: 533.02 | F289: 20.801
A290: 419 | B290: 3044 | C290: Cavaglietto | D290: 648.54053 | E290: 241.473 | F290: 37.233
A291: 420 | B291: 3045 | C291: Cavaglio d'Agogna | D291: 983.34384 | E291: 685.794 | F291: 69.741
A292: 68 | B292: 1069 | C292: Cavagnolo | D292: 1232.8634 | E292: 609.222 | F292: 49.415
A293: 537 | B293: 4058 | C293: Cavallerleone | D293: 1643.777 | E293: 22.496 | F293: 1.369
A294: 538 | B294: 4059 | C294: Cavallermaggiore | D294: 5159.4767 | E294: 50.302 | F294: 0.975
A295: 421 | B295: 3047 | C295: Cavallirio | D295: 832.61033 | E295: 519.556 | F295: 62.401
A296: 898 | B296: 6055 | C296: Cavatore | D296: 1044.6607 | E296: 582.431 | F296: 55.753
... A387: 1131 | B387: 103026 | C387: Crodo | D387: 5367.4658 | E387: 3580.955 | F387: 66.716
A388: 340 | B388: 2052 | C388: Crova | D388: 1401.6269 | F388: 0
A389: 95 | B389: 1096 | C389: Cuceglio | D389: 687.08886 | E389: 332.391 | F389: 48.377
A390: 96 | B390: 1097 | C390: Cumiana | D390: 6073.3459 | E390: 2854.187 | F390: 46.995
A391: 557 | B391: 4078 | C391: Cuneo | D391: 11966.896 | E391: 653.916 | F391: 5.464
A392: 778 | B392: 5051 | C392: Cunico | D392: 675.31226 | E392: 191.728 | F392: 28.391
A393: 97 | B393: 1098 | C393: Cuorgnè | D393: 1930.8321 | E393: 1151.938 | F393: 59.66
A394: 426 | B394: 3058 | C394: Cureggio | D394: 850.67363 | E394: 389.677 | F394: 45.808
A395: 1052 | B395: 96023 | C395: Curino | D395: 2164.938 | E395: 2039.67 | F395: 94.214
A396: 558 | B396: 4079 | C396: Demonte | D396: 12730.631 | E396: 6594.798 | F396: 51.803
A397: 907 | B397: 6065 | C397: Denice | D397: 746.20286 | E397: 368.303 | F397: 49.357
A398: 908 | B398: 6066 | C398: Dernice | D398: 1827.6391 | E398: 1201.915 | F398: 65.763
A399: 341 | B399: 2054 | C399: Desana | D399: 1647.6829 | E399: 2.637 | F399: 0.16
A400: 559 | B400: 4080 | C400: Diano d'Alba | D400: 1754.3166 | E400: 324.47 | F400: 18.496
... A495: 118 | B495: 1119 | C495: Grosso | D495: 432.95559 | E495: 115.197 | F495: 26.607
A496: 119 | B496: 1120 | C496: Grugliasco | D496: 1313.755 | F496: 0
A497: 348 | B497: 2066 | C497: Guardabosone | D497: 608.75558 | E497: 405.736 | F497: 66.65
A498: 580 | B498: 4101 | C498: Guarene | D498: 1344.5977 | E498: 72.95 | F498: 5.425
A499: 927 | B499: 6086 | C499: Guazzora | D499: 280.22446 | E499: 11.914 | F499: 4.252
A500: 1139 | B500: 103036 | C500: Gurro | D500: 1328.4641 | E500: 1215.232 | F500: 91.476
A501: 581 | B501: 4102 | C501: Igliano | D501: 340.41524 | E501: 148.753 | F501: 43.698
A502: 785 | B502: 5058 | C502: Incisa Scapaccino | D502: 2070.3658 | E502: 907.21 | F502: 43.819
A503: 120 | B503: 1121 | C503: Ingria | D503: 1475.048 | E503: 1083.265 | F503: 73.439
A504: 1140 | B504: 103037 | C504: Intragna | D504: 992.19236 | E504: 792.078 | F504: 79.831
A505: 121 | B505: 1122 | C505: Inverso Pinasca | D505: 802.9287 | E505: 645.954 | F505: 80.45
A506: 438 | B506: 3082 | C506: Invorio | D506: 1737.1698 | E506: 1293.404 | F506: 74.455
A507: 582 | B507: 4103 | C507: Isasca | D507: 507.8381 | E507: 451.856 | F507: 88.976
A508: 786 | B508: 5059 | C508: Isola d'Asti | D508: 1350.258 | E508: 103.504 | F508: 7.665
... A516: 583 | B516: 4104 | C516: Lagnasco | D516: 1771.2341 | E516: 38.218 | F516: 2.158
A517: 349 | B517: 2067 | C517: Lamporo | D517: 964.39985 | F517: 0
A518: 439 | B518: 3083 | C518: Landiona | D518: 728.32973 | E518: 84.02 | F518: 11.536
...

Sheet Puglia
A1: fid | B1: PRO_COM | C1: COMUNE | D1: AREA_COM.(HA) | E1: SUP.FOR.COM.(HA) | F1: IND.BOS.(%)
A2: 1 | B2: 71001 | C2: Accadia | D2: 3073.5837 | E2: 698.168 | F2: 22.715
A3: 62 | B3: 72001 | C3: Acquaviva delle Fonti | D3: 13202.443 | E3: 0 | F3: 0
A4: 63 | B4: 72002 | C4: Adelfia | D4: 2981.3953 | E4: 0.802 | F4: 0.027
A5: 64 | B5: 72003 | C5: Alberobello | D5: 4082.2962 | E5: 627.859 | F5: 15.38
A6: 2 | B6: 71002 | C6: Alberona | D6: 4974.6827 | E6: 1121.18 | F6: 22.538
A7: 152 | B7: 75002 | C7: Alessano | D7: 2869.2859 | E7: 36.67 | F7: 1.278
A8: 153 | B8: 75003 | C8: Alezio | D8: 1678.9263 | E8: 0.446 | F8: 0.027
A9: 154 | B9: 75004 | C9: Alliste | D9: 2352.9769 | E9: 3.521 | F9: 0.15
A10: 65 | B10: 72004 | C10: Altamura | D10: 43136.98 | E10: 1923.98 | F10: 4.46
A11: 155 | B11: 75005 | C11: Andrano | D11: 1571.298 | E11: 7.354 | F11: 0.468
A12: 248 | B12: 110001 | C12: Andria | D12: 40288.246 | E12: 983.231 | F12: 2.44
A13: 3 | B13: 71003 | C13: Anzano di Puglia | D13: 1101.3972 | E13: 266.682 | F13: 24.213
... A258: 243 | B258: 75094 | C258: Zollino | D258: 995.44586 | E258: 1.317 | F258: 0.132

Sheet Sardegna
A1: fid | B1: PRO_COM | C1: COMUNE | D1: AREA_COM.(HA) | E1: SUP.FOR.COM.(HA) | F1: IND.BOS.(%)
A2: 184 | B2: 95001 | C2: Abbasanta | D2: 3984.6739 | E2: 1598.26 | F2: 40.11
A3: 1 | B3: 90001 | C3: Aggius | D3: 8630.4514 | E3: 1440.667 | F3: 16.693
A4: 62 | B4: 90062 | C4: Aglientu | D4: 14832.162 | E4: 3976.814 | F4: 26.812
A5: 185 | B5: 95002 | C5: Aidomaggiore | D5: 4120.4936 | E5: 1869.176 | F5: 45.363
A6: 2 | B6: 90002 | C6: Alà dei Sardi | D6: 19798.913 | E6: 10827.071 | F6: 54.685
A7: 186 | B7: 95003 | C7: Albagiara | D7: 888.28325 | E7: 188.487 | F7: 21.219
A8: 187 | B8: 95004 | C8: Ales | D8: 2245.252 | E8: 590.322 | F8: 26.292
A9: 3 | B9: 90003 | C9: Alghero | D9: 22591.339 | E9: 3251.772 | F9: 14.394
A10: 188 | B10: 95005 | C10: Allai | D10: 2736.0319 | E10: 884.863 | F10: 32.341
A11: 4 | B11: 90004 | C11: Anela | D11: 3689.0223 | E11: 2332.1 | F11: 63.217
A12: 189 | B12: 95006 | C12: Arborea | D12: 9483.5308 | E12: 292.019 | F12: 3.079
A13: 271 | B13: 111001 | C13: Arbus | D13: 26943.727 | E13: 2323.951 | F13: 8.625
... A378: 258 | B378: 95075 | C378: Zerfaliu | D378: 1556.0774 | E378: 113.773 | F378: 7.312

Sheet Sicilia
A1: fid | B1: PRO_COM | C1: COMUNE | D1: AREA_COM.(HA) | E1: SUP.FOR.COM.(HA) | F1: IND.BOS.(%)
A2: 359 | B2: 88001 | C2: Acate | D2: 10246.819 | E2: 113.595 | F2: 1.109
A3: 301 | B3: 87001 | C3: Aci Bonaccorsi | D3: 172.42261 | E3: 1.804 | F3: 1.046
A4: 302 | B4: 87002 | C4: Aci Castello | D4: 875.42353 | E4: 13.614 | F4: 1.555
A5: 303 | B5: 87003 | C5: Aci Catena | D5: 850.78237 | E5: 5.964 | F5: 0.701
A6: 305 | B6: 87005 | C6: Aci Sant'Antonio | D6: 1433.338 | E6: 155.379 | F6: 10.84
A7: 304 | B7: 87004 | C7: Acireale | D7: 4045.017 | E7: 171.601 | F7: 4.242
A8: 259 | B8: 85001 | C8: Acquaviva Platani | D8: 1463.3451 | E8: 77.275 | F8: 5.281
A9: 214 | B9: 83107 | C9: Acquedolci | D9: 1296.4054 | E9: 92.899 | F9: 7.166
A10: 306 | B10: 87006 | C10: Adrano | D10: 8322.0856 | E10: 2140.4 | F10: 25.72
A11: 281 | B11: 86001 | C11: Agira | D11: 16408.063 | E11: 997.361 | F11: 6.078
A12: 216 | B12: 84001 | C12: Agrigento | D12: 24356.782 | E12: 819.866 | F12: 3.366
A13: 282 | B13: 86002 | C13: Aidone | D13: 21077.598 | E13: 4103.871 | F13: 19.47
... A392: 355 | B392: 87055 | C392: Zafferana Etnea | D392: 7686.5133 | E392: 1696.612 | F392: 22.073

Sheet Toscana
A1: fid | B1: PRO_COM | C1: COMUNE | D1: AREA_COM.(HA) | E1: SUP.FOR.COM.(HA) | F1: IND.BOS.(%)
A2: 204 | B2: 52001 | C2: Abbadia San Salvatore | D2: 5899.3282 | E2: 4130.579 | F2: 70.018
A3: 69 | B3: 47023 | C3: Abetone Cutigliano | D3: 7499.1789 | E3: 6249.478 | F3: 83.335
A4: 51 | B4: 47002 | C4: Agliana | D4: 1169.5108 | E4: 10.745 | F4: 0.919
A5: 18 | B5: 46001 | C5: Altopascio | D5: 2859.9194 | E5: 146.707 | F5: 5.13
A6: 168 | B6: 51001 | C6: Anghiari | D6: 13091.92 | E6: 7978.156 | F6: 60.94
A7: 239 | B7: 53001 | C7: Arcidosso | D7: 9325.4089 | E7: 5849.641 | F7: 62.728
A8: 169 | B8: 51002 | C8: Arezzo | D8: 38475.385 | E8: 19438.143 | F8: 50.521
A9: 205 | B9: 52002 | C9: Asciano | D9: 21564.365 | E9: 5131.437 | F9: 23.796
A10: 1 | B10: 45001 | C10: Aulla | D10: 5998.7353 | E10: 4099.192 | F10: 68.334
A11: 170 | B11: 51003 | C11: Badia Tedalda | D11: 11871.661 | E11: 9135.71 | F11: 76.954
A12: 19 | B12: 46002 | C12: Bagni di Lucca | D12: 16470.649 | E12: 14820.397 | F12: 89.981
A13: 71 | B13: 48001 | C13: Bagno a Ripoli | D13: 7409.9129 | E13: 2520.694 | F13: 34.018
... A274: 17 | B274: 45017 | C274: Zeri | D274: 7361.8803 | E274: 5896.706 | F274: 80.098

Sheet Trentino-Alto Adige
A1: fid | B1: PRO_COM | C1: COMUNE | D1: AREA_COM.(HA) | E1: SUP.FOR.COM.(HA) | F1: IND.BOS.(%)
A2: 117 | B2: 22001 | C2: Ala | D2: 11985.495 | E2: 8654.931 | F2: 72.212
A3: 118 | B3: 22002 | C3: Albiano | D3: 993.72713 | E3: 731.998 | F3: 73.662
A4: 119 | B4: 22003 | C4: Aldeno | D4: 897.4948 | E4: 361.079 | F4: 40.232
A5: 1 | B5: 21001 | C5: Aldino/Aldein | D5: 6268.8255 | E5: 4665.145 | F5: 74.418
A6: 263 | B6: 22235 | C6: Altavalle | D6: 3354.706 | E6: 3060.964 | F6: 91.244
A7: 264 | B7: 22236 | C7: Altopiano della Vigolana | D7: 4500.2763 | E7: 3636.405 | F7: 80.804
A8: 265 | B8: 22237 | C8: Amblar-Don | D8: 1996.4178 | E8: 1803.551 | F8: 90.339
A9: 120 | B9: 22005 | C9: Andalo | D9: 1137.8273 | E9: 841.708 | F9: 73.975
A10: 2 | B10: 21002 | C10: Andriano/Andrian | D10: 489.12237 | E10: 162.699 | F10: 33.263
A11: 3 | B11: 21003 | C11: Anterivo/Altrei | D11: 1106.4006 | E11: 867.847 | F11: 78.439
A12: 4 | B12: 21004 | C12: Appiano sulla strada del vino/Eppan an der Weinstraße | D12: 5945.0142 | E12: 3163.883 | F12: 53.219
A13: 121 | B13: 22006 | C13: Arco | D13: 6321.7549 | E13: 4337.771 | F13: 68.617
... A283: 255 | B283: 22226 | C283: Ziano di Fiemme | D283: 3574.6558 | E283: 2577.555 | F283: 72.106

Sheet Umbria
A1: fid | B1: PRO_COM | C1: COMUNE | D1: AREA_COM.(HA) | E1: SUP.FOR.COM.(HA) | F1: IND.BOS.(%)
A2: 60 | B2: 55001 | C2: Acquasparta | D2: 8160.5745 | E2: 4262.959 | F2: 52.238
A3: 61 | B3: 55002 | C3: Allerona | D3: 8261.2426 | E3: 5351.008 | F3: 64.772
A4: 62 | B4: 55003 | C4: Alviano | D4: 2389.5225 | E4: 831.17 | F4: 34.784
A5: 63 | B5: 55004 | C5: Amelia | D5: 13249.647 | E5: 6059.66 | F5: 45.735
A6: 64 | B6: 55005 | C6: Arrone | D6: 4103.1979 | E6: 2914.747 | F6: 71.036
A7: 1 | B7: 54001 | C7: Assisi | D7: 18719.539 | E7: 6735.909 | F7: 35.983
A8: 65 | B8: 55006 | C8: Attigliano | D8: 1051.1975 | E8: 164.202 | F8: 15.62
A9: 92 | B9: 55033 | C9: Avigliano Umbro | D9: 5133.8639 | E9: 2287.59 | F9: 44.559
A10: 66 | B10: 55007 | C10: Baschi | D10: 6856.8536 | E10: 3438.087 | F10: 50.141
A11: 2 | B11: 54002 | C11: Bastia Umbra | D11: 2759.8769 | E11: 61.392 | F11: 2.224
A12: 3 | B12: 54003 | C12: Bettona | D12: 4507.4687 | E12: 1718.056 | F12: 38.116
A13: 4 | B13: 54004 | C13: Bevagna | D13: 5622.204 | E13: 1227.442 | F13: 21.832
... A93: 59 | B93: 54059 | C93: Valtopina | D93: 4057.3532 | E93: 2712.069 | F93: 66.843

Sheet Valle D'Aosta
A1: fid | B1: PRO_COM | C1: COMUNE | D1: AREA_COM.(HA) | E1: SUP.FOR.COM.(HA) | F1: IND.BOS.(%)
A2: 1 | B2: 7001 | C2: Allein | D2: 796.39561 | E2: 359.27 | F2: 45.112
A3: 2 | B3: 7002 | C3: Antey-Saint-André | D3: 1181.2584 | E3: 857.766 | F3: 72.615
A4: 3 | B4: 7003 | C4: Aosta | D4: 2139.2225 | E4: 715.52 | F4: 33.448
A5: 4 | B5: 7004 | C5: Arnad | D5: 2884.0498 | E5: 2003.307 | F5: 69.462
A6: 5 | B6: 7005 | C6: Arvier | D6: 3335.9632 | E6: 1766.685 | F6: 52.959
A7: 6 | B7: 7006 | C7: Avise | D7: 5261.6583 | E7: 1724.72 | F7: 32.779
A8: 7 | B8: 7007 | C8: Ayas | D8: 12942.077 | E8: 2506.247 | F8: 19.365
A9: 8 | B9: 7008 | C9: Aymavilles | D9: 5324.3536 | E9: 2493.911 | F9: 46.84
A10: 9 | B10: 7009 | C10: Bard | D10: 303.14516 | E10: 186.731 | F10: 61.598
A11: 10 | B11: 7010 | C11: Bionaz | D11: 14209.042 | E11: 1644.8 | F11: 11.576
A12: 11 | B12: 7011 | C12: Brissogne | D12: 2554.3632 | E12: 969.882 | F12: 37.97
A13: 12 | B13: 7012 | C13: Brusson | D13: 5525.6907 | E13: 2560.472 | F13: 46.338
... A75: 74 | B75: 7074 | C75: Villeneuve | D75: 879.79458 | E75: 533.382 | F75: 60.626

Sheet Veneto
A1: fid | B1: PRO_COM | C1: COMUNE | D1: AREA_COM.(HA) | E1: SUP.FOR.COM.(HA) | F1: IND.BOS.(%)
A2: 410 | B2: 28001 | C2: Abano Terme | D2: 2140.8102 | E2: 26.069 | F2: 1.218
A3: 511 | B3: 29001 | C3: Adria | D3: 11338.846 | E3: 21.753 | F3: 0.192
A4: 1 | B4: 23001 | C4: Affi | D4: 988.13797 | E4: 228.373 | F4: 23.111
A5: 411 | B5: 28002 | C5: Agna | D5: 1880.4131 | E5: 0 | F5: 0
A6: 212 | B6: 25001 | C6: Agordo | D6: 2374.2463 | E6: 1605.291 | F6: 67.613
A7: 99 | B7: 24001 | C7: Agugliaro | D7: 1469.5544 | E7: 0 | F7: 0
A8: 2 | B8: 23002 | C8: Albaredo d'Adige | D8: 2825.3252 | E8: 51.9 | F8: 1.837
A9: 100 | B9: 24002 | C9: Albettone | D9: 2021.075 | E9: 117.356 | F9: 5.807
A10: 412 | B10: 28003 | C10: Albignasego | D10: 2115.5223 | E10: 0 | F10: 0
A11: 213 | B11: 25003 | C11: Alleghe | D11: 2971.4444 | E11: 1973.994 | F11: 66.432
A12: 101 | B12: 24003 | C12: Alonte | D12: 1114.233 | E12: 199.307 | F12: 17.887
A13: 268 | B13: 25072 | C13: Alpago | D13: 8034.0486 | E13: 4546.087 | F13: 56.585
... A561: 205 | B561: 24122 | C561: Zugliano | D561: 1372.9958 | E561: 182.479 | F561: 13.291
